Workbook

Sheet はじめにお読み下さい
B4: ・本ファイルを動作させるためには「ソルバー」機能が必要です。
B21: ・エクセル画面の「データ」をクリックし、「分析」の欄に「ソルバー」と表示されていれば、ソルバー機能を使用できます。
B22: ・「ソルバー」が表示されなければ、以下の手順で、ソルバー機能を追加します。
B26: 1) 《ファイル》タブの「オプション」をクリックして「Excelのオプション」ウィンドウを表示させる
C27: エクセルのバージョンによって表示画面が異なりますが、「Excelのオプション」が表示されます。
B55: 2) 「アドイン」をクリックして、アドインの表示と管理の画面に切り替える
B84: 3)「Excelアドイン」が選ばれていることを確認後、「設定」をクリック
B112: 4) 「ソルバーアドイン」にチェックをつけて、「OK」をクリック
B136: 《データ》タブの「分析」グループに「ソルバー」が表示され「ソルバー」の機能が使用可能になる

Sheet 使い方
B2: Bポイント、林分緊密度の算出とY-N曲線を作図するための手順
B4: 【入力・計算】
C6: 「入力・計算画面」のワークシートを開きます。
B8: １．森林の種類を選択
B9: ２．調査を行った標準地の面積を入力
B10: ３．データ入力
B11: ・必要な情報：単木ごとの胸高直径と幹材積（必須）
C12: 【単材積の大きいものから順番にデータを入力（積算材積（Y）－積算本数（N)曲線を作成するため）】
C13: ＊樹種名と樹高の情報がなくても計算できます。
B38: ４．ソルバー機能を使って調査林分のBポイントを算出
B39: 【ソルバー機能を用いて調査林分のY-N曲線（右のような図）に対応する逆数式（定数AとB）を決定するための準備をします】
B40: 4-1 | C40: 「A」の隣のセル（E2)に0.001～0.01の範囲の数値を任意に入力します（例、0.005など）
B41: 4-2 | C41: 「B」の隣のセル（E3)に1～2の範囲の数値を任意に入力します（例、1.5など）
B42: 4-3 | C42: 「データ」画面の「ソルバー」をクリック
B67: 4-4 | C67: 「ソルバー：パラメータ設定」画面の「実行」をクリック
B85: 4-5 | C85: 「ソルバー：探索結果」画面の「解を記入する」にチェックを入れ、「OK」をクリック
C86: ・逆数式の定数（A、B）が算出されると同時に、計算された出力結果（Bポイント座標）が表示されます.
C87: ・林分緊密度（α：アルファ）も表示されます。
C88: αは林分の混み合いの程度を示す指標で収量比数（Ry)と意味は同じ。
C89: αは0～1の値をとり、数値が大きいほど混んでいる状態。
D90: 密： | E90: α>0.8
D91: 中庸： | E91: α=0.6～0.8
D92: 疎： | E92: α<0.6
B133: 【作図】
C134: ・「作図」のワークシートを開きます。
C135: ・図が作成されていますが、データの入力範囲（終点）までを手動で指定し、図を作成して下さい。
C184: ・留意点
C185: ・データの終点までを手動で指定し、図を作成して下さい。

Sheet 入力・計算画面
B1: 森林の種類 | D1: 逆数式の定数 | I1: 出力結果（Bポイント座標） | L1: Bポイントの定数（Y=aN^-h）
B2: ウダイカンバ | D2: A | E2: 0.0030066718 | F2: ←0.001～0.01の値を初期値として入力 | I2: Nb（本数） | J2: =E3/E2 -> 302.51924 | L2: a | M2: =VLOOKUP($B$2,付表!$A$3:$C$5,2) -> 5062
D3: B | E3: 0.90957606 | F3: ←1～2の間の数値を初期値として入力 | I3: Yb（材積） | J3: =1/(2*E2) -> 166.29683 | L3: h | M3: =VLOOKUP($B$2,付表!$A$3:$C$5,3) -> 0.5807
B4: 調査面積 | I4: 林分緊密度（α） | J4: =($E$2^(-1))*($E$3^($M$3/(1+$M$3))*((2*$M$2)^(-1/(1+$M$3)))) -> 0.93946873
B5: 0.2 | C5: ha | I5: 残差平方和
I6: =SUM($I$8:$I$507) -> 2478.2619
A7: No | B7: 樹種 | C7: DBH (cm) | D7: 樹高(m) | E7: 単材積(m3) | F7: 積算本数（本/ha） | G7: 積算材積(m3/ha） | H7: 予測値（逆数式） | I7: 残差
A8: 1 | B8: ｳﾀﾞｲｶﾝﾊﾞ | C8: 39.4 | D8: 19.5 | E8: 1.1963867 | F8: =IF(C8<0.01," ",1*(1/$B$5)) -> 5 | G8: =IF(C8<0.01," ",E8*(1/$B$5)) -> 5.9819334 | H8: =IF(C8<0.01," ",F8/($E$3+$E$2*F8)) -> 5.4076888 | I8: =IF(C8<0.01," ",(G8-H8)^2) -> 0.32975681
A9: 2 | B9: ﾐｽﾞﾅﾗ | C9: 37.5 | D9: 19.6 | E9: 1.0668855 | F9: =IF(C9<0.01," ",F8+(1/$B$5)) -> 10 | G9: =IF(C9<0.01," ",G8+(E9*(1/$B$5))) -> 11.316361 | H9: =IF(C9<0.01," ",F9/($E$3+$E$2*F9)) -> 10.642342 | I9: =IF(C9<0.01," ",(G9-H9)^2) -> 0.45430142
A10: 3 | B10: ﾐｽﾞﾅﾗ | C10: 35.5 | D10: 26.2 | E10: 0.93875787 | F10: =IF(C10<0.01," ",F9+(1/$B$5)) -> 15 | G10: =IF(C10<0.01," ",G9+(E10*(1/$B$5))) -> 16.01015 | H10: =IF(C10<0.01," ",F10/($E$3+$E$2*F10)) -> 15.712135 | I10: =IF(C10<0.01," ",(G10-H10)^2) -> 0.088813401
A11: 4 | B11: ｳﾀﾞｲｶﾝﾊﾞ | C11: 35.2 | D11: 19.5 | E11: 0.92026834 | F11: =IF(C11<0.01," ",F10+(1/$B$5)) -> 20 | G11: =IF(C11<0.01," ",G10+(E11*(1/$B$5))) -> 20.611492 | H11: =IF(C11<0.01," ",F11/($E$3+$E$2*F11)) -> 20.624734 | I11: =IF(C11<0.01," ",(G11-H11)^2) -> 0.00017533651
A12: 5 | B12: ﾊﾘｷﾞﾘ | C12: 35.1 | D12: 17.6 | E12: 0.91414761 | F12: =IF(C12<0.01," ",F11+(1/$B$5)) -> 25 | G12: =IF(C12<0.01," ",G11+(E12*(1/$B$5))) -> 25.18223 | H12: =IF(C12<0.01," ",F12/($E$3+$E$2*F12)) -> 25.387338 | I12: =IF(C12<0.01," ",(G12-H12)^2) -> 0.042069353
A13: 6 | B13: ﾐｽﾞﾅﾗ | C13: 34.4 | D13: 23.9 | E13: 0.87189761 | F13: =IF(C13<0.01," ",F12+(1/$B$5)) -> 30 | G13: =IF(C13<0.01," ",G12+(E13*(1/$B$5))) -> 29.541718 | H13: =IF(C13<0.01," ",F13/($E$3+$E$2*F13)) -> 30.006715 | I13: =IF(C13<0.01," ",(G13-H13)^2) -> 0.21622209
A14: 7 | B14: ﾐｽﾞﾅﾗ | C14: 34.4 | D14: 18.8 | E14: 0.87189761 | F14: =IF(C14<0.01," ",F13+(1/$B$5)) -> 35 | G14: =IF(C14<0.01," ",G13+(E14*(1/$B$5))) -> 33.901206 | H14: =IF(C14<0.01," ",F14/($E$3+$E$2*F14)) -> 34.489229 | I14: =IF(C14<0.01," ",(G14-H14)^2) -> 0.34577102
A15: 8 | B15: ﾐｽﾞﾅﾗ | C15: 34.1 | D15: 20.7 | E15: 0.85410971 | F15: =IF(C15<0.01," ",F14+(1/$B$5)) -> 40 | G15: =IF(C15<0.01," ",G14+(E15*(1/$B$5))) -> 38.171755 | H15: =IF(C15<0.01," ",F15/($E$3+$E$2*F15)) -> 38.840874 | I15: =IF(C15<0.01," ",(G15-H15)^2) -> 0.44772106
A16: 9 | B16: ｳﾀﾞｲｶﾝﾊﾞ | C16: 33.8 | D16: 18.1 | E16: 0.83651364 | F16: =IF(C16<0.01," ",F15+(1/$B$5)) -> 45 | G16: =IF(C16<0.01," ",G15+(E16*(1/$B$5))) -> 42.354323 | H16: =IF(C16<0.01," ",F16/($E$3+$E$2*F16)) -> 43.067299 | I16: =IF(C16<0.01," ",(G16-H16)^2) -> 0.50833527
A17: 10 | B17: ﾐｽﾞﾅﾗ | C17: 33.8 | D17: 24.3 | E17: 0.83651364 | F17: =IF(C17<0.01," ",F16+(1/$B$5)) -> 50 | G17: =IF(C17<0.01," ",G16+(E17*(1/$B$5))) -> 46.536891 | H17: =IF(C17<0.01," ",F17/($E$3+$E$2*F17)) -> 47.173832 | I17: =IF(C17<0.01," ",(G17-H17)^2) -> 0.40569389
A18: 11 | B18: ｳﾀﾞｲｶﾝﾊﾞ | C18: 33.3 | D18: 19.6 | E18: 0.80761363 | F18: =IF(C18<0.01," ",F17+(1/$B$5)) -> 55 | G18: =IF(C18<0.01," ",G17+(E18*(1/$B$5))) -> 50.574959 | H18: =IF(C18<0.01," ",F18/($E$3+$E$2*F18)) -> 51.165503 | I18: =IF(C18<0.01," ",(G18-H18)^2) -> 0.3487421
A19: 12 | B19: ｳﾀﾞｲｶﾝﾊﾞ | C19: 32.2 | D19: 19.1 | E19: 0.74591472 | F19: =IF(C19<0.01," ",F18+(1/$B$5)) -> 60 | G19: =IF(C19<0.01," ",G18+(E19*(1/$B$5))) -> 54.304533 | H19: =IF(C19<0.01," ",F19/($E$3+$E$2*F19)) -> 55.047065 | I19: =IF(C19<0.01," ",(G19-H19)^2) -> 0.55135393
A20: 13 | B20: ｳﾀﾞｲｶﾝﾊﾞ | C20: 32.1 | D20: 22.3 | E20: 0.74043416 | F20: =IF(C20<0.01," ",F19+(1/$B$5)) -> 65 | G20: =IF(C20<0.01," ",G19+(E20*(1/$B$5))) -> 58.006704 | H20: =IF(C20<0.01," ",F20/($E$3+$E$2*F20)) -> 58.823012 | I20: =IF(C20<0.01," ",(G20-H20)^2) -> 0.66635861
... A37: 30 | B37: ｳﾀﾞｲｶﾝﾊﾞ | C37: 26.2 | D37: 16.8 | E37: 0.45504973 | F37: =IF(C37<0.01," ",F36+(1/$B$5)) -> 150 | G37: =IF(C37<0.01," ",G36+(E37*(1/$B$5))) -> 107.14808 | H37: =IF(C37<0.01," ",F37/($E$3+$E$2*F37)) -> 110.24736 | I37: =IF(C37<0.01," ",(G37-H37)^2) -> 9.6055123
A38: 31 | B38: ｳﾀﾞｲｶﾝﾊﾞ | C38: 26.1 | E38: 0.45085544 | F38: =IF(C38<0.01," ",F37+(1/$B$5)) -> 155 | G38: =IF(C38<0.01," ",G37+(E38*(1/$B$5))) -> 109.40236 | H38: =IF(C38<0.01," ",F38/($E$3+$E$2*F38)) -> 112.67727 | I38: =IF(C38<0.01," ",(G38-H38)^2) -> 10.725042
A39: 32 | B39: ｳﾀﾞｲｶﾝﾊﾞ | C39: 25.6 | D39: 17.8 | E39: 0.4302039 | F39: =IF(C39<0.01," ",F38+(1/$B$5)) -> 160 | G39: =IF(C39<0.01," ",G38+(E39*(1/$B$5))) -> 111.55338 | H39: =IF(C39<0.01," ",F39/($E$3+$E$2*F39)) -> 115.05465 | I39: =IF(C39<0.01," ",(G39-H39)^2) -> 12.258872
A40: 33 | B40: ｳﾀﾞｲｶﾝﾊﾞ | C40: 25.5 | D40: 16.6 | E40: 0.42613752 | F40: =IF(C40<0.01," ",F39+(1/$B$5)) -> 165 | G40: =IF(C40<0.01," ",G39+(E40*(1/$B$5))) -> 113.68407 | H40: =IF(C40<0.01," ",F40/($E$3+$E$2*F40)) -> 117.38117 | I40: =IF(C40<0.01," ",(G40-H40)^2) -> 13.668581
A41: 34 | B41: ｳﾀﾞｲｶﾝﾊﾞ | C41: 25.2 | D41: 12.9 | E41: 0.41406605 | F41: =IF(C41<0.01," ",F40+(1/$B$5)) -> 170 | G41: =IF(C41<0.01," ",G40+(E41*(1/$B$5))) -> 115.7544 | H41: =IF(C41<0.01," ",F41/($E$3+$E$2*F41)) -> 119.65846 | I41: =IF(C41<0.01," ",(G41-H41)^2) -> 15.241703
A42: 35 | B42: ｳﾀﾞｲｶﾝﾊﾞ | C42: 25.2 | D42: 14.2 | E42: 0.41406605 | F42: =IF(C42<0.01," ",F41+(1/$B$5)) -> 175 | G42: =IF(C42<0.01," ",G41+(E42*(1/$B$5))) -> 117.82473 | H42: =IF(C42<0.01," ",F42/($E$3+$E$2*F42)) -> 121.88806 | I42: =IF(C42<0.01," ",(G42-H42)^2) -> 16.510653
A43: 36 | B43: ﾐｽﾞﾅﾗ | C43: 25.1 | D43: 19.1 | E43: 0.41008476 | F43: =IF(C43<0.01," ",F42+(1/$B$5)) -> 180 | G43: =IF(C43<0.01," ",G42+(E43*(1/$B$5))) -> 119.87515 | H43: =IF(C43<0.01," ",F43/($E$3+$E$2*F43)) -> 124.07145 | I43: =IF(C43<0.01," ",(G43-H43)^2) -> 17.608911
A44: 37 | B44: ｳﾀﾞｲｶﾝﾊﾞ | C44: 25 | D44: 15.7 | E44: 0.40612472 | F44: =IF(C44<0.01," ",F43+(1/$B$5)) -> 185 | G44: =IF(C44<0.01," ",G43+(E44*(1/$B$5))) -> 121.90577 | H44: =IF(C44<0.01," ",F44/($E$3+$E$2*F44)) -> 126.21005 | I44: =IF(C44<0.01," ",(G44-H44)^2) -> 18.526815
A45: 38 | B45: ﾐｽﾞﾅﾗ | C45: 25 | D45: 14.4 | E45: 0.40612472 | F45: =IF(C45<0.01," ",F44+(1/$B$5)) -> 190 | G45: =IF(C45<0.01," ",G44+(E45*(1/$B$5))) -> 123.9364 | H45: =IF(C45<0.01," ",F45/($E$3+$E$2*F45)) -> 128.30524 | I45: =IF(C45<0.01," ",(G45-H45)^2) -> 19.086749
A46: 39 | B46: ﾐｽﾞﾅﾗ | C46: 25 | D46: 18.2 | E46: 0.40612472 | F46: =IF(C46<0.01," ",F45+(1/$B$5)) -> 195 | G46: =IF(C46<0.01," ",G45+(E46*(1/$B$5))) -> 125.96702 | H46: =IF(C46<0.01," ",F46/($E$3+$E$2*F46)) -> 130.35831 | I46: =IF(C46<0.01," ",(G46-H46)^2) -> 19.283388
A47: 40 | B47: ｳﾀﾞｲｶﾝﾊﾞ | C47: 25 | D47: 24.5 | E47: 0.40612472 | F47: =IF(C47<0.01," ",F46+(1/$B$5)) -> 200 | G47: =IF(C47<0.01," ",G46+(E47*(1/$B$5))) -> 127.99764 | H47: =IF(C47<0.01," ",F47/($E$3+$E$2*F47)) -> 132.37052 | I47: =IF(C47<0.01," ",(G47-H47)^2) -> 19.122053
A48: 41 | B48: ｳﾀﾞｲｶﾝﾊﾞ | C48: 25 | D48: 18.5 | E48: 0.40612472 | F48: =IF(C48<0.01," ",F47+(1/$B$5)) -> 205 | G48: =IF(C48<0.01," ",G47+(E48*(1/$B$5))) -> 130.02827 | H48: =IF(C48<0.01," ",F48/($E$3+$E$2*F48)) -> 134.34309 | I48: =IF(C48<0.01," ",(G48-H48)^2) -> 18.617675
A49: 42 | B49: ｳﾀﾞｲｶﾝﾊﾞ | C49: 24.9 | D49: 18.6 | E49: 0.40218592 | F49: =IF(C49<0.01," ",F48+(1/$B$5)) -> 210 | G49: =IF(C49<0.01," ",G48+(E49*(1/$B$5))) -> 132.0392 | H49: =IF(C49<0.01," ",F49/($E$3+$E$2*F49)) -> 136.27717 | I49: =IF(C49<0.01," ",(G49-H49)^2) -> 17.960392
A50: 43 | B50: ｳﾀﾞｲｶﾝﾊﾞ | C50: 24.7 | D50: 18 | E50: 0.394372 | F50: =IF(C50<0.01," ",F49+(1/$B$5)) -> 215 | G50: =IF(C50<0.01," ",G49+(E50*(1/$B$5))) -> 134.01106 | H50: =IF(C50<0.01," ",F50/($E$3+$E$2*F50)) -> 138.17387 | I50: =IF(C50<0.01," ",(G50-H50)^2) -> 17.329049
... A78: 71 | B78: ﾎｵﾉｷ | C78: 21.1 | D78: 13.7 | E78: 0.26812771 | F78: =IF(C78<0.01," ",F77+(1/$B$5)) -> 355 | G78: =IF(C78<0.01," ",G77+(E78*(1/$B$5))) -> 180.38194 | H78: =IF(C78<0.01," ",F78/($E$3+$E$2*F78)) -> 179.57003 | I78: =IF(C78<0.01," ",(G78-H78)^2) -> 0.65919023
A79: 72 | B79: ｳﾀﾞｲｶﾝﾊﾞ | C79: 20.7 | E79: 0.25576813 | F79: =IF(C79<0.01," ",F78+(1/$B$5)) -> 360 | G79: =IF(C79<0.01," ",G78+(E79*(1/$B$5))) -> 181.66078 | H79: =IF(C79<0.01," ",F79/($E$3+$E$2*F79)) -> 180.7249 | I79: =IF(C79<0.01," ",(G79-H79)^2) -> 0.8758792
A80: 73 | B80: ｳﾀﾞｲｶﾝﾊﾞ | C80: 20.7 | D80: 17.7 | E80: 0.25576813 | F80: =IF(C80<0.01," ",F79+(1/$B$5)) -> 365 | G80: =IF(C80<0.01," ",G79+(E80*(1/$B$5))) -> 182.93962 | H80: =IF(C80<0.01," ",F80/($E$3+$E$2*F80)) -> 181.86246 | I80: =IF(C80<0.01," ",(G80-H80)^2) -> 1.160282
A81: 74 | B81: ﾎｵﾉｷ | C81: 20.6 | D81: 14.9 | E81: 0.25272972 | F81: =IF(C81<0.01," ",F80+(1/$B$5)) -> 370 | G81: =IF(C81<0.01," ",G80+(E81*(1/$B$5))) -> 184.20327 | H81: =IF(C81<0.01," ",F81/($E$3+$E$2*F81)) -> 182.9831 | I81: =IF(C81<0.01," ",(G81-H81)^2) -> 1.488806
A82: 75 | B82: ｳﾀﾞｲｶﾝﾊﾞ | C82: 20.5 | D82: 18.2 | E82: 0.24971186 | F82: =IF(C82<0.01," ",F81+(1/$B$5)) -> 375 | G82: =IF(C82<0.01," ",G81+(E82*(1/$B$5))) -> 185.45183 | H82: =IF(C82<0.01," ",F82/($E$3+$E$2*F82)) -> 184.08721 | I82: =IF(C82<0.01," ",(G82-H82)^2) -> 1.8621878
A83: 76 | B83: ｳﾀﾞｲｶﾝﾊﾞ | C83: 20.5 | D83: 14.4 | E83: 0.24971186 | F83: =IF(C83<0.01," ",F82+(1/$B$5)) -> 380 | G83: =IF(C83<0.01," ",G82+(E83*(1/$B$5))) -> 186.70039 | H83: =IF(C83<0.01," ",F83/($E$3+$E$2*F83)) -> 185.17514 | I83: =IF(C83<0.01," ",(G83-H83)^2) -> 2.3263893
...

Sheet 作図
B1: No | C1: Nb（本数）or 積算本数（本/ha) | D1: Y-N曲線
A4: =入力・計算画面!B2 -> ウダイカンバ | B4: No | C4: 積算本数 （N、本/ha） | D4: 積算材積 （Y、m3/ha） | E4: Bポイント座標 | H4: α=1（Bポイント線） | J4: α=0.9 | L4: α=0.8 | N4: α=0.7 | P4: α=0.6 | R4: α=0.5 | T4: α=0.4 | V4: α=0.3
B5: 1 | C5: =IF(入力・計算画面!$C8<0.001," ",入力・計算画面!F8) -> 5 | D5: =IF(C5<1," ",入力・計算画面!G8) -> 5.9819334 | E5: =入力・計算画面!$J$2 -> 302.51924 | F5: =入力・計算画面!$J$3 -> 166.29683 | G5: 1 | H5: =IF($A$4="ウダイカンバ",付表!F7,付表!F20) -> 5062 | I5: 1 | J5: =IF($A$4="ウダイカンバ",付表!G7,付表!G20) -> 4285.4188 | K5: 1 | L5: =IF($A$4="ウダイカンバ",付表!H7,付表!H20) -> 3557.431 | M5: 1 | N5: =IF($A$4="ウダイカンバ",付表!I7,付表!I20) -> 2880.5049 | O5: 1 | P5: =IF($A$4="ウダイカンバ",付表!J7,付表!J20) -> 2257.5939 | Q5: 1 | R5: =IF($A$4="ウダイカンバ",付表!K7,付表!K20) -> 1692.326 | S5: 1 | T5: =IF($A$4="ウダイカンバ",付表!L7,付表!L20) -> 1189.319 | U5: 1 | V5: =IF($A$4="ウダイカンバ",付表!M7,付表!M20) -> 754.75797
B6: 2 | C6: =IF(入力・計算画面!$C9<0.001," ",入力・計算画面!F9) -> 10 | D6: =IF(C6<1," ",入力・計算画面!G9) -> 11.316361 | G6: 10000 | H6: =IF($A$4="ウダイカンバ",付表!F8,付表!F21) -> 24.072552 | I6: 10000 | J6: =IF($A$4="ウダイカンバ",付表!G8,付表!G21) -> 20.379488 | K6: 10000 | L6: =IF($A$4="ウダイカンバ",付表!H8,付表!H21) -> 16.917512 | M6: 10000 | N6: =IF($A$4="ウダイカンバ",付表!I8,付表!I21) -> 13.698361 | O6: 10000 | P6: =IF($A$4="ウダイカンバ",付表!J8,付表!J21) -> 10.736082 | Q6: 10000 | R6: =IF($A$4="ウダイカンバ",付表!K8,付表!K21) -> 8.047927 | S6: 10000 | T6: =IF($A$4="ウダイカンバ",付表!L8,付表!L21) -> 5.6558563 | U6: 10000 | V6: =IF($A$4="ウダイカンバ",付表!M8,付表!M21) -> 3.5892831
B7: 3 | C7: =IF(入力・計算画面!$C10<0.001," ",入力・計算画面!F10) -> 15 | D7: =IF(C7<1," ",入力・計算画面!G10) -> 16.01015
B8: 4 | C8: =IF(入力・計算画面!$C11<0.001," ",入力・計算画面!F11) -> 20 | D8: =IF(C8<1," ",入力・計算画面!G11) -> 20.611492
B9: 5 | C9: =IF(入力・計算画面!$C12<0.001," ",入力・計算画面!F12) -> 25 | D9: =IF(C9<1," ",入力・計算画面!G12) -> 25.18223
B10: 6 | C10: =IF(入力・計算画面!$C13<0.001," ",入力・計算画面!F13) -> 30 | D10: =IF(C10<1," ",入力・計算画面!G13) -> 29.541718
B11: 7 | C11: =IF(入力・計算画面!$C14<0.001," ",入力・計算画面!F14) -> 35 | D11: =IF(C11<1," ",入力・計算画面!G14) -> 33.901206
B12: 8 | C12: =IF(入力・計算画面!$C15<0.001," ",入力・計算画面!F15) -> 40 | D12: =IF(C12<1," ",入力・計算画面!G15) -> 38.171755
B13: 9 | C13: =IF(入力・計算画面!$C16<0.001," ",入力・計算画面!F16) -> 45 | D13: =IF(C13<1," ",入力・計算画面!G16) -> 42.354323
B14: 10 | C14: =IF(入力・計算画面!$C17<0.001," ",入力・計算画面!F17) -> 50 | D14: =IF(C14<1," ",入力・計算画面!G17) -> 46.536891
B15: 11 | C15: =IF(入力・計算画面!$C18<0.001," ",入力・計算画面!F18) -> 55 | D15: =IF(C15<1," ",入力・計算画面!G18) -> 50.574959
B16: 12 | C16: =IF(入力・計算画面!$C19<0.001," ",入力・計算画面!F19) -> 60 | D16: =IF(C16<1," ",入力・計算画面!G19) -> 54.304533
B17: 13 | C17: =IF(入力・計算画面!$C20<0.001," ",入力・計算画面!F20) -> 65 | D17: =IF(C17<1," ",入力・計算画面!G20) -> 58.006704
B18: 14 | C18: =IF(入力・計算画面!$C21<0.001," ",入力・計算画面!F21) -> 70 | D18: =IF(C18<1," ",入力・計算画面!G21) -> 61.65439
... B504: 500 | C504: =IF(入力・計算画面!$C507<0.001," ",入力・計算画面!F507) | D504: =IF(C504<1," ",入力・計算画面!G507)

Sheet 付表
A1: Y=aN^-h | E1: ウダイカンバ林における林分緊密度α別の座標
A2: 林種 | B2: a | C2: h | E2: Bポイント線の式：Yb=aNb^h
A3: ウダイカンバ | B3: 5062 | C3: 0.5807 | E3: a= | F3: 5062
A4: その他広葉樹林 | B4: 15900 | C4: 0.839 | E4: h= | F4: -0.5807
E5: α | F5: 1 | G5: 0.9 | H5: 0.8 | I5: 0.7 | J5: 0.6 | K5: 0.5 | L5: 0.4 | M5: 0.3
E6: N | F6: Y（α＝１） | G6: Y（α＝0.9） | H6: Y（α＝0.8） | I6: Y（α＝0.7） | J6: Y(α＝0.6) | K6: Y(α＝0.5) | L6: Y(α＝0.4) | M6: Y(α＝0.3)
E7: 1 | F7: =$F$3*($E7^$F$4) -> 5062 | G7: =(G$5^(1-$F$4))*$F$3 -> 4285.4188 | H7: =(H$5^(1-$F$4))*$F$3 -> 3557.431 | I7: =(I$5^(1-$F$4))*$F$3 -> 2880.5049 | J7: =(J$5^(1-$F$4))*$F$3 -> 2257.5939 | K7: =(K$5^(1-$F$4))*$F$3 -> 1692.326 | L7: =(L$5^(1-$F$4))*$F$3 -> 1189.319 | M7: =(M$5^(1-$F$4))*$F$3 -> 754.75797
E8: 10000 | F8: =$F$3*($E8^($F$4)) -> 24.072552 | G8: =G$7*$E$8^($F$4) -> 20.379488 | H8: =H$7*$E$8^($F$4) -> 16.917512 | I8: =I$7*$E$8^($F$4) -> 13.698361 | J8: =J$7*$E$8^($F$4) -> 10.736082 | K8: =K$7*$E$8^($F$4) -> 8.047927 | L8: =L$7*$E$8^($F$4) -> 5.6558563 | M8: =M$7*$E$8^($F$4) -> 3.5892831
E14: ミズナラ林（その他広葉樹）における林分緊密度α別の座標
E15: Bポイント線の式：Yb=aNb^h
E16: a= | F16: 15900
E17: h= | F17: -0.839
E18: α | F18: 1 | G18: 0.9 | H18: 0.8 | I18: 0.7 | J18: 0.6 | K18: 0.5 | L18: 0.4 | M18: 0.3
E19: N | F19: Y（α＝１） | G19: Y（α＝0.9） | H19: Y（α＝0.8） | I19: Y（α＝0.7） | J19: Y(α＝0.6) | K19: Y(α＝0.5) | L19: Y(α＝0.4) | M19: Y(α＝0.3)
E20: 1 | F20: =$F$16*($E20^$F$17) -> 15900 | G20: =(G$18^(1-$F$17))*$F$16 -> 13099.33 | H20: =(H$18^(1-$F$17))*$F$16 -> 10548.23 | I20: =(I$18^(1-$F$17))*$F$16 -> 8251.4908 | J20: =(J$18^(1-$F$17))*$F$16 -> 6214.6586 | K20: =(K$18^(1-$F$17))*$F$16 -> 4444.2959 | L20: =(L$18^(1-$F$17))*$F$16 -> 2948.3935 | M20: =(M$18^(1-$F$17))*$F$16 -> 1737.0932
E21: 10000 | F21: =$F$16*($E21^$F$17) -> 7.0048223 | G21: =G$20*$E$21^($F$17) -> 5.7709738 | H21: =H$20*$E$21^($F$17) -> 4.6470742 | I21: =I$20*$E$21^($F$17) -> 3.6352344 | J21: =J$20*$E$21^($F$17) -> 2.7378981 | K21: =K$20*$E$21^($F$17) -> 1.9579562 | L21: =L$20*$E$21^($F$17) -> 1.2989291 | M21: =M$20*$E$21^($F$17) -> 0.76528484
