Workbook

Sheet はじめにお読み下さい
B4: ・本ファイルを動作させるためには「ソルバー」機能が必要です。
B21: ・エクセル画面の「データ」をクリックし、「分析」の欄に「ソルバー」と表示されていれば、ソルバー機能を使用できます。
B22: ・「ソルバー」が表示されなければ、以下の手順で、ソルバー機能を追加します。
B26: 1) 《ファイル》タブの「オプション」をクリックして「Excelのオプション」ウィンドウを表示させる
C27: エクセルのバージョンによって表示画面が異なりますが、「Excelのオプション」が表示されます。
B55: 2) 「アドイン」をクリックして、アドインの表示と管理の画面に切り替える
B84: 3)「Excelアドイン」が選ばれていることを確認後、「設定」をクリック
B112: 4) 「ソルバーアドイン」にチェックをつけて、「OK」をクリック
B136: 《データ》タブの「分析」グループに「ソルバー」が表示され「ソルバー」の機能が使用可能になる

Sheet 使い方
B2: Bポイント、林分緊密度の算出とY-N曲線を作図するための手順
B4: 【入力・計算】
C6: 「入力・計算画面」のワークシートを開きます。
B8: １．森林の種類を選択
B9: ２．調査を行った標準地の面積を入力
B10: ３．データ入力
B11: ・必要な情報：単木ごとの胸高直径と幹材積（必須）
C12: 【単材積の大きいものから順番にデータを入力（積算材積（Y）－積算本数（N)曲線を作成するため）】
C13: ＊樹種名と樹高の情報がなくても計算できます。
B38: ４．ソルバー機能を使って調査林分のBポイントを算出
B39: 【ソルバー機能を用いて調査林分のY-N曲線（右のような図）に対応する逆数式（定数AとB）を決定するための準備をします】
B40: 4-1 | C40: 「A」の隣のセル（E2)に0.001～0.01の範囲の数値を任意に入力します（例、0.005など）
B41: 4-2 | C41: 「B」の隣のセル（E3)に1～2の範囲の数値を任意に入力します（例、1.5など）
B42: 4-3 | C42: 「データ」画面の「ソルバー」をクリック
B67: 4-4 | C67: 「ソルバー：パラメータ設定」画面の「実行」をクリック
B85: 4-5 | C85: 「ソルバー：探索結果」画面の「解を記入する」にチェックを入れ、「OK」をクリック
C86: ・逆数式の定数（A、B）が算出されると同時に、計算された出力結果（Bポイント座標）が表示されます.
C87: ・林分緊密度（α：アルファ）も表示されます。
C88: αは林分の混み合いの程度を示す指標で収量比数（Ry)と意味は同じ。
C89: αは0～1の値をとり、数値が大きいほど混んでいる状態。
D90: 密： | E90: α>0.8
D91: 中庸： | E91: α=0.6～0.8
D92: 疎： | E92: α<0.6
B133: 【作図】
C134: ・「作図」のワークシートを開きます。
C135: ・図が作成されていますが、データの入力範囲（終点）までを手動で指定し、図を作成して下さい。
C184: ・留意点
C185: ・データの終点までを手動で指定し、図を作成して下さい。

Sheet 入力・計算画面
B1: 森林の種類 | D1: 逆数式の定数 | I1: 出力結果（Bポイント座標） | L1: Bポイントの定数（Y=aN^-h）
B2: ウダイカンバ | D2: A | E2: 0.0030066718 | F2: ←0.001～0.01の値を初期値として入力 | I2: Nb（本数） | J2: =E3/E2 -> 302.51924 | L2: a | M2: =VLOOKUP($B$2,付表!$A$3:$C$5,2) -> 5062
D3: B | E3: 0.90957606 | F3: ←1～2の間の数値を初期値として入力 | I3: Yb（材積） | J3: =1/(2*E2) -> 166.29683 | L3: h | M3: =VLOOKUP($B$2,付表!$A$3:$C$5,3) -> 0.5807
B4: 調査面積 | I4: 林分緊密度（α） | J4: =($E$2^(-1))*($E$3^($M$3/(1+$M$3))*((2*$M$2)^(-1/(1+$M$3)))) -> 0.93946873
B5: 0.2 | C5: ha | I5: 残差平方和
I6: =SUM($I$8:$I$507) -> 2478.2619
A7: No | B7: 樹種 | C7: DBH (cm) | D7: 樹高(m) | E7: 単材積(m3) | F7: 積算本数（本/ha） | G7: 積算材積(m3/ha） | H7: 予測値（逆数式） | I7: 残差
A8: 1 | B8: ｳﾀﾞｲｶﾝﾊﾞ | C8: 39.4 | D8: 19.5 | E8: 1.1963867 | F8: =IF(C8<0.01," ",1*(1/$B$5)) -> 5 | G8: =IF(C8<0.01," ",E8*(1/$B$5)) -> 5.9819334 | H8: =IF(C8<0.01," ",F8/($E$3+$E$2*F8)) -> 5.4076888 | I8: =IF(C8<0.01," ",(G8-H8)^2) -> 0.32975681
A9: 2 | B9: ﾐｽﾞﾅﾗ | C9: 37.5 | D9: 19.6 | E9: 1.0668855 | F9: =IF(C9<0.01," ",F8+(1/$B$5)) -> 10 | G9: =IF(C9<0.01," ",G8+(E9*(1/$B$5))) -> 11.316361 | H9: =IF(C9<0.01," ",F9/($E$3+$E$2*F9)) -> 10.642342 | I9: =IF(C9<0.01," ",(G9-H9)^2) -> 0.45430142
A10: 3 | B10: ﾐｽﾞﾅﾗ | C10: 35.5 | D10: 26.2 | E10: 0.93875787 | F10: =IF(C10<0.01," ",F9+(1/$B$5)) -> 15 | G10: =IF(C10<0.01," ",G9+(E10*(1/$B$5))) -> 16.01015 | H10: =IF(C10<0.01," ",F10/($E$3+$E$2*F10)) -> 15.712135 | I10: =IF(C10<0.01," ",(G10-H10)^2) -> 0.088813401
A11: 4 | B11: ｳﾀﾞｲｶﾝﾊﾞ | C11: 35.2 | D11: 19.5 | E11: 0.92026834 | F11: =IF(C11<0.01," ",F10+(1/$B$5)) -> 20 | G11: =IF(C11<0.01," ",G10+(E11*(1/$B$5))) -> 20.611492 | H11: =IF(C11<0.01," ",F11/($E$3+$E$2*F11)) -> 20.624734 | I11: =IF(C11<0.01," ",(G11-H11)^2) -> 0.00017533651
A12: 5 | B12: ﾊﾘｷﾞﾘ | C12: 35.1 | D12: 17.6 | E12: 0.91414761 | F12: =IF(C12<0.01," ",F11+(1/$B$5)) -> 25 | G12: =IF(C12<0.01," ",G11+(E12*(1/$B$5))) -> 25.18223 | H12: =IF(C12<0.01," ",F12/($E$3+$E$2*F12)) -> 25.387338 | I12: =IF(C12<0.01," ",(G12-H12)^2) -> 0.042069353
A13: 6 | B13: ﾐｽﾞﾅﾗ | C13: 34.4 | D13: 23.9 | E13: 0.87189761 | F13: =IF(C13<0.01," ",F12+(1/$B$5)) -> 30 | G13: =IF(C13<0.01," ",G12+(E13*(1/$B$5))) -> 29.541718 | H13: =IF(C13<0.01," ",F13/($E$3+$E$2*F13)) -> 30.006715 | I13: =IF(C13<0.01," ",(G13-H13)^2) -> 0.21622209
A14: 7 | B14: ﾐｽﾞﾅﾗ | C14: 34.4 | D14: 18.8 | E14: 0.87189761 | F14: =IF(C14<0.01," ",F13+(1/$B$5)) -> 35 | G14: =IF(C14<0.01," ",G13+(E14*(1/$B$5))) -> 33.901206 | H14: =IF(C14<0.01," ",F14/($E$3+$E$2*F14)) -> 34.489229 | I14: =IF(C14<0.01," ",(G14-H14)^2) -> 0.34577102
A15: 8 | B15: ﾐｽﾞﾅﾗ | C15: 34.1 | D15: 20.7 | E15: 0.85410971 | F15: =IF(C15<0.01," ",F14+(1/$B$5)) -> 40 | G15: =IF(C15<0.01," ",G14+(E15*(1/$B$5))) -> 38.171755 | H15: =IF(C15<0.01," ",F15/($E$3+$E$2*F15)) -> 38.840874 | I15: =IF(C15<0.01," ",(G15-H15)^2) -> 0.44772106
A16: 9 | B16: ｳﾀﾞｲｶﾝﾊﾞ | C16: 33.8 | D16: 18.1 | E16: 0.83651364 | F16: =IF(C16<0.01," ",F15+(1/$B$5)) -> 45 | G16: =IF(C16<0.01," ",G15+(E16*(1/$B$5))) -> 42.354323 | H16: =IF(C16<0.01," ",F16/($E$3+$E$2*F16)) -> 43.067299 | I16: =IF(C16<0.01," ",(G16-H16)^2) -> 0.50833527
A17: 10 | B17: ﾐｽﾞﾅﾗ | C17: 33.8 | D17: 24.3 | E17: 0.83651364 | F17: =IF(C17<0.01," ",F16+(1/$B$5)) -> 50 | G17: =IF(C17<0.01," ",G16+(E17*(1/$B$5))) -> 46.536891 | H17: =IF(C17<0.01," ",F17/($E$3+$E$2*F17)) -> 47.173832 | I17: =IF(C17<0.01," ",(G17-H17)^2) -> 0.40569389
A18: 11 | B18: ｳﾀﾞｲｶﾝﾊﾞ | C18: 33.3 | D18: 19.6 | E18: 0.80761363 | F18: =IF(C18<0.01," ",F17+(1/$B$5)) -> 55 | G18: =IF(C18<0.01," ",G17+(E18*(1/$B$5))) -> 50.574959 | H18: =IF(C18<0.01," ",F18/($E$3+$E$2*F18)) -> 51.165503 | I18: =IF(C18<0.01," ",(G18-H18)^2) -> 0.3487421
A19: 12 | B19: ｳﾀﾞｲｶﾝﾊﾞ | C19: 32.2 | D19: 19.1 | E19: 0.74591472 | F19: =IF(C19<0.01," ",F18+(1/$B$5)) -> 60 | G19: =IF(C19<0.01," ",G18+(E19*(1/$B$5))) -> 54.304533 | H19: =IF(C19<0.01," ",F19/($E$3+$E$2*F19)) -> 55.047065 | I19: =IF(C19<0.01," ",(G19-H19)^2) -> 0.55135393
A20: 13 | B20: ｳﾀﾞｲｶﾝﾊﾞ | C20: 32.1 | D20: 22.3 | E20: 0.74043416 | F20: =IF(C20<0.01," ",F19+(1/$B$5)) -> 65 | G20: =IF(C20<0.01," ",G19+(E20*(1/$B$5))) -> 58.006704 | H20: =IF(C20<0.01," ",F20/($E$3+$E$2*F20)) -> 58.823012 | I20: =IF(C20<0.01," ",(G20-H20)^2) -> 0.66635861
... A37: 30 | B37: ｳﾀﾞｲｶﾝﾊﾞ | C37: 26.2 | D37: 16.8 | E37: 0.45504973 | F37: =IF(C37<0.01," ",F36+(1/$B$5)) -> 150 | G37: =IF(C37<0.01," ",G36+(E37*(1/$B$5))) -> 107.14808 | H37: =IF(C37<0.01," ",F37/($E$3+$E$2*F37)) -> 110.24736 | I37: =IF(C37<0.01," ",(G37-H37)^2) -> 9.6055123
A38: 31 | B38: ｳﾀﾞｲｶﾝﾊﾞ | C38: 26.1 | E38: 0.45085544 | F38: =IF(C38<0.01," ",F37+(1/$B$5)) -> 155 | G38: =IF(C38<0.01," ",G37+(E38*(1/$B$5))) -> 109.40236 | H38: =IF(C38<0.01," ",F38/($E$3+$E$2*F38)) -> 112.67727 | I38: =IF(C38<0.01," ",(G38-H38)^2) -> 10.725042
A39: 32 | B39: ｳﾀﾞｲｶﾝﾊﾞ | C39: 25.6 | D39: 17.8 | E39: 0.4302039 | F39: =IF(C39<0.01," ",F38+(1/$B$5)) -> 160 | G39: =IF(C39<0.01," ",G38+(E39*(1/$B$5))) -> 111.55338 | H39: =IF(C39<0.01," ",F39/($E$3+$E$2*F39)) -> 115.05465 | I39: =IF(C39<0.01," ",(G39-H39)^2) -> 12.258872
A40: 33 | B40: ｳﾀﾞｲｶﾝﾊﾞ | C40: 25.5 | D40: 16.6 | E40: 0.42613752 | F40: =IF(C40<0.01," ",F39+(1/$B$5)) -> 165 | G40: =IF(C40<0.01," ",G39+(E40*(1/$B$5))) -> 113.68407 | H40: =IF(C40<0.01," ",F40/($E$3+$E$2*F40)) -> 117.38117 | I40: =IF(C40<0.01," ",(G40-H40)^2) -> 13.668581
A41: 34 | B41: ｳﾀﾞｲｶﾝﾊﾞ | C41: 25.2 | D41: 12.9 | E41: 0.41406605 | F41: =IF(C41<0.01," ",F40+(1/$B$5)) -> 170 | G41: =IF(C41<0.01," ",G40+(E41*(1/$B$5))) -> 115.7544 | H41: =IF(C41<0.01," ",F41/($E$3+$E$2*F41)) -> 119.65846 | I41: =IF(C41<0.01," ",(G41-H41)^2) -> 15.241703
A42: 35 | B42: ｳﾀﾞｲｶﾝﾊﾞ | C42: 25.2 | D42: 14.2 | E42: 0.41406605 | F42: =IF(C42<0.01," ",F41+(1/$B$5)) -> 175 | G42: =IF(C42<0.01," ",G41+(E42*(1/$B$5))) -> 117.82473 | H42: =IF(C42<0.01," ",F42/($E$3+$E$2*F42)) -> 121.88806 | I42: =IF(C42<0.01," ",(G42-H42)^2) -> 16.510653
A43: 36 | B43: ﾐｽﾞﾅﾗ | C43: 25.1 | D43: 19.1 | E43: 0.41008476 | F43: =IF(C43<0.01," ",F42+(1/$B$5)) -> 180 | G43: =IF(C43<0.01," ",G42+(E43*(1/$B$5))) -> 119.87515 | H43: =IF(C43<0.01," ",F43/($E$3+$E$2*F43)) -> 124.07145 | I43: =IF(C43<0.01," ",(G43-H43)^2) -> 17.608911
A44: 37 | B44: ｳﾀﾞｲｶﾝﾊﾞ | C44: 25 | D44: 15.7 | E44: 0.40612472 | F44: =IF(C44<0.01," ",F43+(1/$B$5)) -> 185 | G44: =IF(C44<0.01," ",G43+(E44*(1/$B$5))) -> 121.90577 | H44: =IF(C44<0.01," ",F44/($E$3+$E$2*F44)) -> 126.21005 | I44: =IF(C44<0.01," ",(G44-H44)^2) -> 18.526815
A45: 38 | B45: ﾐｽﾞﾅﾗ | C45: 25 | D45: 14.4 | E45: 0.40612472 | F45: =IF(C45<0.01," ",F44+(1/$B$5)) -> 190 | G45: =IF(C45<0.01," ",G44+(E45*(1/$B$5))) -> 123.9364 | H45: =IF(C45<0.01," ",F45/($E$3+$E$2*F45)) -> 128.30524 | I45: =IF(C45<0.01," ",(G45-H45)^2) -> 19.086749
A46: 39 | B46: ﾐｽﾞﾅﾗ | C46: 25 | D46: 18.2 | E46: 0.40612472 | F46: =IF(C46<0.01," ",F45+(1/$B$5)) -> 195 | G46: =IF(C46<0.01," ",G45+(E46*(1/$B$5))) -> 125.96702 | H46: =IF(C46<0.01," ",F46/($E$3+$E$2*F46)) -> 130.35831 | I46: =IF(C46<0.01," ",(G46-H46)^2) -> 19.283388
A47: 40 | B47: ｳﾀﾞｲｶﾝﾊﾞ | C47: 25 | D47: 24.5 | E47: 0.40612472 | F47: =IF(C47<0.01," ",F46+(1/$B$5)) -> 200 | G47: =IF(C47<0.01," ",G46+(E47*(1/$B$5))) -> 127.99764 | H47: =IF(C47<0.01," ",F47/($E$3+$E$2*F47)) -> 132.37052 | I47: =IF(C47<0.01," ",(G47-H47)^2) -> 19.122053
A48: 41 | B48: ｳﾀﾞｲｶﾝﾊﾞ | C48: 25 | D48: 18.5 | E48: 0.40612472 | F48: =IF(C48<0.01," ",F47+(1/$B$5)) -> 205 | G48: =IF(C48<0.01," ",G47+(E48*(1/$B$5))) -> 130.02827 | H48: =IF(C48<0.01," ",F48/($E$3+$E$2*F48)) -> 134.34309 | I48: =IF(C48<0.01," ",(G48-H48)^2) -> 18.617675
A49: 42 | B49: ｳﾀﾞｲｶﾝﾊﾞ | C49: 24.9 | D49: 18.6 | E49: 0.40218592 | F49: =IF(C49<0.01," ",F48+(1/$B$5)) -> 210 | G49: =IF(C49<0.01," ",G48+(E49*(1/$B$5))) -> 132.0392 | H49: =IF(C49<0.01," ",F49/($E$3+$E$2*F49)) -> 136.27717 | I49: =IF(C49<0.01," ",(G49-H49)^2) -> 17.960392
A50: 43 | B50: ｳﾀﾞｲｶﾝﾊﾞ | C50: 24.7 | D50: 18 | E50: 0.394372 | F50: =IF(C50<0.01," ",F49+(1/$B$5)) -> 215 | G50: =IF(C50<0.01," ",G49+(E50*(1/$B$5))) -> 134.01106 | H50: =IF(C50<0.01," ",F50/($E$3+$E$2*F50)) -> 138.17387 | I50: =IF(C50<0.01," ",(G50-H50)^2) -> 17.329049
... A78: 71 | B78: ﾎｵﾉｷ | C78: 21.1 | D78: 13.7 | E78: 0.26812771 | F78: =IF(C78<0.01," ",F77+(1/$B$5)) -> 355 | G78: =IF(C78<0.01," ",G77+(E78*(1/$B$5))) -> 180.38194 | H78: =IF(C78<0.01," ",F78/($E$3+$E$2*F78)) -> 179.57003 | I78: =IF(C78<0.01," ",(G78-H78)^2) -> 0.65919023
A79: 72 | B79: ｳﾀﾞｲｶﾝﾊﾞ | C79: 20.7 | E79: 0.25576813 | F79: =IF(C79<0.01," ",F78+(1/$B$5)) -> 360 | G79: =IF(C79<0.01," ",G78+(E79*(1/$B$5))) -> 181.66078 | H79: =IF(C79<0.01," ",F79/($E$3+$E$2*F79)) -> 180.7249 | I79: =IF(C79<0.01," ",(G79-H79)^2) -> 0.8758792
A80: 73 | B80: ｳﾀﾞｲｶﾝﾊﾞ | C80: 20.7 | D80: 17.7 | E80: 0.25576813 | F80: =IF(C80<0.01," ",F79+(1/$B$5)) -> 365 | G80: =IF(C80<0.01," ",G79+(E80*(1/$B$5))) -> 182.93962 | H80: =IF(C80<0.01," ",F80/($E$3+$E$2*F80)) -> 181.86246 | I80: =IF(C80<0.01," ",(G80-H80)^2) -> 1.160282
A81: 74 | B81: ﾎｵﾉｷ | C81: 20.6 | D81: 14.9 | E81: 0.25272972 | F81: =IF(C81<0.01," ",F80+(1/$B$5)) -> 370 | G81: =IF(C81<0.01," ",G80+(E81*(1/$B$5))) -> 184.20327 | H81: =IF(C81<0.01," ",F81/($E$3+$E$2*F81)) -> 182.9831 | I81: =IF(C81<0.01," ",(G81-H81)^2) -> 1.488806
A82: 75 | B82: ｳﾀﾞｲｶﾝﾊﾞ | C82: 20.5 | D82: 18.2 | E82: 0.24971186 | F82: =IF(C82<0.01," ",F81+(1/$B$5)) -> 375 | G82: =IF(C82<0.01," ",G81+(E82*(1/$B$5))) -> 185.45183 | H82: =IF(C82<0.01," ",F82/($E$3+$E$2*F82)) -> 184.08721 | I82: =IF(C82<0.01," ",(G82-H82)^2) -> 1.8621878
A83: 76 | B83: ｳﾀﾞｲｶﾝﾊﾞ | C83: 20.5 | D83: 14.4 | E83: 0.24971186 | F83: =IF(C83<0.01," ",F82+(1/$B$5)) -> 380 | G83: =IF(C83<0.01," ",G82+(E83*(1/$B$5))) -> 186.70039 | H83: =IF(C83<0.01," ",F83/($E$3+$E$2*F83)) -> 185.17514 | I83: =IF(C83<0.01," ",(G83-H83)^2) -> 2.3263893
A84: 77 | B84: ｳﾀﾞｲｶﾝﾊﾞ | C84: 20.4 | D84: 24.9 | E84: 0.24671452 | F84: =IF(C84<0.01," ",F83+(1/$B$5)) -> 385 | G84: =IF(C84<0.01," ",G83+(E84*(1/$B$5))) -> 187.93396 | H84: =IF(C84<0.01," ",F84/($E$3+$E$2*F84)) -> 186.24724 | I84: =IF(C84<0.01," ",(G84-H84)^2) -> 2.845019
A85: 78 | B85: ｳﾀﾞｲｶﾝﾊﾞ | C85: 20.3 | D85: 14.5 | E85: 0.24373769 | F85: =IF(C85<0.01," ",F84+(1/$B$5)) -> 390 | G85: =IF(C85<0.01," ",G84+(E85*(1/$B$5))) -> 189.15265 | H85: =IF(C85<0.01," ",F85/($E$3+$E$2*F85)) -> 187.30387 | I85: =IF(C85<0.01," ",(G85-H85)^2) -> 3.4179997
A86: 79 | B86: ｳﾀﾞｲｶﾝﾊﾞ | C86: 19.9 | D86: 18 | E86: 0.23203494 | F86: =IF(C86<0.01," ",F85+(1/$B$5)) -> 395 | G86: =IF(C86<0.01," ",G85+(E86*(1/$B$5))) -> 190.31282 | H86: =IF(C86<0.01," ",F86/($E$3+$E$2*F86)) -> 188.34534 | I86: =IF(C86<0.01," ",(G86-H86)^2) -> 3.8709885
A87: 80 | B87: ﾎｵﾉｷ | C87: 19.9 | D87: 15.1 | E87: 0.23203494 | F87: =IF(C87<0.01," ",F86+(1/$B$5)) -> 400 | G87: =IF(C87<0.01," ",G86+(E87*(1/$B$5))) -> 191.473 | H87: =IF(C87<0.01," ",F87/($E$3+$E$2*F87)) -> 189.37199 | I87: =IF(C87<0.01," ",(G87-H87)^2) -> 4.4142309
A88: 81 | B88: ｳﾀﾞｲｶﾝﾊﾞ | C88: 19.9 | D88: 18.9 | E88: 0.23203494 | F88: =IF(C88<0.01," ",F87+(1/$B$5)) -> 405 | G88: =IF(C88<0.01," ",G87+(E88*(1/$B$5))) -> 192.63317 | H88: =IF(C88<0.01," ",F88/($E$3+$E$2*F88)) -> 190.38413 | I88: =IF(C88<0.01," ",(G88-H88)^2) -> 5.05819
A89: 82 | B89: ｳﾀﾞｲｶﾝﾊﾞ | C89: 19.8 | D89: 13.7 | E89: 0.22916028 | F89: =IF(C89<0.01," ",F88+(1/$B$5)) -> 410 | G89: =IF(C89<0.01," ",G88+(E89*(1/$B$5))) -> 193.77897 | H89: =IF(C89<0.01," ",F89/($E$3+$E$2*F89)) -> 191.38207 | I89: =IF(C89<0.01," ",(G89-H89)^2) -> 5.7451714
A90: 83 | B90: ﾎｵﾉｷ | C90: 19.8 | D90: 16.9 | E90: 0.22916028 | F90: =IF(C90<0.01," ",F89+(1/$B$5)) -> 415 | G90: =IF(C90<0.01," ",G89+(E90*(1/$B$5))) -> 194.92478 | H90: =IF(C90<0.01," ",F90/($E$3+$E$2*F90)) -> 192.36609 | I90: =IF(C90<0.01," ",(G90-H90)^2) -> 6.5468615
A91: 84 | B91: ﾎｵﾉｷ | C91: 19.8 | D91: 12.2 | E91: 0.22916028 | F91: =IF(C91<0.01," ",F90+(1/$B$5)) -> 420 | G91: =IF(C91<0.01," ",G90+(E91*(1/$B$5))) -> 196.07058 | H91: =IF(C91<0.01," ",F91/($E$3+$E$2*F91)) -> 193.3365 | I91: =IF(C91<0.01," ",(G91-H91)^2) -> 7.4751811
... A144: 137 | B144: ﾊｳﾁﾜｶｴﾃﾞ | C144: 12.8 | D144: 11 | E144: 0.076780514 | F144: =IF(C144<0.01," ",F143+(1/$B$5)) -> 685 | G144: =IF(C144<0.01," ",G143+(E144*(1/$B$5))) -> 233.31987 | H144: =IF(C144<0.01," ",F144/($E$3+$E$2*F144)) -> 230.70605 | I144: =IF(C144<0.01," ",(G144-H144)^2) -> 6.832036
A145: 138 | B145: ｳﾀﾞｲｶﾝﾊﾞ | C145: 12.7 | E145: 0.075269376 | F145: =IF(C145<0.01," ",F144+(1/$B$5)) -> 690 | G145: =IF(C145<0.01," ",G144+(E145*(1/$B$5))) -> 233.69621 | H145: =IF(C145<0.01," ",F145/($E$3+$E$2*F145)) -> 231.21933 | I145: =IF(C145<0.01," ",(G145-H145)^2) -> 6.1349615
A146: 139 | B146: ﾎｵﾉｷ | C146: 12.6 | D146: 16.1 | E146: 0.073775893 | F146: =IF(C146<0.01," ",F145+(1/$B$5)) -> 695 | G146: =IF(C146<0.01," ",G145+(E146*(1/$B$5))) -> 234.06509 | H146: =IF(C146<0.01," ",F146/($E$3+$E$2*F146)) -> 231.72746 | I146: =IF(C146<0.01," ",(G146-H146)^2) -> 5.4645265
A147: 140 | B147: ﾎｵﾉｷ | C147: 12.5 | E147: 0.072300011 | F147: =IF(C147<0.01," ",F146+(1/$B$5)) -> 700 | G147: =IF(C147<0.01," ",G146+(E147*(1/$B$5))) -> 234.42659 | H147: =IF(C147<0.01," ",F147/($E$3+$E$2*F147)) -> 232.23052 | I147: =IF(C147<0.01," ",(G147-H147)^2) -> 4.8227191
A148: 141 | B148: ﾎｵﾉｷ | C148: 12.4 | D148: 11.7 | E148: 0.070841675 | F148: =IF(C148<0.01," ",F147+(1/$B$5)) -> 705 | G148: =IF(C148<0.01," ",G147+(E148*(1/$B$5))) -> 234.7808 | H148: =IF(C148<0.01," ",F148/($E$3+$E$2*F148)) -> 232.72859 | I148: =IF(C148<0.01," ",(G148-H148)^2) -> 4.2115527
A149: 142 | B149: ﾊｳﾁﾜｶｴﾃﾞ | C149: 12.3 | D149: 8.6 | E149: 0.06940083 | F149: =IF(C149<0.01," ",F148+(1/$B$5)) -> 710 | G149: =IF(C149<0.01," ",G148+(E149*(1/$B$5))) -> 235.1278 | H149: =IF(C149<0.01," ",F149/($E$3+$E$2*F149)) -> 233.22174 | I149: =IF(C149<0.01," ",(G149-H149)^2) -> 3.6330627
A150: 143 | B150: ｴｿﾞﾏﾂ | C150: 12.3 | D150: 7.2 | E150: 0.06940083 | F150: =IF(C150<0.01," ",F149+(1/$B$5)) -> 715 | G150: =IF(C150<0.01," ",G149+(E150*(1/$B$5))) -> 235.47481 | H150: =IF(C150<0.01," ",F150/($E$3+$E$2*F150)) -> 233.71005 | I150: =IF(C150<0.01," ",(G150-H150)^2) -> 3.1143734
A151: 144 | B151: ﾎｵﾉｷ | C151: 12 | D151: 13.9 | E151: 0.065182667 | F151: =IF(C151<0.01," ",F150+(1/$B$5)) -> 720 | G151: =IF(C151<0.01," ",G150+(E151*(1/$B$5))) -> 235.80072 | H151: =IF(C151<0.01," ",F151/($E$3+$E$2*F151)) -> 234.19358 | I151: =IF(C151<0.01," ",(G151-H151)^2) -> 2.5829077
A152: 145 | B152: ﾊｳﾁﾜｶｴﾃﾞ | C152: 11.9 | D152: 7.5 | E152: 0.063811213 | F152: =IF(C152<0.01," ",F151+(1/$B$5)) -> 725 | G152: =IF(C152<0.01," ",G151+(E152*(1/$B$5))) -> 236.11978 | H152: =IF(C152<0.01," ",F152/($E$3+$E$2*F152)) -> 234.6724 | I152: =IF(C152<0.01," ",(G152-H152)^2) -> 2.0948949
A153: 146 | B153: ﾎｵﾉｷ | C153: 11.9 | D153: 10.6 | E153: 0.063811213 | F153: =IF(C153<0.01," ",F152+(1/$B$5)) -> 730 | G153: =IF(C153<0.01," ",G152+(E153*(1/$B$5))) -> 236.43883 | H153: =IF(C153<0.01," ",F153/($E$3+$E$2*F153)) -> 235.14659 | I153: =IF(C153<0.01," ",(G153-H153)^2) -> 1.6698974
A154: 147 | B154: ﾊｳﾁﾜｶｴﾃﾞ | C154: 11.9 | D154: 5.9 | E154: 0.063811213 | F154: =IF(C154<0.01," ",F153+(1/$B$5)) -> 735 | G154: =IF(C154<0.01," ",G153+(E154*(1/$B$5))) -> 236.75789 | H154: =IF(C154<0.01," ",F154/($E$3+$E$2*F154)) -> 235.6162 | I154: =IF(C154<0.01," ",(G154-H154)^2) -> 1.3034456
A155: 148 | B155: ﾊｳﾁﾜｶｴﾃﾞ | C155: 11.6 | D155: 8.8 | E155: 0.059799827 | F155: =IF(C155<0.01," ",F154+(1/$B$5)) -> 740 | G155: =IF(C155<0.01," ",G154+(E155*(1/$B$5))) -> 237.05689 | H155: =IF(C155<0.01," ",F155/($E$3+$E$2*F155)) -> 236.08132 | I155: =IF(C155<0.01," ",(G155-H155)^2) -> 0.95174349
A156: 149 | B156: ﾎｵﾉｷ | C156: 11.4 | D156: 12.7 | E156: 0.057210784 | F156: =IF(C156<0.01," ",F155+(1/$B$5)) -> 745 | G156: =IF(C156<0.01," ",G155+(E156*(1/$B$5))) -> 237.34294 | H156: =IF(C156<0.01," ",F156/($E$3+$E$2*F156)) -> 236.54199 | I156: =IF(C156<0.01," ",(G156-H156)^2) -> 0.64153103
A157: 150 | B157: ﾎｵﾉｷ | C157: 11.3 | D157: 9.4 | E157: 0.055941644 | F157: =IF(C157<0.01," ",F156+(1/$B$5)) -> 750 | G157: =IF(C157<0.01," ",G156+(E157*(1/$B$5))) -> 237.62265 | H157: =IF(C157<0.01," ",F157/($E$3+$E$2*F157)) -> 236.99828 | I157: =IF(C157<0.01," ",(G157-H157)^2) -> 0.38983835
A158: 151 | B158: ﾊｳﾁﾜｶｴﾃﾞ | C158: 11.2 | D158: 8.9 | E158: 0.054689341 | F158: =IF(C158<0.01," ",F157+(1/$B$5)) -> 755 | G158: =IF(C158<0.01," ",G157+(E158*(1/$B$5))) -> 237.8961 | H158: =IF(C158<0.01," ",F158/($E$3+$E$2*F158)) -> 237.45026 | I158: =IF(C158<0.01," ",(G158-H158)^2) -> 0.19877121
A159: 152 | B159: ﾄﾄﾞﾏﾂ | C159: 10.8 | D159: 6.6 | E159: 0.049847238 | F159: =IF(C159<0.01," ",F158+(1/$B$5)) -> 760 | G159: =IF(C159<0.01," ",G158+(E159*(1/$B$5))) -> 238.14533 | H159: =IF(C159<0.01," ",F159/($E$3+$E$2*F159)) -> 237.89799 | I159: =IF(C159<0.01," ",(G159-H159)^2) -> 0.061181169
A160: 153 | B160: ﾊｳﾁﾜｶｴﾃﾞ | C160: 10.7 | D160: 6.4 | E160: 0.048678166 | F160: =IF(C160<0.01," ",F159+(1/$B$5)) -> 765 | G160: =IF(C160<0.01," ",G159+(E160*(1/$B$5))) -> 238.38872 | H160: =IF(C160<0.01," ",F160/($E$3+$E$2*F160)) -> 238.34152 | I160: =IF(C160<0.01," ",(G160-H160)^2) -> 0.0022285588
A161: 154 | B161: ﾎｵﾉｷ | C161: 10.5 | E161: 0.046389307 | F161: =IF(C161<0.01," ",F160+(1/$B$5)) -> 770 | G161: =IF(C161<0.01," ",G160+(E161*(1/$B$5))) -> 238.62067 | H161: =IF(C161<0.01," ",F161/($E$3+$E$2*F161)) -> 238.78091 | I161: =IF(C161<0.01," ",(G161-H161)^2) -> 0.025677474
A162: 155 | B162: ﾎｵﾉｷ | C162: 10.4 | D162: 10.7 | E162: 0.045269386 | F162: =IF(C162<0.01," ",F161+(1/$B$5)) -> 775 | G162: =IF(C162<0.01," ",G161+(E162*(1/$B$5))) -> 238.84702 | H162: =IF(C162<0.01," ",F162/($E$3+$E$2*F162)) -> 239.21623 | I162: =IF(C162<0.01," ",(G162-H162)^2) -> 0.1363184
A163: 156 | B163: ｲﾀﾔｶｴﾃﾞ | C163: 10.4 | D163: 9.8 | E163: 0.045269386 | F163: =IF(C163<0.01," ",F162+(1/$B$5)) -> 780 | G163: =IF(C163<0.01," ",G162+(E163*(1/$B$5))) -> 239.07337 | H163: =IF(C163<0.01," ",F163/($E$3+$E$2*F163)) -> 239.64753 | I163: =IF(C163<0.01," ",(G163-H163)^2) -> 0.32966335
A164: 157 | B164: ﾎｵﾉｷ | C164: 10 | D164: 11.4 | E164: 0.040951483 | F164: =IF(C164<0.01," ",F163+(1/$B$5)) -> 785 | G164: =IF(C164<0.01," ",G163+(E164*(1/$B$5))) -> 239.27812 | H164: =IF(C164<0.01," ",F164/($E$3+$E$2*F164)) -> 240.07486 | I164: =IF(C164<0.01," ",(G164-H164)^2) -> 0.63478947
A165: 158 | B165: ﾊｳﾁﾜｶｴﾃﾞ | C165: 9.8 | D165: 7.1 | E165: 0.03888862 | F165: =IF(C165<0.01," ",F164+(1/$B$5)) -> 790 | G165: =IF(C165<0.01," ",G164+(E165*(1/$B$5))) -> 239.47257 | H165: =IF(C165<0.01," ",F165/($E$3+$E$2*F165)) -> 240.49828 | I165: =IF(C165<0.01," ",(G165-H165)^2) -> 1.0520876
A166: 159 | B166: ﾎｵﾉｷ | C166: 9.4 | D166: 14.5 | E166: 0.034952188 | F166: =IF(C166<0.01," ",F165+(1/$B$5)) -> 795 | G166: =IF(C166<0.01," ",G165+(E166*(1/$B$5))) -> 239.64733 | H166: =IF(C166<0.01," ",F166/($E$3+$E$2*F166)) -> 240.91784 | I166: =IF(C166<0.01," ",(G166-H166)^2) -> 1.6142056
A167: 160 | B167: ﾊｳﾁﾜｶｴﾃﾞ | C167: 9.4 | D167: 7.7 | E167: 0.034952188 | F167: =IF(C167<0.01," ",F166+(1/$B$5)) -> 800 | G167: =IF(C167<0.01," ",G166+(E167*(1/$B$5))) -> 239.82209 | H167: =IF(C167<0.01," ",F167/($E$3+$E$2*F167)) -> 241.3336 | I167: =IF(C167<0.01," ",(G167-H167)^2) -> 2.2846597
A168: 161 | B168: ﾊｳﾁﾜｶｴﾃﾞ | C168: 9 | D168: 3.6 | E168: 0.031264161 | F168: =IF(C168<0.01," ",F167+(1/$B$5)) -> 805 | G168: =IF(C168<0.01," ",G167+(E168*(1/$B$5))) -> 239.97841 | H168: =IF(C168<0.01," ",F168/($E$3+$E$2*F168)) -> 241.7456 | I168: =IF(C168<0.01," ",(G168-H168)^2) -> 3.1229621
A169: 162 | B169: ﾊｳﾁﾜｶｴﾃﾞ | C169: 8.8 | D169: 7 | E169: 0.029511759 | F169: =IF(C169<0.01," ",F168+(1/$B$5)) -> 810 | G169: =IF(C169<0.01," ",G168+(E169*(1/$B$5))) -> 240.12597 | H169: =IF(C169<0.01," ",F169/($E$3+$E$2*F169)) -> 242.1539 | I169: =IF(C169<0.01," ",(G169-H169)^2) -> 4.1125022
A170: 163 | B170: ﾄﾄﾞﾏﾂ | C170: 8.8 | D170: 5.8 | E170: 0.029511759 | F170: =IF(C170<0.01," ",F169+(1/$B$5)) -> 815 | G170: =IF(C170<0.01," ",G169+(E170*(1/$B$5))) -> 240.27353 | H170: =IF(C170<0.01," ",F170/($E$3+$E$2*F170)) -> 242.55854 | I170: =IF(C170<0.01," ",(G170-H170)^2) -> 5.2213025
A171: 164 | B171: ﾊﾙﾆﾚ | C171: 8.6 | D171: 8.5 | E171: 0.027819585 | F171: =IF(C171<0.01," ",F170+(1/$B$5)) -> 820 | G171: =IF(C171<0.01," ",G170+(E171*(1/$B$5))) -> 240.41262 | H171: =IF(C171<0.01," ",F171/($E$3+$E$2*F171)) -> 242.95958 | I171: =IF(C171<0.01," ",(G171-H171)^2) -> 6.4870026
A172: 165 | B172: ﾊｳﾁﾜｶｴﾃﾞ | C172: 8.5 | D172: 9.1 | E172: 0.02699588 | F172: =IF(C172<0.01," ",F171+(1/$B$5)) -> 825 | G172: =IF(C172<0.01," ",G171+(E172*(1/$B$5))) -> 240.5476 | H172: =IF(C172<0.01," ",F172/($E$3+$E$2*F172)) -> 243.35707 | I172: =IF(C172<0.01," ",(G172-H172)^2) -> 7.8930862
A173: 166 | B173: ﾎｵﾉｷ | C173: 8.4 | D173: 9.3 | E173: 0.026186986 | F173: =IF(C173<0.01," ",F172+(1/$B$5)) -> 830 | G173: =IF(C173<0.01," ",G172+(E173*(1/$B$5))) -> 240.67854 | H173: =IF(C173<0.01," ",F173/($E$3+$E$2*F173)) -> 243.75104 | I173: =IF(C173<0.01," ",(G173-H173)^2) -> 9.4402725
... A178: 171 | B178: ﾎｵﾉｷ | C178: 7.9 | D178: 8.7 | E178: 0.02236173 | F178: =IF(C178<0.01," ",F177+(1/$B$5)) -> 855 | G178: =IF(C178<0.01," ",G177+(E178*(1/$B$5))) -> 241.28269 | H178: =IF(C178<0.01," ",F178/($E$3+$E$2*F178)) -> 245.66986 | I178: =IF(C178<0.01," ",(G178-H178)^2) -> 19.247265
A179: 172 | B179: ﾎｵﾉｷ | C179: 7.9 | E179: 0.02236173 | F179: =IF(C179<0.01," ",F178+(1/$B$5)) -> 860 | G179: =IF(C179<0.01," ",G178+(E179*(1/$B$5))) -> 241.39449 | H179: =IF(C179<0.01," ",F179/($E$3+$E$2*F179)) -> 246.04372 | I179: =IF(C179<0.01," ",(G179-H179)^2) -> 21.615261
A180: 173 | B180: ﾊｳﾁﾜｶｴﾃﾞ | C180: 7.8 | D180: 6.4 | E180: 0.021639918 | F180: =IF(C180<0.01," ",F179+(1/$B$5)) -> 865 | G180: =IF(C180<0.01," ",G179+(E180*(1/$B$5))) -> 241.50269 | H180: =IF(C180<0.01," ",F180/($E$3+$E$2*F180)) -> 246.41437 | I180: =IF(C180<0.01," ",(G180-H180)^2) -> 24.124595
A181: 174 | B181: ﾎｵﾉｷ | C181: 7.7 | D181: 5.7 | E181: 0.020932313 | F181: =IF(C181<0.01," ",F180+(1/$B$5)) -> 870 | G181: =IF(C181<0.01," ",G180+(E181*(1/$B$5))) -> 241.60736 | H181: =IF(C181<0.01," ",F181/($E$3+$E$2*F181)) -> 246.78187 | I181: =IF(C181<0.01," ",(G181-H181)^2) -> 26.775597
A182: 175 | B182: ﾎｵﾉｷ | C182: 7.5 | D182: 6.7 | E182: 0.019559364 | F182: =IF(C182<0.01," ",F181+(1/$B$5)) -> 875 | G182: =IF(C182<0.01," ",G181+(E182*(1/$B$5))) -> 241.70515 | H182: =IF(C182<0.01," ",F182/($E$3+$E$2*F182)) -> 247.14624 | I182: =IF(C182<0.01," ",(G182-H182)^2) -> 29.60549
A183: 176 | B183: ﾊｳﾁﾜｶｴﾃﾞ | C183: 7.5 | D183: 5.5 | E183: 0.019559364 | F183: =IF(C183<0.01," ",F182+(1/$B$5)) -> 880 | G183: =IF(C183<0.01," ",G182+(E183*(1/$B$5))) -> 241.80295 | H183: =IF(C183<0.01," ",F183/($E$3+$E$2*F183)) -> 247.50754 | I183: =IF(C183<0.01," ",(G183-H183)^2) -> 32.542346
A184: 177 | B184: ﾎｵﾉｷ | C184: 7.4 | D184: 10.7 | E184: 0.018893838 | F184: =IF(C184<0.01," ",F183+(1/$B$5)) -> 885 | G184: =IF(C184<0.01," ",G183+(E184*(1/$B$5))) -> 241.89742 | H184: =IF(C184<0.01," ",F184/($E$3+$E$2*F184)) -> 247.86579 | I184: =IF(C184<0.01," ",(G184-H184)^2) -> 35.621467
A185: 178 | B185: ﾊｳﾁﾜｶｴﾃﾞ | C185: 7.2 | D185: 5.7 | E185: 0.017604216 | F185: =IF(C185<0.01," ",F184+(1/$B$5)) -> 890 | G185: =IF(C185<0.01," ",G184+(E185*(1/$B$5))) -> 241.98544 | H185: =IF(C185<0.01," ",F185/($E$3+$E$2*F185)) -> 248.22104 | I185: =IF(C185<0.01," ",(G185-H185)^2) -> 38.88269
A186: 179 | B186: ﾊｳﾁﾜｶｴﾃﾞ | C186: 6.8 | D186: 2.3 | E186: 0.015188031 | F186: =IF(C186<0.01," ",F185+(1/$B$5)) -> 895 | G186: =IF(C186<0.01," ",G185+(E186*(1/$B$5))) -> 242.06138 | H186: =IF(C186<0.01," ",F186/($E$3+$E$2*F186)) -> 248.57332 | I186: =IF(C186<0.01," ",(G186-H186)^2) -> 42.405354
A187: 180 | B187: ｲﾀﾔｶｴﾃﾞ | C187: 6.6 | D187: 7.6 | E187: 0.014059908 | F187: =IF(C187<0.01," ",F186+(1/$B$5)) -> 900 | G187: =IF(C187<0.01," ",G186+(E187*(1/$B$5))) -> 242.13168 | H187: =IF(C187<0.01," ",F187/($E$3+$E$2*F187)) -> 248.92267 | I187: =IF(C187<0.01," ",(G187-H187)^2) -> 46.117561
A188: 181 | B188: ﾄﾄﾞﾏﾂ | C188: 6.6 | D188: 4.3 | E188: 0.014059908 | F188: =IF(C188<0.01," ",F187+(1/$B$5)) -> 905 | G188: =IF(C188<0.01," ",G187+(E188*(1/$B$5))) -> 242.20198 | H188: =IF(C188<0.01," ",F188/($E$3+$E$2*F188)) -> 249.26913 | I188: =IF(C188<0.01," ",(G188-H188)^2) -> 49.944607
A189: 182 | B189: ｲﾀﾔｶｴﾃﾞ | C189: 6.5 | D189: 5.5 | E189: 0.013515488 | F189: =IF(C189<0.01," ",F188+(1/$B$5)) -> 910 | G189: =IF(C189<0.01," ",G188+(E189*(1/$B$5))) -> 242.26956 | H189: =IF(C189<0.01," ",F189/($E$3+$E$2*F189)) -> 249.61273 | I189: =IF(C189<0.01," ",(G189-H189)^2) -> 53.922194
A190: 183 | B190: ﾐｽﾞﾅﾗ | C190: 6.4 | D190: 6.8 | E190: 0.012984028 | F190: =IF(C190<0.01," ",F189+(1/$B$5)) -> 915 | G190: =IF(C190<0.01," ",G189+(E190*(1/$B$5))) -> 242.33448 | H190: =IF(C190<0.01," ",F190/($E$3+$E$2*F190)) -> 249.95351 | I190: =IF(C190<0.01," ",(G190-H190)^2) -> 58.049647
A191: 184 | B191: ﾊｳﾁﾜｶｴﾃﾞ | C191: 6.3 | D191: 4.7 | E191: 0.012465422 | F191: =IF(C191<0.01," ",F190+(1/$B$5)) -> 920 | G191: =IF(C191<0.01," ",G190+(E191*(1/$B$5))) -> 242.3968 | H191: =IF(C191<0.01," ",F191/($E$3+$E$2*F191)) -> 250.2915 | I191: =IF(C191<0.01," ",(G191-H191)^2) -> 62.326225
... A196: 189 | B196: ﾊｳﾁﾜｶｴﾃﾞ | C196: 4.5 | D196: 4.1 | E196: 0.0052029889 | F196: =IF(C196<0.01," ",F195+(1/$B$5)) -> 945 | G196: =IF(C196<0.01," ",G195+(E196*(1/$B$5))) -> 242.60332 | H196: =IF(C196<0.01," ",F196/($E$3+$E$2*F196)) -> 251.94082 | I196: =IF(C196<0.01," ",(G196-H196)^2) -> 87.188759
A197: 190 | F197: =IF(C197<0.01," ",F196+(1/$B$5)) | G197: =IF(C197<0.01," ",G196+(E197*(1/$B$5))) | H197: =IF(C197<0.01," ",F197/($E$3+$E$2*F197)) | I197: =IF(C197<0.01," ",(G197-H197)^2)
A198: 191 | F198: =IF(C198<0.01," ",F197+(1/$B$5)) | G198: =IF(C198<0.01," ",G197+(E198*(1/$B$5))) | H198: =IF(C198<0.01," ",F198/($E$3+$E$2*F198)) | I198: =IF(C198<0.01," ",(G198-H198)^2)
A199: 192 | F199: =IF(C199<0.01," ",F198+(1/$B$5)) | G199: =IF(C199<0.01," ",G198+(E199*(1/$B$5))) | H199: =IF(C199<0.01," ",F199/($E$3+$E$2*F199)) | I199: =IF(C199<0.01," ",(G199-H199)^2)
A200: 193 | F200: =IF(C200<0.01," ",F199+(1/$B$5)) | G200: =IF(C200<0.01," ",G199+(E200*(1/$B$5))) | H200: =IF(C200<0.01," ",F200/($E$3+$E$2*F200)) | I200: =IF(C200<0.01," ",(G200-H200)^2)
A201: 194 | F201: =IF(C201<0.01," ",F200+(1/$B$5)) | G201: =IF(C201<0.01," ",G200+(E201*(1/$B$5))) | H201: =IF(C201<0.01," ",F201/($E$3+$E$2*F201)) | I201: =IF(C201<0.01," ",(G201-H201)^2)
A202: 195 | F202: =IF(C202<0.01," ",F201+(1/$B$5)) | G202: =IF(C202<0.01," ",G201+(E202*(1/$B$5))) | H202: =IF(C202<0.01," ",F202/($E$3+$E$2*F202)) | I202: =IF(C202<0.01," ",(G202-H202)^2)
A203: 196 | F203: =IF(C203<0.01," ",F202+(1/$B$5)) | G203: =IF(C203<0.01," ",G202+(E203*(1/$B$5))) | H203: =IF(C203<0.01," ",F203/($E$3+$E$2*F203)) | I203: =IF(C203<0.01," ",(G203-H203)^2)
...

Sheet 作図
B1: No | C1: Nb（本数）or 積算本数（本/ha) | D1: Y-N曲線
A4: =入力・計算画面!B2 -> ウダイカンバ | B4: No | C4: 積算本数 （N、本/ha） | D4: 積算材積 （Y、m3/ha） | E4: Bポイント座標 | H4: α=1（Bポイント線） | J4: α=0.9 | L4: α=0.8 | N4: α=0.7 | P4: α=0.6 | R4: α=0.5 | T4: α=0.4 | V4: α=0.3
B5: 1 | C5: =IF(入力・計算画面!$C8<0.001," ",入力・計算画面!F8) -> 5 | D5: =IF(C5<1," ",入力・計算画面!G8) -> 5.9819334 | E5: =入力・計算画面!$J$2 -> 302.51924 | F5: =入力・計算画面!$J$3 -> 166.29683 | G5: 1 | H5: =IF($A$4="ウダイカンバ",付表!F7,付表!F20) -> 5062 | I5: 1 | J5: =IF($A$4="ウダイカンバ",付表!G7,付表!G20) -> 4285.4188 | K5: 1 | L5: =IF($A$4="ウダイカンバ",付表!H7,付表!H20) -> 3557.431 | M5: 1 | N5: =IF($A$4="ウダイカンバ",付表!I7,付表!I20) -> 2880.5049 | O5: 1 | P5: =IF($A$4="ウダイカンバ",付表!J7,付表!J20) -> 2257.5939 | Q5: 1 | R5: =IF($A$4="ウダイカンバ",付表!K7,付表!K20) -> 1692.326 | S5: 1 | T5: =IF($A$4="ウダイカンバ",付表!L7,付表!L20) -> 1189.319 | U5: 1 | V5: =IF($A$4="ウダイカンバ",付表!M7,付表!M20) -> 754.75797
B6: 2 | C6: =IF(入力・計算画面!$C9<0.001," ",入力・計算画面!F9) -> 10 | D6: =IF(C6<1," ",入力・計算画面!G9) -> 11.316361 | G6: 10000 | H6: =IF($A$4="ウダイカンバ",付表!F8,付表!F21) -> 24.072552 | I6: 10000 | J6: =IF($A$4="ウダイカンバ",付表!G8,付表!G21) -> 20.379488 | K6: 10000 | L6: =IF($A$4="ウダイカンバ",付表!H8,付表!H21) -> 16.917512 | M6: 10000 | N6: =IF($A$4="ウダイカンバ",付表!I8,付表!I21) -> 13.698361 | O6: 10000 | P6: =IF($A$4="ウダイカンバ",付表!J8,付表!J21) -> 10.736082 | Q6: 10000 | R6: =IF($A$4="ウダイカンバ",付表!K8,付表!K21) -> 8.047927 | S6: 10000 | T6: =IF($A$4="ウダイカンバ",付表!L8,付表!L21) -> 5.6558563 | U6: 10000 | V6: =IF($A$4="ウダイカンバ",付表!M8,付表!M21) -> 3.5892831
B7: 3 | C7: =IF(入力・計算画面!$C10<0.001," ",入力・計算画面!F10) -> 15 | D7: =IF(C7<1," ",入力・計算画面!G10) -> 16.01015
B8: 4 | C8: =IF(入力・計算画面!$C11<0.001," ",入力・計算画面!F11) -> 20 | D8: =IF(C8<1," ",入力・計算画面!G11) -> 20.611492
B9: 5 | C9: =IF(入力・計算画面!$C12<0.001," ",入力・計算画面!F12) -> 25 | D9: =IF(C9<1," ",入力・計算画面!G12) -> 25.18223
B10: 6 | C10: =IF(入力・計算画面!$C13<0.001," ",入力・計算画面!F13) -> 30 | D10: =IF(C10<1," ",入力・計算画面!G13) -> 29.541718
B11: 7 | C11: =IF(入力・計算画面!$C14<0.001," ",入力・計算画面!F14) -> 35 | D11: =IF(C11<1," ",入力・計算画面!G14) -> 33.901206
B12: 8 | C12: =IF(入力・計算画面!$C15<0.001," ",入力・計算画面!F15) -> 40 | D12: =IF(C12<1," ",入力・計算画面!G15) -> 38.171755
B13: 9 | C13: =IF(入力・計算画面!$C16<0.001," ",入力・計算画面!F16) -> 45 | D13: =IF(C13<1," ",入力・計算画面!G16) -> 42.354323
B14: 10 | C14: =IF(入力・計算画面!$C17<0.001," ",入力・計算画面!F17) -> 50 | D14: =IF(C14<1," ",入力・計算画面!G17) -> 46.536891
B15: 11 | C15: =IF(入力・計算画面!$C18<0.001," ",入力・計算画面!F18) -> 55 | D15: =IF(C15<1," ",入力・計算画面!G18) -> 50.574959
B16: 12 | C16: =IF(入力・計算画面!$C19<0.001," ",入力・計算画面!F19) -> 60 | D16: =IF(C16<1," ",入力・計算画面!G19) -> 54.304533
B17: 13 | C17: =IF(入力・計算画面!$C20<0.001," ",入力・計算画面!F20) -> 65 | D17: =IF(C17<1," ",入力・計算画面!G20) -> 58.006704
B18: 14 | C18: =IF(入力・計算画面!$C21<0.001," ",入力・計算画面!F21) -> 70 | D18: =IF(C18<1," ",入力・計算画面!G21) -> 61.65439
... B504: 500 | C504: =IF(入力・計算画面!$C507<0.001," ",入力・計算画面!F507) | D504: =IF(C504<1," ",入力・計算画面!G507)

Sheet 付表
A1: Y=aN^-h | E1: ウダイカンバ林における林分緊密度α別の座標
A2: 林種 | B2: a | C2: h | E2: Bポイント線の式：Yb=aNb^h
A3: ウダイカンバ | B3: 5062 | C3: 0.5807 | E3: a= | F3: 5062
A4: その他広葉樹林 | B4: 15900 | C4: 0.839 | E4: h= | F4: -0.5807
E5: α | F5: 1 | G5: 0.9 | H5: 0.8 | I5: 0.7 | J5: 0.6 | K5: 0.5 | L5: 0.4 | M5: 0.3
E6: N | F6: Y（α＝１） | G6: Y（α＝0.9） | H6: Y（α＝0.8） | I6: Y（α＝0.7） | J6: Y(α＝0.6) | K6: Y(α＝0.5) | L6: Y(α＝0.4) | M6: Y(α＝0.3)
E7: 1 | F7: =$F$3*($E7^$F$4) -> 5062 | G7: =(G$5^(1-$F$4))*$F$3 -> 4285.4188 | H7: =(H$5^(1-$F$4))*$F$3 -> 3557.431 | I7: =(I$5^(1-$F$4))*$F$3 -> 2880.5049 | J7: =(J$5^(1-$F$4))*$F$3 -> 2257.5939 | K7: =(K$5^(1-$F$4))*$F$3 -> 1692.326 | L7: =(L$5^(1-$F$4))*$F$3 -> 1189.319 | M7: =(M$5^(1-$F$4))*$F$3 -> 754.75797
E8: 10000 | F8: =$F$3*($E8^($F$4)) -> 24.072552 | G8: =G$7*$E$8^($F$4) -> 20.379488 | H8: =H$7*$E$8^($F$4) -> 16.917512 | I8: =I$7*$E$8^($F$4) -> 13.698361 | J8: =J$7*$E$8^($F$4) -> 10.736082 | K8: =K$7*$E$8^($F$4) -> 8.047927 | L8: =L$7*$E$8^($F$4) -> 5.6558563 | M8: =M$7*$E$8^($F$4) -> 3.5892831
E14: ミズナラ林（その他広葉樹）における林分緊密度α別の座標
E15: Bポイント線の式：Yb=aNb^h
E16: a= | F16: 15900
E17: h= | F17: -0.839
E18: α | F18: 1 | G18: 0.9 | H18: 0.8 | I18: 0.7 | J18: 0.6 | K18: 0.5 | L18: 0.4 | M18: 0.3
E19: N | F19: Y（α＝１） | G19: Y（α＝0.9） | H19: Y（α＝0.8） | I19: Y（α＝0.7） | J19: Y(α＝0.6) | K19: Y(α＝0.5) | L19: Y(α＝0.4) | M19: Y(α＝0.3)
E20: 1 | F20: =$F$16*($E20^$F$17) -> 15900 | G20: =(G$18^(1-$F$17))*$F$16 -> 13099.33 | H20: =(H$18^(1-$F$17))*$F$16 -> 10548.23 | I20: =(I$18^(1-$F$17))*$F$16 -> 8251.4908 | J20: =(J$18^(1-$F$17))*$F$16 -> 6214.6586 | K20: =(K$18^(1-$F$17))*$F$16 -> 4444.2959 | L20: =(L$18^(1-$F$17))*$F$16 -> 2948.3935 | M20: =(M$18^(1-$F$17))*$F$16 -> 1737.0932
E21: 10000 | F21: =$F$16*($E21^$F$17) -> 7.0048223 | G21: =G$20*$E$21^($F$17) -> 5.7709738 | H21: =H$20*$E$21^($F$17) -> 4.6470742 | I21: =I$20*$E$21^($F$17) -> 3.6352344 | J21: =J$20*$E$21^($F$17) -> 2.7378981 | K21: =K$20*$E$21^($F$17) -> 1.9579562 | L21: =L$20*$E$21^($F$17) -> 1.2989291 | M21: =M$20*$E$21^($F$17) -> 0.76528484
