Workbook
Name データの有無: リストなど!$A$2:$A$3
Name 植栽本数リスト参照元: 'inv1.組み合わせ番号表'!$A$19:$A$30
Name 地位指数リスト参照元: 'inv1.組み合わせ番号表'!$A$2:$A$15
Name 入力方法: リストなど!$B$2:$B$3

Sheet 注意事項
B2: 北海道版トドマツ人工林収穫予測ソフトver.140
B4: 本ソフトウェアの取り扱い

Sheet 1.収穫を予測する
B1: 立木データ | F1: 林分データ | J1: 推定地位指数 | M1: 伐採データ
B2: 胸高 直径 | C2: なし | F2: 所有者名 | G2: 椴松 太郎 | J2: 樹高データ"あり"の場合出力します | M2: 初回 間伐 | N2: ='inv2.計算シート'!B4 -> 0 | O2: 年 | R2: ※ 地位指数（林齢40年生時の平均上層樹高）は，I等地A 22, I等地B 20， II等地 18， III等地16, IV等地A 14, IV等地B 12 を目安として選択してください
B3: 樹高 | C3: なし | F3: 地位指数 | G3: 25 | J3: =IF(C3="なし","",IF(C3="あり",地位指数計算!N8,"")) | M3: 間伐 回数 | N3: ='inv2.計算シート'!BZ23 -> 0 | O3: 回 | R3: ※ 対象林分の地位指数，植栽本数が不明の場合は，地域の標準的な値，または2500本を選択してください
B4: 入力 方法 | C4: 入力方法1 | F4: 植栽本数 | G4: 2500 | H4: 本/ha
B5: 直径階 cm | C5: 2 | F5: 林齢 | G5: 32 | H5: 年
F6: 調査面積 | G6: 0.02 | H6: ha
T7: 地位指数 | U7: =G3 -> 25 | X7: 植栽本数 | Y7: =G4 -> 2500 | Z7: 本/ha
B8: ※直径の大きい順に入力 | J8: ※ 主伐の場合は100を入力 | M8: 収穫予測
B9: 直径と樹高，または直径の データがあるとき | F9: 直径階毎の本数が わかっているとき | P9: 主副林木（間伐前） | U9: 主林木（間伐後） | X9: 副林木 | AC9: 総収穫 | AE9: 幹材積連年成長量 | AF9: 幹材積年平均成長量 | AI9: 形状比
B10: 入力方法1 | F10: 入力方法2 | J10: 間伐 スケジュール | P10: 平均 | R10: /ha | U10: /ha | X10: /ha | AC10: /ha | AE10: /ha | AF10: /ha | AI10: 平均樹高／ 平均直径
B11: 立木 | C11: 胸高直径 | D11: 樹高 | F11: 胸高直径階 | H11: 立木 | J11: 林齢 | K11: 本数 間伐率 | M11: 推奨 間伐回 | N11: 林齢 | O11: 上層高 | P11: 幹材積 | Q11: 胸高 直径 | R11: 立木 本数 | S11: 幹材積 | T11: 収量 比数 | U11: 立木 本数 | V11: 幹材積 | W11: 収量 比数 | X11: 立木 本数 | Y11: 本数 比率 | Z11: 幹材積 | AA11: 材積 比率 | AB11: 胸高 直径 | AC11: 副林木 材積 | AD11: 主副林木 材積 | AE11: 主副合計 | AF11: 主林木 | AG11: 主副 合計 | AH11: 総収量
B12: No. | C12: cm | D12: m | F12: cm以上 | G12: cm未満 | H12: 本数 | J12: 年 | K12: 全層 | N12: 年 | O12: m | P12: m3 | Q12: cm | R12: 本 | S12: m3 | U12: 本 | V12: m3 | X12: 本 | Y12: % | Z12: m3 | AA12: % | AB12: cm | AC12: m3 | AD12: m3 | AE12: m3 | AF12: m3 | AG12: m3 | AH12: m3 | AI12: m/m
B13: 1 | C13: 24 | D13: 15 | F13: 0 | G13: =F13+$C$5 -> 2 | J13: =出力前!J12 -> 1 | M13: =IF(ISERROR(出力前!M12),"",出力前!M12) | N13: =出力前!N12 -> 1 | O13: =出力前!O12 -> 0.16734066 | P13: =IF(ISERROR(出力前!P12),"",出力前!P12) -> 3.4679082e-08 | Q13: =IF(ISERROR(出力前!Q12),"",出力前!Q12) -> 0 | R13: =IF(ISERROR(出力前!R12),"",IF(出力前!R12=0,"",出力前!R12)) -> 2500.0026 | S13: =IF(ISERROR(出力前!S12),"",IF(出力前!R12=0,"",出力前!S12)) -> 8.6697793e-05 | T13: =IF(ISERROR(出力前!T12),"",出力前!T12) -> 5.1279424e-05 | U13: =IF(ISERROR(出力前!U12),"",出力前!U12) | V13: =IF(ISERROR(出力前!V12),"",出力前!V12) | W13: =IF(ISERROR(出力前!W12),"",出力前!W12) | X13: =IF(ISERROR(出力前!X12),"",出力前!X12) | Y13: =IF(ISERROR(出力前!Y12),"",出力前!Y12) | Z13: =IF(ISERROR(出力前!Z12),"",出力前!Z12) | AA13: =IF(ISERROR(出力前!AA12),"",出力前!AA12) | ... AI13: =IF(ISERROR(出力前!AI12),"",出力前!AI12)
B14: 2 | C14: 24 | D14: 15 | F14: =G13 -> 2 | G14: =F14+$C$5 -> 4 | H14: 1 | J14: =出力前!J13 -> 2 | M14: =IF(ISERROR(出力前!M13),"",出力前!M13) | N14: =出力前!N13 -> 2 | O14: =出力前!O13 -> 0.53717628 | P14: =IF(ISERROR(出力前!P13),"",出力前!P13) -> 2.1572769e-06 | Q14: =IF(ISERROR(出力前!Q13),"",出力前!Q13) -> 0 | R14: =IF(ISERROR(出力前!R13),"",IF(出力前!R13=0,"",出力前!R13)) -> 2499.9923 | S14: =IF(ISERROR(出力前!S13),"",IF(出力前!R13=0,"",出力前!S13)) -> 0.0053931755 | T14: =IF(ISERROR(出力前!T13),"",出力前!T13) -> 0.00087776796 | U14: =IF(ISERROR(出力前!U13),"",出力前!U13) | V14: =IF(ISERROR(出力前!V13),"",出力前!V13) | W14: =IF(ISERROR(出力前!W13),"",出力前!W13) | X14: =IF(ISERROR(出力前!X13),"",出力前!X13) | Y14: =IF(ISERROR(出力前!Y13),"",出力前!Y13) | Z14: =IF(ISERROR(出力前!Z13),"",出力前!Z13) | AA14: =IF(ISERROR(出力前!AA13),"",出力前!AA13) | ... AI14: =IF(ISERROR(出力前!AI13),"",出力前!AI13)
B15: 3 | C15: 24 | D15: 15 | F15: =G14 -> 4 | G15: =F15+$C$5 -> 6 | H15: 2 | J15: =出力前!J14 -> 3 | M15: =IF(ISERROR(出力前!M14),"",出力前!M14) | N15: =出力前!N14 -> 3 | O15: =出力前!O14 -> 1.0440624 | P15: =IF(ISERROR(出力前!P14),"",出力前!P14) -> 2.2617455e-05 | Q15: =IF(ISERROR(出力前!Q14),"",出力前!Q14) -> 0 | R15: =IF(ISERROR(出力前!R14),"",IF(出力前!R14=0,"",出力前!R14)) -> 2499.9188 | S15: =IF(ISERROR(出力前!S14),"",IF(出力前!R14=0,"",出力前!S14)) -> 0.056541799 | T15: =IF(ISERROR(出力前!T14),"",出力前!T14) -> 0.0044086008 | U15: =IF(ISERROR(出力前!U14),"",出力前!U14) | V15: =IF(ISERROR(出力前!V14),"",出力前!V14) | W15: =IF(ISERROR(出力前!W14),"",出力前!W14) | X15: =IF(ISERROR(出力前!X14),"",出力前!X14) | Y15: =IF(ISERROR(出力前!Y14),"",出力前!Y14) | Z15: =IF(ISERROR(出力前!Z14),"",出力前!Z14) | AA15: =IF(ISERROR(出力前!AA14),"",出力前!AA14) | ... AI15: =IF(ISERROR(出力前!AI14),"",出力前!AI14)
B16: 4 | C16: 22 | D16: 15 | F16: =G15 -> 6 | G16: =F16+$C$5 -> 8 | H16: 4 | J16: =出力前!J15 -> 4 | M16: =IF(ISERROR(出力前!M15),"",出力前!M15) | N16: =出力前!N15 -> 4 | O16: =出力前!O15 -> 1.6527808 | P16: =IF(ISERROR(出力前!P15),"",出力前!P15) -> 0.00011405357 | Q16: =IF(ISERROR(出力前!Q15),"",出力前!Q15) -> 0 | R16: =IF(ISERROR(出力前!R15),"",IF(出力前!R15=0,"",出力前!R15)) -> 2499.5904 | S16: =IF(ISERROR(出力前!S15),"",IF(出力前!R15=0,"",出力前!S15)) -> 0.28508721 | T16: =IF(ISERROR(出力前!T15),"",出力前!T15) -> 0.01334055 | U16: =IF(ISERROR(出力前!U15),"",出力前!U15) | V16: =IF(ISERROR(出力前!V15),"",出力前!V15) | W16: =IF(ISERROR(出力前!W15),"",出力前!W15) | X16: =IF(ISERROR(出力前!X15),"",出力前!X15) | Y16: =IF(ISERROR(出力前!Y15),"",出力前!Y15) | Z16: =IF(ISERROR(出力前!Z15),"",出力前!Z15) | AA16: =IF(ISERROR(出力前!AA15),"",出力前!AA15) | ... AI16: =IF(ISERROR(出力前!AI15),"",出力前!AI15)
B17: 5 | C17: 22 | F17: =G16 -> 8 | G17: =F17+$C$5 -> 10 | H17: 9 | J17: =出力前!J16 -> 5 | M17: =IF(ISERROR(出力前!M16),"",出力前!M16) | N17: =出力前!N16 -> 5 | O17: =出力前!O16 -> 2.3385317 | P17: =IF(ISERROR(出力前!P16),"",出力前!P16) -> 0.0003838851 | Q17: =IF(ISERROR(出力前!Q16),"",出力前!Q16) -> 1.4572951 | R17: =IF(ISERROR(出力前!R16),"",IF(出力前!R16=0,"",出力前!R16)) -> 2498.6217 | S17: =IF(ISERROR(出力前!S16),"",IF(出力前!R16=0,"",出力前!S16)) -> 0.95918367 | T17: =IF(ISERROR(出力前!T16),"",出力前!T16) -> 0.03041221 | U17: =IF(ISERROR(出力前!U16),"",出力前!U16) | V17: =IF(ISERROR(出力前!V16),"",出力前!V16) | W17: =IF(ISERROR(出力前!W16),"",出力前!W16) | X17: =IF(ISERROR(出力前!X16),"",出力前!X16) | Y17: =IF(ISERROR(出力前!Y16),"",出力前!Y16) | Z17: =IF(ISERROR(出力前!Z16),"",出力前!Z16) | AA17: =IF(ISERROR(出力前!AA16),"",出力前!AA16) | ... AI17: =IF(ISERROR(出力前!AI16),"",出力前!AI16) -> 104.27266
B18: 6 | C18: 22 | D18: 15 | F18: =G17 -> 10 | G18: =F18+$C$5 -> 12 | H18: 9 | J18: =出力前!J17 -> 6 | M18: =IF(ISERROR(出力前!M17),"",出力前!M17) | N18: =出力前!N17 -> 6 | O18: =出力前!O17 -> 3.082392 | P18: =IF(ISERROR(出力前!P17),"",出力前!P17) -> 0.00099758426 | Q18: =IF(ISERROR(出力前!Q17),"",出力前!Q17) -> 2.2891766 | R18: =IF(ISERROR(出力前!R17),"",IF(出力前!R17=0,"",出力前!R17)) -> 2496.4215 | S18: =IF(ISERROR(出力前!S17),"",IF(出力前!R17=0,"",出力前!S17)) -> 2.4903908 | T18: =IF(ISERROR(出力前!T17),"",出力前!T17) -> 0.05763536 | U18: =IF(ISERROR(出力前!U17),"",出力前!U17) | V18: =IF(ISERROR(出力前!V17),"",出力前!V17) | W18: =IF(ISERROR(出力前!W17),"",出力前!W17) | X18: =IF(ISERROR(出力前!X17),"",出力前!X17) | Y18: =IF(ISERROR(出力前!Y17),"",出力前!Y17) | Z18: =IF(ISERROR(出力前!Z17),"",出力前!Z17) | AA18: =IF(ISERROR(出力前!AA17),"",出力前!AA17) | ... AI18: =IF(ISERROR(出力前!AI17),"",出力前!AI17) -> 90.810627
B19: 7 | C19: 22 | D19: 15 | F19: =G18 -> 12 | G19: =F19+$C$5 -> 14 | H19: 3 | J19: =出力前!J18 -> 7 | M19: =IF(ISERROR(出力前!M18),"",出力前!M18) | N19: =出力前!N18 -> 7 | O19: =出力前!O18 -> 3.8693562 | P19: =IF(ISERROR(出力前!P18),"",出力前!P18) -> 0.0021634085 | Q19: =IF(ISERROR(出力前!Q18),"",出力前!Q18) -> 3.0616376 | R19: =IF(ISERROR(出力前!R18),"",IF(出力前!R18=0,"",出力前!R18)) -> 2492.2525 | S19: =IF(ISERROR(出力前!S18),"",IF(出力前!R18=0,"",出力前!S18)) -> 5.3917603 | T19: =IF(ISERROR(出力前!T18),"",出力前!T18) -> 0.095688596 | U19: =IF(ISERROR(出力前!U18),"",出力前!U18) | V19: =IF(ISERROR(出力前!V18),"",出力前!V18) | W19: =IF(ISERROR(出力前!W18),"",出力前!W18) | X19: =IF(ISERROR(出力前!X18),"",出力前!X18) | Y19: =IF(ISERROR(出力前!Y18),"",出力前!Y18) | Z19: =IF(ISERROR(出力前!Z18),"",出力前!Z18) | AA19: =IF(ISERROR(出力前!AA18),"",出力前!AA18) | ... AI19: =IF(ISERROR(出力前!AI18),"",出力前!AI18) -> 87.884475
B20: 8 | C20: 20 | D20: 15 | F20: =G19 -> 14 | G20: =F20+$C$5 -> 16 | H20: 2 | J20: =出力前!J19 -> 8 | M20: =IF(ISERROR(出力前!M19),"",出力前!M19) | N20: =出力前!N19 -> 8 | O20: =出力前!O19 -> 4.6872678 | P20: =IF(ISERROR(出力前!P19),"",出力前!P19) -> 0.0041033277 | Q20: =IF(ISERROR(出力前!Q19),"",出力前!Q19) -> 3.9062208 | R20: =IF(ISERROR(出力前!R19),"",IF(出力前!R19=0,"",出力前!R19)) -> 2485.3461 | S20: =IF(ISERROR(出力前!S19),"",IF(出力前!R19=0,"",出力前!S19)) -> 10.19819 | T20: =IF(ISERROR(出力前!T19),"",出力前!T19) -> 0.14369382 | U20: =IF(ISERROR(出力前!U19),"",出力前!U19) | V20: =IF(ISERROR(出力前!V19),"",出力前!V19) | W20: =IF(ISERROR(出力前!W19),"",出力前!W19) | X20: =IF(ISERROR(出力前!X19),"",出力前!X19) | Y20: =IF(ISERROR(出力前!Y19),"",出力前!Y19) | Z20: =IF(ISERROR(出力前!Z19),"",出力前!Z19) | AA20: =IF(ISERROR(出力前!AA19),"",出力前!AA19) | ... AI20: =IF(ISERROR(出力前!AI19),"",出力前!AI19) -> 85.626064
B21: 9 | C21: 20 | D21: 15 | F21: =G20 -> 16 | G21: =F21+$C$5 -> 18 | H21: 2 | J21: =出力前!J20 -> 9 | M21: =IF(ISERROR(出力前!M20),"",出力前!M20) | N21: =出力前!N20 -> 9 | O21: =出力前!O20 -> 5.5261547 | P21: =IF(ISERROR(出力前!P20),"",出力前!P20) -> 0.0070203204 | Q21: =IF(ISERROR(出力前!Q20),"",出力前!Q20) -> 4.7774971 | R21: =IF(ISERROR(出力前!R20),"",IF(出力前!R20=0,"",出力前!R20)) -> 2475.0329 | S21: =IF(ISERROR(出力前!S20),"",IF(出力前!R20=0,"",出力前!S20)) -> 17.375524 | T21: =IF(ISERROR(出力前!T20),"",出力前!T20) -> 0.19946353 | U21: =IF(ISERROR(出力前!U20),"",出力前!U20) | V21: =IF(ISERROR(出力前!V20),"",出力前!V20) | W21: =IF(ISERROR(出力前!W20),"",出力前!W20) | X21: =IF(ISERROR(出力前!X20),"",出力前!X20) | Y21: =IF(ISERROR(出力前!Y20),"",出力前!Y20) | Z21: =IF(ISERROR(出力前!Z20),"",出力前!Z20) | AA21: =IF(ISERROR(出力前!AA20),"",出力前!AA20) | ... AI21: =IF(ISERROR(出力前!AI20),"",出力前!AI20) -> 84.390823
B22: 10 | C22: 18 | D22: 15 | F22: =G21 -> 18 | G22: =F22+$C$5 -> 20 | H22: 4 | J22: =出力前!J21 -> 10 | M22: =IF(ISERROR(出力前!M21),"",出力前!M21) | N22: =出力前!N21 -> 10 | O22: =出力前!O21 -> 6.3777757 | P22: =IF(ISERROR(出力前!P21),"",出力前!P21) -> 0.011072532 | Q22: =IF(ISERROR(出力前!Q21),"",出力前!Q21) -> 5.638316 | R22: =IF(ISERROR(出力前!R21),"",IF(出力前!R21=0,"",出力前!R21)) -> 2460.8473 | S22: =IF(ISERROR(出力前!S21),"",IF(出力前!R21=0,"",出力前!S21)) -> 27.247811 | T22: =IF(ISERROR(出力前!T21),"",出力前!T21) -> 0.26008802 | U22: =IF(ISERROR(出力前!U21),"",出力前!U21) | V22: =IF(ISERROR(出力前!V21),"",出力前!V21) | W22: =IF(ISERROR(出力前!W21),"",出力前!W21) | X22: =IF(ISERROR(出力前!X21),"",出力前!X21) | Y22: =IF(ISERROR(出力前!Y21),"",出力前!Y21) | Z22: =IF(ISERROR(出力前!Z21),"",出力前!Z21) | AA22: =IF(ISERROR(出力前!AA21),"",出力前!AA21) | ... AI22: =IF(ISERROR(出力前!AI21),"",出力前!AI21) -> 84.134743
B23: 11 | C23: 20 | D23: 14 | F23: =G22 -> 20 | G23: =F23+$C$5 -> 22 | H23: 2 | J23: =出力前!J22 -> 11 | M23: =IF(ISERROR(出力前!M22),"",出力前!M22) | N23: =出力前!N22 -> 11 | O23: =出力前!O22 -> 7.2352937 | P23: =IF(ISERROR(出力前!P22),"",出力前!P22) -> 0.016360388 | Q23: =IF(ISERROR(出力前!Q22),"",出力前!Q22) -> 6.5263806 | R23: =IF(ISERROR(出力前!R22),"",IF(出力前!R22=0,"",出力前!R22)) -> 2442.5788 | S23: =IF(ISERROR(出力前!S22),"",IF(出力前!R22=0,"",出力前!S22)) -> 39.961537 | T23: =IF(ISERROR(出力前!T22),"",出力前!T22) -> 0.32259312 | U23: =IF(ISERROR(出力前!U22),"",出力前!U22) | V23: =IF(ISERROR(出力前!V22),"",出力前!V22) | W23: =IF(ISERROR(出力前!W22),"",出力前!W22) | X23: =IF(ISERROR(出力前!X22),"",出力前!X22) | Y23: =IF(ISERROR(出力前!Y22),"",出力前!Y22) | Z23: =IF(ISERROR(出力前!Z22),"",出力前!Z22) | AA23: =IF(ISERROR(出力前!AA22),"",出力前!AA22) | ... AI23: =IF(ISERROR(出力前!AI22),"",出力前!AI22) -> 83.872129
B24: 12 | C24: 20 | D24: 14 | F24: =G23 -> 22 | G24: =F24+$C$5 -> 24 | H24: 2 | J24: =出力前!J23 -> 12 | M24: =IF(ISERROR(出力前!M23),"",出力前!M23) | N24: =出力前!N23 -> 12 | O24: =出力前!O23 -> 8.0930289 | P24: =IF(ISERROR(出力前!P23),"",出力前!P23) -> 0.022926783 | Q24: =IF(ISERROR(出力前!Q23),"",出力前!Q23) -> 7.4224674 | R24: =IF(ISERROR(出力前!R23),"",IF(出力前!R23=0,"",出力前!R23)) -> 2420.2673 | S24: =IF(ISERROR(出力前!S23),"",IF(出力前!R23=0,"",出力前!S23)) -> 55.488943 | T24: =IF(ISERROR(出力前!T23),"",出力前!T23) -> 0.38443317 | U24: =IF(ISERROR(出力前!U23),"",出力前!U23) | V24: =IF(ISERROR(出力前!V23),"",出力前!V23) | W24: =IF(ISERROR(出力前!W23),"",出力前!W23) | X24: =IF(ISERROR(出力前!X23),"",出力前!X23) | Y24: =IF(ISERROR(出力前!Y23),"",出力前!Y23) | Z24: =IF(ISERROR(出力前!Z23),"",出力前!Z23) | AA24: =IF(ISERROR(出力前!AA23),"",出力前!AA23) | ... AI24: =IF(ISERROR(出力前!AI23),"",出力前!AI23) -> 83.743138
B25: 13 | C25: 20 | D25: 14 | F25: =G24 -> 24 | G25: =F25+$C$5 -> 26 | J25: =出力前!J24 -> 13 | M25: =IF(ISERROR(出力前!M24),"",出力前!M24) | N25: =出力前!N24 -> 13 | O25: =出力前!O24 -> 8.9462666 | P25: =IF(ISERROR(出力前!P24),"",出力前!P24) -> 0.030766284 | Q25: =IF(ISERROR(出力前!Q24),"",出力前!Q24) -> 8.3148272 | R25: =IF(ISERROR(出力前!R24),"",IF(出力前!R24=0,"",出力前!R24)) -> 2394.1581 | S25: =IF(ISERROR(出力前!S24),"",IF(出力前!R24=0,"",出力前!S24)) -> 73.659347 | T25: =IF(ISERROR(出力前!T24),"",出力前!T24) -> 0.44372711 | U25: =IF(ISERROR(出力前!U24),"",出力前!U24) | V25: =IF(ISERROR(出力前!V24),"",出力前!V24) | W25: =IF(ISERROR(出力前!W24),"",出力前!W24) | X25: =IF(ISERROR(出力前!X24),"",出力前!X24) | Y25: =IF(ISERROR(出力前!Y24),"",出力前!Y24) | Z25: =IF(ISERROR(出力前!Z24),"",出力前!Z24) | AA25: =IF(ISERROR(出力前!AA24),"",出力前!AA24) | ... AI25: =IF(ISERROR(出力前!AI24),"",出力前!AI24) -> 83.760159
B26: 14 | C26: 20 | D26: 14 | F26: =G25 -> 26 | G26: =F26+$C$5 -> 28 | J26: =出力前!J25 -> 14 | M26: =IF(ISERROR(出力前!M25),"",出力前!M25) -> 1 | N26: =出力前!N25 -> 14 | O26: =出力前!O25 -> 9.7911039 | P26: =IF(ISERROR(出力前!P25),"",出力前!P25) -> 0.039838159 | Q26: =IF(ISERROR(出力前!Q25),"",出力前!Q25) -> 9.1737202 | R26: =IF(ISERROR(出力前!R25),"",IF(出力前!R25=0,"",出力前!R25)) -> 2364.6389 | S26: =IF(ISERROR(出力前!S25),"",IF(出力前!R25=0,"",出力前!S25)) -> 94.202861 | T26: =IF(ISERROR(出力前!T25),"",出力前!T25) -> 0.49927575 | U26: =IF(ISERROR(出力前!U25),"",出力前!U25) | V26: =IF(ISERROR(出力前!V25),"",出力前!V25) | W26: =IF(ISERROR(出力前!W25),"",出力前!W25) | X26: =IF(ISERROR(出力前!X25),"",出力前!X25) | Y26: =IF(ISERROR(出力前!Y25),"",出力前!Y25) | Z26: =IF(ISERROR(出力前!Z25),"",出力前!Z25) | AA26: =IF(ISERROR(出力前!AA25),"",出力前!AA25) | ... AI26: =IF(ISERROR(出力前!AI25),"",出力前!AI25) -> 84.103271
B27: 15 | C27: 20 | F27: =G26 -> 28 | G27: =F27+$C$5 -> 30 | J27: =出力前!J26 -> 15 | M27: =IF(ISERROR(出力前!M26),"",出力前!M26) | N27: =出力前!N26 -> 15 | O27: =出力前!O26 -> 10.624324 | P27: =IF(ISERROR(出力前!P26),"",出力前!P26) -> 0.05007919 | Q27: =IF(ISERROR(出力前!Q26),"",出力前!Q26) -> 9.9984267 | R27: =IF(ISERROR(出力前!R26),"",IF(出力前!R26=0,"",出力前!R26)) -> 2332.178 | S27: =IF(ISERROR(出力前!S26),"",IF(出力前!R26=0,"",出力前!S26)) -> 116.79359 | T27: =IF(ISERROR(出力前!T26),"",出力前!T26) -> 0.55045277 | U27: =IF(ISERROR(出力前!U26),"",出力前!U26) | V27: =IF(ISERROR(出力前!V26),"",出力前!V26) | W27: =IF(ISERROR(出力前!W26),"",出力前!W26) | X27: =IF(ISERROR(出力前!X26),"",出力前!X26) | Y27: =IF(ISERROR(出力前!Y26),"",出力前!Y26) | Z27: =IF(ISERROR(出力前!Z26),"",出力前!Z26) | AA27: =IF(ISERROR(出力前!AA26),"",出力前!AA26) | ... AI27: =IF(ISERROR(出力前!AI26),"",出力前!AI26) -> 84.659013
B28: 16 | C28: 20 | D28: 14 | F28: =G27 -> 30 | G28: =F28+$C$5 -> 32 | J28: =出力前!J27 -> 16 | M28: =IF(ISERROR(出力前!M27),"",出力前!M27) | N28: =出力前!N27 -> 16 | O28: =出力前!O27 -> 11.443296 | P28: =IF(ISERROR(出力前!P27),"",出力前!P27) -> 0.061414089 | Q28: =IF(ISERROR(出力前!Q27),"",出力前!Q27) -> 10.812177 | R28: =IF(ISERROR(出力前!R27),"",IF(出力前!R27=0,"",出力前!R27)) -> 2297.2735 | S28: =IF(ISERROR(出力前!S27),"",IF(出力前!R27=0,"",出力前!S27)) -> 141.08496 | T28: =IF(ISERROR(出力前!T27),"",出力前!T27) -> 0.59705319 | U28: =IF(ISERROR(出力前!U27),"",出力前!U27) | V28: =IF(ISERROR(出力前!V27),"",出力前!V27) | W28: =IF(ISERROR(出力前!W27),"",出力前!W27) | X28: =IF(ISERROR(出力前!X27),"",出力前!X27) | Y28: =IF(ISERROR(出力前!Y27),"",出力前!Y27) | Z28: =IF(ISERROR(出力前!Z27),"",出力前!Z27) | AA28: =IF(ISERROR(出力前!AA27),"",出力前!AA27) | ... AI28: =IF(ISERROR(出力前!AI27),"",出力前!AI27) -> 85.16962
B29: 17 | C29: 18 | D29: 14 | F29: =G28 -> 32 | G29: =F29+$C$5 -> 34 | J29: =出力前!J28 -> 17 | M29: =IF(ISERROR(出力前!M28),"",出力前!M28) -> 2 | N29: =出力前!N28 -> 17 | O29: =出力前!O28 -> 12.245883 | P29: =IF(ISERROR(出力前!P28),"",出力前!P28) -> 0.073762924 | Q29: =IF(ISERROR(出力前!Q28),"",出力前!Q28) -> 11.612489 | R29: =IF(ISERROR(出力前!R28),"",IF(出力前!R28=0,"",出力前!R28)) -> 2260.4167 | S29: =IF(ISERROR(出力前!S28),"",IF(出力前!R28=0,"",出力前!S28)) -> 166.73495 | T29: =IF(ISERROR(出力前!T28),"",出力前!T28) -> 0.63915053 | U29: =IF(ISERROR(出力前!U28),"",出力前!U28) | V29: =IF(ISERROR(出力前!V28),"",出力前!V28) | W29: =IF(ISERROR(出力前!W28),"",出力前!W28) | X29: =IF(ISERROR(出力前!X28),"",出力前!X28) | Y29: =IF(ISERROR(出力前!Y28),"",出力前!Y28) | Z29: =IF(ISERROR(出力前!Z28),"",出力前!Z28) | AA29: =IF(ISERROR(出力前!AA28),"",出力前!AA28) | ... AI29: =IF(ISERROR(出力前!AI28),"",出力前!AI28) -> 85.639909
B30: 18 | C30: 18 | D30: 14 | F30: =G29 -> 34 | G30: =F30+$C$5 -> 36 | J30: =出力前!J29 -> 18 | M30: =IF(ISERROR(出力前!M29),"",出力前!M29) | N30: =出力前!N29 -> 18 | O30: =出力前!O29 -> 13.030379 | P30: =IF(ISERROR(出力前!P29),"",出力前!P29) -> 0.08704583 | Q30: =IF(ISERROR(出力前!Q29),"",出力前!Q29) -> 12.395608 | R30: =IF(ISERROR(出力前!R29),"",IF(出力前!R29=0,"",出力前!R29)) -> 2222.0699 | S30: =IF(ISERROR(出力前!S29),"",IF(出力前!R29=0,"",出力前!S29)) -> 193.42192 | T30: =IF(ISERROR(出力前!T29),"",出力前!T29) -> 0.67698372 | U30: =IF(ISERROR(出力前!U29),"",出力前!U29) | V30: =IF(ISERROR(出力前!V29),"",出力前!V29) | W30: =IF(ISERROR(出力前!W29),"",出力前!W29) | X30: =IF(ISERROR(出力前!X29),"",出力前!X29) | Y30: =IF(ISERROR(出力前!Y29),"",出力前!Y29) | Z30: =IF(ISERROR(出力前!Z29),"",出力前!Z29) | AA30: =IF(ISERROR(出力前!AA29),"",出力前!AA29) | ... AI30: =IF(ISERROR(出力前!AI29),"",出力前!AI29) -> 86.085966
B31: 19 | C31: 18 | D31: 14 | F31: =G30 -> 36 | G31: =F31+$C$5 -> 38 | J31: =出力前!J30 -> 19 | M31: =IF(ISERROR(出力前!M30),"",出力前!M30) | N31: =出力前!N30 -> 19 | O31: =出力前!O30 -> 13.795438 | P31: =IF(ISERROR(出力前!P30),"",出力前!P30) -> 0.10118564 | Q31: =IF(ISERROR(出力前!Q30),"",出力前!Q30) -> 13.135019 | R31: =IF(ISERROR(出力前!R30),"",IF(出力前!R30=0,"",出力前!R30)) -> 2182.6536 | S31: =IF(ISERROR(出力前!S30),"",IF(出力前!R30=0,"",出力前!S30)) -> 220.85321 | T31: =IF(ISERROR(出力前!T30),"",出力前!T30) -> 0.71087691 | U31: =IF(ISERROR(出力前!U30),"",出力前!U30) | V31: =IF(ISERROR(出力前!V30),"",出力前!V30) | W31: =IF(ISERROR(出力前!W30),"",出力前!W30) | X31: =IF(ISERROR(出力前!X30),"",出力前!X30) | Y31: =IF(ISERROR(出力前!Y30),"",出力前!Y30) | Z31: =IF(ISERROR(出力前!Z30),"",出力前!Z30) | AA31: =IF(ISERROR(出力前!AA30),"",出力前!AA30) | ... AI31: =IF(ISERROR(出力前!AI30),"",出力前!AI30) -> 86.673224
B32: 20 | C32: 18 | D32: 14 | F32: =G31 -> 38 | G32: =F32+$C$5 -> 40 | J32: =出力前!J31 -> 20 | M32: =IF(ISERROR(出力前!M31),"",出力前!M31) | N32: =出力前!N31 -> 20 | O32: =出力前!O31 -> 14.540028 | P32: =IF(ISERROR(出力前!P31),"",出力前!P31) -> 0.11610912 | Q32: =IF(ISERROR(出力前!Q31),"",出力前!Q31) -> 13.85324 | R32: =IF(ISERROR(出力前!R31),"",IF(出力前!R31=0,"",出力前!R31)) -> 2142.5417 | S32: =IF(ISERROR(出力前!S31),"",IF(出力前!R31=0,"",出力前!S31)) -> 248.76862 | T32: =IF(ISERROR(出力前!T31),"",出力前!T31) -> 0.74118693 | U32: =IF(ISERROR(出力前!U31),"",出力前!U31) | V32: =IF(ISERROR(出力前!V31),"",出力前!V31) | W32: =IF(ISERROR(出力前!W31),"",出力前!W31) | X32: =IF(ISERROR(出力前!X31),"",出力前!X31) | Y32: =IF(ISERROR(出力前!Y31),"",出力前!Y31) | Z32: =IF(ISERROR(出力前!Z31),"",出力前!Z31) | AA32: =IF(ISERROR(出力前!AA31),"",出力前!AA31) | ... AI32: =IF(ISERROR(出力前!AI31),"",出力前!AI31) -> 87.23055
B33: 21 | C33: 18 | D33: 14 | F33: =G32 -> 40 | G33: =F33+$C$5 -> 42 | J33: =出力前!J32 -> 21 | M33: =IF(ISERROR(出力前!M32),"",出力前!M32) -> 3 | N33: =出力前!N32 -> 21 | O33: =出力前!O32 -> 15.263384 | P33: =IF(ISERROR(出力前!P32),"",出力前!P32) -> 0.13174727 | Q33: =IF(ISERROR(出力前!Q32),"",出力前!Q32) -> 14.558658 | R33: =IF(ISERROR(出力前!R32),"",IF(出力前!R32=0,"",出力前!R32)) -> 2102.0608 | S33: =IF(ISERROR(出力前!S32),"",IF(出力前!R32=0,"",出力前!S32)) -> 276.94078 | T33: =IF(ISERROR(出力前!T32),"",出力前!T32) -> 0.76827127 | U33: =IF(ISERROR(出力前!U32),"",出力前!U32) | V33: =IF(ISERROR(出力前!V32),"",出力前!V32) | W33: =IF(ISERROR(出力前!W32),"",出力前!W32) | X33: =IF(ISERROR(出力前!X32),"",出力前!X32) | Y33: =IF(ISERROR(出力前!Y32),"",出力前!Y32) | Z33: =IF(ISERROR(出力前!Z32),"",出力前!Z32) | AA33: =IF(ISERROR(出力前!AA32),"",出力前!AA32) | ... AI33: =IF(ISERROR(出力前!AI32),"",出力前!AI32) -> 87.704909
B34: 22 | C34: 16 | D34: 14 | F34: =G33 -> 42 | G34: =F34+$C$5 -> 44 | J34: =出力前!J33 -> 22 | M34: =IF(ISERROR(出力前!M33),"",出力前!M33) | N34: =出力前!N33 -> 22 | O34: =出力前!O33 -> 15.964969 | P34: =IF(ISERROR(出力前!P33),"",出力前!P33) -> 0.14803522 | Q34: =IF(ISERROR(出力前!Q33),"",出力前!Q33) -> 15.251408 | R34: =IF(ISERROR(出力前!R33),"",IF(出力前!R33=0,"",出力前!R33)) -> 2061.4928 | S34: =IF(ISERROR(出力前!S33),"",IF(出力前!R33=0,"",出力前!S33)) -> 305.17354 | T34: =IF(ISERROR(出力前!T33),"",出力前!T33) -> 0.79247012 | U34: =IF(ISERROR(出力前!U33),"",出力前!U33) | V34: =IF(ISERROR(出力前!V33),"",出力前!V33) | W34: =IF(ISERROR(出力前!W33),"",出力前!W33) | X34: =IF(ISERROR(出力前!X33),"",出力前!X33) | Y34: =IF(ISERROR(出力前!Y33),"",出力前!Y33) | Z34: =IF(ISERROR(出力前!Z33),"",出力前!Z33) | AA34: =IF(ISERROR(出力前!AA33),"",出力前!AA33) | ... AI34: =IF(ISERROR(出力前!AI33),"",出力前!AI33) -> 88.101032
B35: 23 | C35: 16 | D35: 14 | F35: =G34 -> 44 | G35: =F35+$C$5 -> 46 | J35: =出力前!J34 -> 23 | M35: =IF(ISERROR(出力前!M34),"",出力前!M34) | N35: =出力前!N34 -> 23 | O35: =出力前!O34 -> 16.644442 | P35: =IF(ISERROR(出力前!P34),"",出力前!P34) -> 0.16491175 | Q35: =IF(ISERROR(出力前!Q34),"",出力前!Q34) -> 15.929532 | R35: =IF(ISERROR(出力前!R34),"",IF(出力前!R34=0,"",出力前!R34)) -> 2021.0782 | S35: =IF(ISERROR(出力前!S34),"",IF(出力前!R34=0,"",出力前!S34)) -> 333.29955 | T35: =IF(ISERROR(出力前!T34),"",出力前!T34) -> 0.81409735 | U35: =IF(ISERROR(出力前!U34),"",出力前!U34) | V35: =IF(ISERROR(出力前!V34),"",出力前!V34) | W35: =IF(ISERROR(出力前!W34),"",出力前!W34) | X35: =IF(ISERROR(出力前!X34),"",出力前!X34) | Y35: =IF(ISERROR(出力前!Y34),"",出力前!Y34) | Z35: =IF(ISERROR(出力前!Z34),"",出力前!Z34) | AA35: =IF(ISERROR(出力前!AA34),"",出力前!AA34) | ... AI35: =IF(ISERROR(出力前!AI34),"",出力前!AI34) -> 88.435542
B36: 24 | C36: 16 | D36: 14 | F36: =G35 -> 46 | G36: =F36+$C$5 -> 48 | J36: =出力前!J35 -> 24 | M36: =IF(ISERROR(出力前!M35),"",出力前!M35) | N36: =出力前!N35 -> 24 | O36: =出力前!O35 -> 17.301628 | P36: =IF(ISERROR(出力前!P35),"",出力前!P35) -> 0.18231887 | Q36: =IF(ISERROR(出力前!Q35),"",出力前!Q35) -> 16.56389 | R36: =IF(ISERROR(出力前!R35),"",IF(出力前!R35=0,"",出力前!R35)) -> 1981.0203 | S36: =IF(ISERROR(出力前!S35),"",IF(出力前!R35=0,"",出力前!S35)) -> 361.17739 | T36: =IF(ISERROR(出力前!T35),"",出力前!T35) -> 0.83343715 | U36: =IF(ISERROR(出力前!U35),"",出力前!U35) | V36: =IF(ISERROR(出力前!V35),"",出力前!V35) | W36: =IF(ISERROR(出力前!W35),"",出力前!W35) | X36: =IF(ISERROR(出力前!X35),"",出力前!X35) | Y36: =IF(ISERROR(出力前!Y35),"",出力前!Y35) | Z36: =IF(ISERROR(出力前!Z35),"",出力前!Z35) | AA36: =IF(ISERROR(出力前!AA35),"",出力前!AA35) | ... AI36: =IF(ISERROR(出力前!AI35),"",出力前!AI35) -> 88.868964
B37: 25 | C37: 16 | D37: 14 | F37: =G36 -> 48 | G37: =F37+$C$5 -> 50 | J37: =出力前!J36 -> 25 | M37: =IF(ISERROR(出力前!M36),"",出力前!M36) | N37: =出力前!N36 -> 25 | O37: =出力前!O36 -> 17.936492 | P37: =IF(ISERROR(出力前!P36),"",出力前!P36) -> 0.2002013 | Q37: =IF(ISERROR(出力前!Q36),"",出力前!Q36) -> 17.189663 | R37: =IF(ISERROR(出力前!R36),"",IF(出力前!R36=0,"",出力前!R36)) -> 1941.4891 | S37: =IF(ISERROR(出力前!S36),"",IF(出力前!R36=0,"",出力前!S36)) -> 388.68864 | T37: =IF(ISERROR(出力前!T36),"",出力前!T36) -> 0.85074371 | U37: =IF(ISERROR(出力前!U36),"",出力前!U36) | V37: =IF(ISERROR(出力前!V36),"",出力前!V36) | W37: =IF(ISERROR(出力前!W36),"",出力前!W36) | X37: =IF(ISERROR(出力前!X36),"",出力前!X36) | Y37: =IF(ISERROR(出力前!Y36),"",出力前!Y36) | Z37: =IF(ISERROR(出力前!Z36),"",出力前!Z36) | AA37: =IF(ISERROR(出力前!AA36),"",出力前!AA36) | ... AI37: =IF(ISERROR(出力前!AI36),"",出力前!AI36) -> 89.207911
B38: 26 | C38: 20 | F38: =G37 -> 50 | G38: =F38+$C$5 -> 52 | J38: =出力前!J37 -> 26 | M38: =IF(ISERROR(出力前!M37),"",出力前!M37) -> 4 | N38: =出力前!N37 -> 26 | O38: =出力前!O37 -> 18.549121 | P38: =IF(ISERROR(出力前!P37),"",出力前!P37) -> 0.21850604 | Q38: =IF(ISERROR(出力前!Q37),"",出力前!Q37) -> 17.803595 | R38: =IF(ISERROR(出力前!R37),"",IF(出力前!R37=0,"",出力前!R37)) -> 1902.6256 | S38: =IF(ISERROR(出力前!S37),"",IF(出力前!R37=0,"",出力前!S37)) -> 415.73518 | T38: =IF(ISERROR(出力前!T37),"",出力前!T37) -> 0.86624277 | U38: =IF(ISERROR(出力前!U37),"",出力前!U37) | V38: =IF(ISERROR(出力前!V37),"",出力前!V37) | W38: =IF(ISERROR(出力前!W37),"",出力前!W37) | X38: =IF(ISERROR(出力前!X37),"",出力前!X37) | Y38: =IF(ISERROR(出力前!Y37),"",出力前!Y37) | Z38: =IF(ISERROR(出力前!Z37),"",出力前!Z37) | AA38: =IF(ISERROR(出力前!AA37),"",出力前!AA37) | ... AI38: =IF(ISERROR(出力前!AI37),"",出力前!AI37) -> 89.47736
B39: 27 | C39: 20 | D39: 13 | F39: =G38 -> 52 | G39: =F39+$C$5 -> 54 | J39: =出力前!J38 -> 27 | M39: =IF(ISERROR(出力前!M38),"",出力前!M38) | N39: =出力前!N38 -> 27 | O39: =出力前!O38 -> 19.139701 | P39: =IF(ISERROR(出力前!P38),"",出力前!P38) -> 0.23718202 | Q39: =IF(ISERROR(出力前!Q38),"",出力前!Q38) -> 18.408679 | R39: =IF(ISERROR(出力前!R38),"",IF(出力前!R38=0,"",出力前!R38)) -> 1864.5454 | S39: =IF(ISERROR(出力前!S38),"",IF(出力前!R38=0,"",出力前!S38)) -> 442.23663 | T39: =IF(ISERROR(出力前!T38),"",出力前!T38) -> 0.88013398 | U39: =IF(ISERROR(出力前!U38),"",出力前!U38) | V39: =IF(ISERROR(出力前!V38),"",出力前!V38) | W39: =IF(ISERROR(出力前!W38),"",出力前!W38) | X39: =IF(ISERROR(出力前!X38),"",出力前!X38) | Y39: =IF(ISERROR(出力前!Y38),"",出力前!Y38) | Z39: =IF(ISERROR(出力前!Z38),"",出力前!Z38) | AA39: =IF(ISERROR(出力前!AA38),"",出力前!AA38) | ... AI39: =IF(ISERROR(出力前!AI38),"",出力前!AI38) -> 89.669189
B40: 28 | C40: 18 | D40: 13 | F40: =G39 -> 54 | G40: =F40+$C$5 -> 56 | J40: =出力前!J39 -> 28 | M40: =IF(ISERROR(出力前!M39),"",出力前!M39) | N40: =出力前!N39 -> 28 | O40: =出力前!O39 -> 19.708505 | P40: =IF(ISERROR(出力前!P39),"",出力前!P39) -> 0.25617981 | Q40: =IF(ISERROR(出力前!Q39),"",出力前!Q39) -> 18.994592 | R40: =IF(ISERROR(出力前!R39),"",IF(出力前!R39=0,"",出力前!R39)) -> 1827.3417 | S40: =IF(ISERROR(出力前!S39),"",IF(出力前!R39=0,"",出力前!S39)) -> 468.12805 | T40: =IF(ISERROR(出力前!T39),"",出力前!T39) -> 0.89259347 | U40: =IF(ISERROR(出力前!U39),"",出力前!U39) | V40: =IF(ISERROR(出力前!V39),"",出力前!V39) | W40: =IF(ISERROR(出力前!W39),"",出力前!W39) | X40: =IF(ISERROR(出力前!X39),"",出力前!X39) | Y40: =IF(ISERROR(出力前!Y39),"",出力前!Y39) | Z40: =IF(ISERROR(出力前!Z39),"",出力前!Z39) | AA40: =IF(ISERROR(出力前!AA39),"",出力前!AA39) | ... AI40: =IF(ISERROR(出力前!AI39),"",出力前!AI39) -> 89.839489
B41: 29 | C41: 18 | D41: 13 | F41: =G40 -> 56 | G41: =F41+$C$5 -> 58 | J41: =出力前!J40 -> 29 | M41: =IF(ISERROR(出力前!M40),"",出力前!M40) | N41: =出力前!N40 -> 29 | O41: =出力前!O40 -> 20.255873 | P41: =IF(ISERROR(出力前!P40),"",出力前!P40) -> 0.27545145 | Q41: =IF(ISERROR(出力前!Q40),"",出力前!Q40) -> 19.547865 | R41: =IF(ISERROR(出力前!R40),"",IF(出力前!R40=0,"",出力前!R40)) -> 1791.0886 | S41: =IF(ISERROR(出力前!S40),"",IF(出力前!R40=0,"",出力前!S40)) -> 493.35795 | T41: =IF(ISERROR(出力前!T40),"",出力前!T40) -> 0.90377659 | U41: =IF(ISERROR(出力前!U40),"",出力前!U40) | V41: =IF(ISERROR(出力前!V40),"",出力前!V40) | W41: =IF(ISERROR(出力前!W40),"",出力前!W40) | X41: =IF(ISERROR(出力前!X40),"",出力前!X40) | Y41: =IF(ISERROR(出力前!Y40),"",出力前!Y40) | Z41: =IF(ISERROR(出力前!Z40),"",出力前!Z40) | AA41: =IF(ISERROR(出力前!AA40),"",出力前!AA40) | ... AI41: =IF(ISERROR(出力前!AI40),"",出力前!AI40) -> 90.052847
B42: 30 | C42: 18 | D42: 13 | F42: =G41 -> 58 | G42: =F42+$C$5 -> 60 | J42: =出力前!J41 -> 30 | M42: =IF(ISERROR(出力前!M41),"",出力前!M41) | N42: =出力前!N41 -> 30 | O42: =出力前!O41 -> 20.782206 | P42: =IF(ISERROR(出力前!P41),"",出力前!P41) -> 0.29495027 | Q42: =IF(ISERROR(出力前!Q41),"",出力前!Q41) -> 20.094562 | R42: =IF(ISERROR(出力前!R41),"",IF(出力前!R41=0,"",出力前!R41)) -> 1755.8433 | S42: =IF(ISERROR(出力前!S41),"",IF(出力前!R41=0,"",出力前!S41)) -> 517.88646 | T42: =IF(ISERROR(出力前!T41),"",出力前!T41) -> 0.91382036 | U42: =IF(ISERROR(出力前!U41),"",出力前!U41) | V42: =IF(ISERROR(出力前!V41),"",出力前!V41) | W42: =IF(ISERROR(出力前!W41),"",出力前!W41) | X42: =IF(ISERROR(出力前!X41),"",出力前!X41) | Y42: =IF(ISERROR(出力前!Y41),"",出力前!Y41) | Z42: =IF(ISERROR(出力前!Z41),"",出力前!Z41) | AA42: =IF(ISERROR(出力前!AA41),"",出力前!AA41) | ... AI42: =IF(ISERROR(出力前!AI41),"",出力前!AI41) -> 90.190181
B43: 31 | C43: 16 | D43: 13 | F43: =G42 -> 60 | G43: =F43+$C$5 -> 62 | J43: =出力前!J42 -> 31 | M43: =IF(ISERROR(出力前!M42),"",出力前!M42) -> 5 | N43: =出力前!N42 -> 31 | O43: =出力前!O42 -> 21.287949 | P43: =IF(ISERROR(出力前!P42),"",出力前!P42) -> 0.31463086 | Q43: =IF(ISERROR(出力前!Q42),"",出力前!Q42) -> 20.632665 | R43: =IF(ISERROR(出力前!R42),"",IF(出力前!R42=0,"",出力前!R42)) -> 1721.6487 | S43: =IF(ISERROR(出力前!S42),"",IF(出力前!R42=0,"",出力前!S42)) -> 541.68379 | T43: =IF(ISERROR(出力前!T42),"",出力前!T42) -> 0.92284573 | U43: =IF(ISERROR(出力前!U42),"",出力前!U42) | V43: =IF(ISERROR(出力前!V42),"",出力前!V42) | W43: =IF(ISERROR(出力前!W42),"",出力前!W42) | X43: =IF(ISERROR(出力前!X42),"",出力前!X42) | Y43: =IF(ISERROR(出力前!Y42),"",出力前!Y42) | Z43: =IF(ISERROR(出力前!Z42),"",出力前!Z42) | AA43: =IF(ISERROR(出力前!AA42),"",出力前!AA42) | ... AI43: =IF(ISERROR(出力前!AI42),"",出力前!AI42) -> 90.267401
B44: 32 | C44: 16 | D44: 13 | F44: =G43 -> 62 | G44: =F44+$C$5 -> 64 | J44: =出力前!J43 -> 32 | M44: =IF(ISERROR(出力前!M43),"",出力前!M43) | N44: =出力前!N43 -> 32 | O44: =出力前!O43 -> 21.773587 | P44: =IF(ISERROR(出力前!P43),"",出力前!P43) -> 0.334449 | Q44: =IF(ISERROR(出力前!Q43),"",出力前!Q43) -> 21.159351 | R44: =IF(ISERROR(出力前!R43),"",IF(出力前!R43=0,"",出力前!R43)) -> 1688.535 | S44: =IF(ISERROR(出力前!S43),"",IF(出力前!R43=0,"",出力前!S43)) -> 564.72884 | T44: =IF(ISERROR(出力前!T43),"",出力前!T43) -> 0.93095968 | U44: =IF(ISERROR(出力前!U43),"",出力前!U43) | V44: =IF(ISERROR(出力前!V43),"",出力前!V43) | W44: =IF(ISERROR(出力前!W43),"",出力前!W43) | X44: =IF(ISERROR(出力前!X43),"",出力前!X43) | Y44: =IF(ISERROR(出力前!Y43),"",出力前!Y43) | Z44: =IF(ISERROR(出力前!Z43),"",出力前!Z43) | AA44: =IF(ISERROR(出力前!AA43),"",出力前!AA43) | ... AI44: =IF(ISERROR(出力前!AI43),"",出力前!AI43) -> 90.302418
B45: 33 | C45: 16 | D45: 13 | F45: =G44 -> 64 | G45: =F45+$C$5 -> 66 | J45: =出力前!J44 -> 33 | M45: =IF(ISERROR(出力前!M44),"",出力前!M44) | N45: =出力前!N44 -> 33 | O45: =出力前!O44 -> 22.239635 | P45: =IF(ISERROR(出力前!P44),"",出力前!P44) -> 0.35436173 | Q45: =IF(ISERROR(出力前!Q44),"",出力前!Q44) -> 21.667228 | R45: =IF(ISERROR(出力前!R44),"",IF(出力前!R44=0,"",出力前!R44)) -> 1656.5219 | S45: =IF(ISERROR(出力前!S44),"",IF(出力前!R44=0,"",出力前!S44)) -> 587.00796 | T45: =IF(ISERROR(出力前!T44),"",出力前!T44) -> 0.93825692 | U45: =IF(ISERROR(出力前!U44),"",出力前!U44) | V45: =IF(ISERROR(出力前!V44),"",出力前!V44) | W45: =IF(ISERROR(出力前!W44),"",出力前!W44) | X45: =IF(ISERROR(出力前!X44),"",出力前!X44) | Y45: =IF(ISERROR(出力前!Y44),"",出力前!Y44) | Z45: =IF(ISERROR(出力前!Z44),"",出力前!Z44) | AA45: =IF(ISERROR(出力前!AA44),"",出力前!AA44) | ... AI45: =IF(ISERROR(出力前!AI44),"",出力前!AI44) -> 90.330564
B46: 34 | C46: 14 | D46: 13 | F46: =G45 -> 66 | G46: =F46+$C$5 -> 68 | J46: =出力前!J45 -> 34 | M46: =IF(ISERROR(出力前!M45),"",出力前!M45) | N46: =出力前!N45 -> 34 | O46: =出力前!O45 -> 22.686629 | P46: =IF(ISERROR(出力前!P45),"",出力前!P45) -> 0.37432735 | Q46: =IF(ISERROR(出力前!Q45),"",出力前!Q45) -> 22.150691 | R46: =IF(ISERROR(出力前!R45),"",IF(出力前!R45=0,"",出力前!R45)) -> 1625.6197 | S46: =IF(ISERROR(出力前!S45),"",IF(出力前!R45=0,"",出力前!S45)) -> 608.51392 | T46: =IF(ISERROR(出力前!T45),"",出力前!T45) -> 0.9448215 | U46: =IF(ISERROR(出力前!U45),"",出力前!U45) | V46: =IF(ISERROR(出力前!V45),"",出力前!V45) | W46: =IF(ISERROR(出力前!W45),"",出力前!W45) | X46: =IF(ISERROR(出力前!X45),"",出力前!X45) | Y46: =IF(ISERROR(出力前!Y45),"",出力前!Y45) | Z46: =IF(ISERROR(出力前!Z45),"",出力前!Z45) | AA46: =IF(ISERROR(出力前!AA45),"",出力前!AA45) | ... AI46: =IF(ISERROR(出力前!AI45),"",出力前!AI45) -> 90.376808
B47: 35 | C47: 14 | D47: 13 | F47: =G46 -> 68 | G47: =F47+$C$5 -> 70 | J47: =出力前!J46 -> 35 | M47: =IF(ISERROR(出力前!M46),"",出力前!M46) | N47: =出力前!N46 -> 35 | O47: =出力前!O46 -> 23.115122 | P47: =IF(ISERROR(出力前!P46),"",出力前!P46) -> 0.3943055 | Q47: =IF(ISERROR(出力前!Q46),"",出力前!Q46) -> 22.62529 | R47: =IF(ISERROR(出力前!R46),"",IF(出力前!R46=0,"",出力前!R46)) -> 1595.8311 | S47: =IF(ISERROR(出力前!S46),"",IF(出力前!R46=0,"",出力前!S46)) -> 629.24496 | T47: =IF(ISERROR(出力前!T46),"",出力前!T46) -> 0.95072813 | U47: =IF(ISERROR(出力前!U46),"",出力前!U46) | V47: =IF(ISERROR(出力前!V46),"",出力前!V46) | W47: =IF(ISERROR(出力前!W46),"",出力前!W46) | X47: =IF(ISERROR(出力前!X46),"",出力前!X46) | Y47: =IF(ISERROR(出力前!Y46),"",出力前!Y46) | Z47: =IF(ISERROR(出力前!Z46),"",出力前!Z46) | AA47: =IF(ISERROR(出力前!AA46),"",出力前!AA46) | ... AI47: =IF(ISERROR(出力前!AI46),"",出力前!AI46) -> 90.379669
B48: 36 | C48: 20 | D48: 12 | F48: =G47 -> 70 | G48: =F48+$C$5 -> 72 | J48: =出力前!J47 -> 36 | M48: =IF(ISERROR(出力前!M47),"",出力前!M47) | N48: =出力前!N47 -> 36 | O48: =出力前!O47 -> 23.525679 | P48: =IF(ISERROR(出力前!P47),"",出力前!P47) -> 0.41425726 | Q48: =IF(ISERROR(出力前!Q47),"",出力前!Q47) -> 23.088843 | R48: =IF(ISERROR(出力前!R47),"",IF(出力前!R47=0,"",出力前!R47)) -> 1567.1517 | S48: =IF(ISERROR(出力前!S47),"",IF(出力前!R47=0,"",出力前!S47)) -> 649.20398 | T48: =IF(ISERROR(出力前!T47),"",出力前!T47) -> 0.95604333 | U48: =IF(ISERROR(出力前!U47),"",出力前!U47) | V48: =IF(ISERROR(出力前!V47),"",出力前!V47) | W48: =IF(ISERROR(出力前!W47),"",出力前!W47) | X48: =IF(ISERROR(出力前!X47),"",出力前!X47) | Y48: =IF(ISERROR(出力前!Y47),"",出力前!Y47) | Z48: =IF(ISERROR(出力前!Z47),"",出力前!Z47) | AA48: =IF(ISERROR(出力前!AA47),"",出力前!AA47) | ... AI48: =IF(ISERROR(出力前!AI47),"",出力前!AI47) -> 90.352132
B49: 37 | C49: 18 | D49: 12 | F49: =G48 -> 72 | G49: =F49+$C$5 -> 74 | J49: =出力前!J48 -> 37 | M49: =IF(ISERROR(出力前!M48),"",出力前!M48) | N49: =出力前!N48 -> 37 | O49: =出力前!O48 -> 23.918871 | P49: =IF(ISERROR(出力前!P48),"",出力前!P48) -> 0.43414522 | Q49: =IF(ISERROR(出力前!Q48),"",出力前!Q48) -> 23.545082 | R49: =IF(ISERROR(出力前!R48),"",IF(出力前!R48=0,"",出力前!R48)) -> 1539.5719 | S49: =IF(ISERROR(出力前!S48),"",IF(出力前!R48=0,"",出力前!S48)) -> 668.39779 | T49: =IF(ISERROR(出力前!T48),"",出力前!T48) -> 0.96082649 | U49: =IF(ISERROR(出力前!U48),"",出力前!U48) | V49: =IF(ISERROR(出力前!V48),"",出力前!V48) | W49: =IF(ISERROR(出力前!W48),"",出力前!W48) | X49: =IF(ISERROR(出力前!X48),"",出力前!X48) | Y49: =IF(ISERROR(出力前!Y48),"",出力前!Y48) | Z49: =IF(ISERROR(出力前!Z48),"",出力前!Z48) | AA49: =IF(ISERROR(出力前!AA48),"",出力前!AA48) | ... AI49: =IF(ISERROR(出力前!AI48),"",出力前!AI48) -> 90.283491
B50: 38 | C50: 16 | D50: 12 | F50: =G49 -> 74 | G50: =F50+$C$5 -> 76 | J50: =出力前!J49 -> 38 | M50: =IF(ISERROR(出力前!M49),"",出力前!M49) -> 6 | N50: =出力前!N49 -> 38 | O50: =出力前!O49 -> 24.295274 | P50: =IF(ISERROR(出力前!P49),"",出力前!P49) -> 0.45393359 | Q50: =IF(ISERROR(出力前!Q49),"",出力前!Q49) -> 23.990473 | R50: =IF(ISERROR(出力前!R49),"",IF(出力前!R49=0,"",出力前!R49)) -> 1513.0771 | S50: =IF(ISERROR(出力前!S49),"",IF(出力前!R49=0,"",出力前!S49)) -> 686.83652 | T50: =IF(ISERROR(出力前!T49),"",出力前!T49) -> 0.96513065 | U50: =IF(ISERROR(出力前!U49),"",出力前!U49) | V50: =IF(ISERROR(出力前!V49),"",出力前!V49) | W50: =IF(ISERROR(出力前!W49),"",出力前!W49) | X50: =IF(ISERROR(出力前!X49),"",出力前!X49) | Y50: =IF(ISERROR(出力前!Y49),"",出力前!Y49) | Z50: =IF(ISERROR(出力前!Z49),"",出力前!Z49) | AA50: =IF(ISERROR(出力前!AA49),"",出力前!AA49) | ... AI50: =IF(ISERROR(出力前!AI49),"",出力前!AI49) -> 90.191182
... B81: 69 | C81: 6 | D81: 4 | F81: =G80 -> 136 | G81: =F81+$C$5 -> 138 | J81: =出力前!J80 -> 69 | M81: =IF(ISERROR(出力前!M80),"",出力前!M80) | N81: =出力前!N80 -> 69 | O81: =出力前!O80 -> 30.350727 | P81: =IF(ISERROR(出力前!P80),"",出力前!P80) -> 0.90929999 | Q81: =IF(ISERROR(出力前!Q80),"",出力前!Q80) -> 32.02952 | R81: =IF(ISERROR(出力前!R80),"",IF(出力前!R80=0,"",出力前!R80)) -> 1083.8543 | S81: =IF(ISERROR(出力前!S80),"",IF(出力前!R80=0,"",出力前!S80)) -> 985.54872 | T81: =IF(ISERROR(出力前!T80),"",出力前!T80) -> 1.0011065 | U81: =IF(ISERROR(出力前!U80),"",出力前!U80) | V81: =IF(ISERROR(出力前!V80),"",出力前!V80) | W81: =IF(ISERROR(出力前!W80),"",出力前!W80) | X81: =IF(ISERROR(出力前!X80),"",出力前!X80) | Y81: =IF(ISERROR(出力前!Y80),"",出力前!Y80) | Z81: =IF(ISERROR(出力前!Z80),"",出力前!Z80) | AA81: =IF(ISERROR(出力前!AA80),"",出力前!AA80) | ... AI81: =IF(ISERROR(出力前!AI80),"",出力前!AI80) -> 86.959217
B82: 70 | F82: =G81 -> 138 | G82: =F82+$C$5 -> 140 | J82: =出力前!J81 -> 70 | M82: =IF(ISERROR(出力前!M81),"",出力前!M81) | N82: =出力前!N81 -> 70 | O82: =出力前!O81 -> 30.433257 | P82: =IF(ISERROR(出力前!P81),"",出力前!P81) -> 0.91787419 | Q82: =IF(ISERROR(出力前!Q81),"",出力前!Q81) -> 32.158428 | R82: =IF(ISERROR(出力前!R81),"",IF(出力前!R81=0,"",出力前!R81)) -> 1078.0958 | S82: =IF(ISERROR(出力前!S81),"",IF(出力前!R81=0,"",出力前!S81)) -> 989.55629 | T82: =IF(ISERROR(出力前!T81),"",出力前!T81) -> 1.0011935 | U82: =IF(ISERROR(出力前!U81),"",出力前!U81) | V82: =IF(ISERROR(出力前!V81),"",出力前!V81) | W82: =IF(ISERROR(出力前!W81),"",出力前!W81) | X82: =IF(ISERROR(出力前!X81),"",出力前!X81) | Y82: =IF(ISERROR(出力前!Y81),"",出力前!Y81) | Z82: =IF(ISERROR(出力前!Z81),"",出力前!Z81) | AA82: =IF(ISERROR(出力前!AA81),"",出力前!AA81) | ... AI82: =IF(ISERROR(出力前!AI81),"",出力前!AI81) -> 86.877918
B83: 71 | F83: =G82 -> 140 | G83: =F83+$C$5 -> 142 | J83: =出力前!J82 -> 71 | M83: =IF(ISERROR(出力前!M82),"",出力前!M82) | N83: =出力前!N82 -> 71 | O83: =出力前!O82 -> 30.511811 | P83: =IF(ISERROR(出力前!P82),"",出力前!P82) -> 0.92611209 | Q83: =IF(ISERROR(出力前!Q82),"",出力前!Q82) -> 32.283777 | R83: =IF(ISERROR(出力前!R82),"",IF(出力前!R82=0,"",出力前!R82)) -> 1072.6205 | S83: =IF(ISERROR(出力前!S82),"",IF(出力前!R82=0,"",出力前!S82)) -> 993.36678 | T83: =IF(ISERROR(出力前!T82),"",出力前!T82) -> 1.0012666 | U83: =IF(ISERROR(出力前!U82),"",出力前!U82) | V83: =IF(ISERROR(出力前!V82),"",出力前!V82) | W83: =IF(ISERROR(出力前!W82),"",出力前!W82) | X83: =IF(ISERROR(出力前!X82),"",出力前!X82) | Y83: =IF(ISERROR(出力前!Y82),"",出力前!Y82) | Z83: =IF(ISERROR(出力前!Z82),"",出力前!Z82) | AA83: =IF(ISERROR(出力前!AA82),"",出力前!AA82) | ... AI83: =IF(ISERROR(出力前!AI82),"",出力前!AI82) -> 86.794101
B84: 72 | F84: =G83 -> 142 | G84: =F84+$C$5 -> 144 | J84: =出力前!J83 -> 72 | M84: =IF(ISERROR(出力前!M83),"",出力前!M83) | N84: =出力前!N83 -> 72 | O84: =出力前!O83 -> 30.586576 | P84: =IF(ISERROR(出力前!P83),"",出力前!P83) -> 0.93402298 | Q84: =IF(ISERROR(出力前!Q83),"",出力前!Q83) -> 32.404482 | R84: =IF(ISERROR(出力前!R83),"",IF(出力前!R83=0,"",出力前!R83)) -> 1067.4146 | S84: =IF(ISERROR(出力前!S83),"",IF(出力前!R83=0,"",出力前!S83)) -> 996.98974 | T84: =IF(ISERROR(出力前!T83),"",出力前!T83) -> 1.0013274 | U84: =IF(ISERROR(出力前!U83),"",出力前!U83) | V84: =IF(ISERROR(出力前!V83),"",出力前!V83) | W84: =IF(ISERROR(出力前!W83),"",出力前!W83) | X84: =IF(ISERROR(出力前!X83),"",出力前!X83) | Y84: =IF(ISERROR(出力前!Y83),"",出力前!Y83) | Z84: =IF(ISERROR(出力前!Z83),"",出力前!Z83) | AA84: =IF(ISERROR(出力前!AA83),"",出力前!AA83) | ... AI84: =IF(ISERROR(出力前!AI83),"",出力前!AI83) -> 86.711255
B85: 73 | F85: =G84 -> 144 | G85: =F85+$C$5 -> 146 | J85: =出力前!J84 -> 73 | M85: =IF(ISERROR(出力前!M84),"",出力前!M84) | N85: =出力前!N84 -> 73 | O85: =出力前!O84 -> 30.65773 | P85: =IF(ISERROR(出力前!P84),"",出力前!P84) -> 0.94161624 | Q85: =IF(ISERROR(出力前!Q84),"",出力前!Q84) -> 32.516541 | R85: =IF(ISERROR(出力前!R84),"",IF(出力前!R84=0,"",出力前!R84)) -> 1062.465 | S85: =IF(ISERROR(出力前!S84),"",IF(出力前!R84=0,"",出力前!S84)) -> 1000.4343 | T85: =IF(ISERROR(出力前!T84),"",出力前!T84) -> 1.0013773 | U85: =IF(ISERROR(出力前!U84),"",出力前!U84) | V85: =IF(ISERROR(出力前!V84),"",出力前!V84) | W85: =IF(ISERROR(出力前!W84),"",出力前!W84) | X85: =IF(ISERROR(出力前!X84),"",出力前!X84) | Y85: =IF(ISERROR(出力前!Y84),"",出力前!Y84) | Z85: =IF(ISERROR(出力前!Z84),"",出力前!Z84) | AA85: =IF(ISERROR(出力前!AA84),"",出力前!AA84) | ... AI85: =IF(ISERROR(出力前!AI84),"",出力前!AI84) -> 86.640559
B86: 74 | F86: =G85 -> 146 | G86: =F86+$C$5 -> 148 | J86: =出力前!J85 -> 74 | M86: =IF(ISERROR(出力前!M85),"",出力前!M85) | N86: =出力前!N85 -> 74 | O86: =出力前!O85 -> 30.725445 | P86: =IF(ISERROR(出力前!P85),"",出力前!P85) -> 0.94890134 | Q86: =IF(ISERROR(出力前!Q85),"",出力前!Q85) -> 32.620036 | R86: =IF(ISERROR(出力前!R85),"",IF(出力前!R85=0,"",出力前!R85)) -> 1057.7593 | S86: =IF(ISERROR(出力前!S85),"",IF(出力前!R85=0,"",出力前!S85)) -> 1003.7092 | T86: =IF(ISERROR(出力前!T85),"",出力前!T85) -> 1.0014177 | U86: =IF(ISERROR(出力前!U85),"",出力前!U85) | V86: =IF(ISERROR(出力前!V85),"",出力前!V85) | W86: =IF(ISERROR(出力前!W85),"",出力前!W85) | X86: =IF(ISERROR(出力前!X85),"",出力前!X85) | Y86: =IF(ISERROR(出力前!Y85),"",出力前!Y85) | Z86: =IF(ISERROR(出力前!Z85),"",出力前!Z85) | AA86: =IF(ISERROR(出力前!AA85),"",出力前!AA85) | ... AI86: =IF(ISERROR(出力前!AI85),"",出力前!AI85) -> 86.582154
B87: 75 | F87: =G86 -> 148 | G87: =F87+$C$5 -> 150 | J87: =出力前!J86 -> 75 | M87: =IF(ISERROR(出力前!M86),"",出力前!M86) | N87: =出力前!N86 -> 75 | O87: =出力前!O86 -> 30.789883 | P87: =IF(ISERROR(出力前!P86),"",出力前!P86) -> 0.95588777 | Q87: =IF(ISERROR(出力前!Q86),"",出力前!Q86) -> 32.719254 | R87: =IF(ISERROR(出力前!R86),"",IF(出力前!R86=0,"",出力前!R86)) -> 1053.2855 | S87: =IF(ISERROR(出力前!S86),"",IF(出力前!R86=0,"",出力前!S86)) -> 1006.8227 | T87: =IF(ISERROR(出力前!T86),"",出力前!T86) -> 1.0014496 | U87: =IF(ISERROR(出力前!U86),"",出力前!U86) | V87: =IF(ISERROR(出力前!V86),"",出力前!V86) | W87: =IF(ISERROR(出力前!W86),"",出力前!W86) | X87: =IF(ISERROR(出力前!X86),"",出力前!X86) | Y87: =IF(ISERROR(出力前!Y86),"",出力前!Y86) | Z87: =IF(ISERROR(出力前!Z86),"",出力前!Z86) | AA87: =IF(ISERROR(出力前!AA86),"",出力前!AA86) | ... AI87: =IF(ISERROR(出力前!AI86),"",出力前!AI86) -> 86.525042
B88: 76 | F88: =G87 -> 150 | G88: =F88+$C$5 -> 152 | J88: =出力前!J87 -> 76 | M88: =IF(ISERROR(出力前!M87),"",出力前!M87) | N88: =出力前!N87 -> 76 | O88: =出力前!O87 -> 30.8512 | P88: =IF(ISERROR(出力前!P87),"",出力前!P87) -> 0.96258502 | Q88: =IF(ISERROR(出力前!Q87),"",出力前!Q87) -> 32.814291 | R88: =IF(ISERROR(出力前!R87),"",IF(出力前!R87=0,"",出力前!R87)) -> 1049.0322 | S88: =IF(ISERROR(出力前!S87),"",IF(出力前!R87=0,"",出力前!S87)) -> 1009.7827 | T88: =IF(ISERROR(出力前!T87),"",出力前!T87) -> 1.0014741 | U88: =IF(ISERROR(出力前!U87),"",出力前!U87) | V88: =IF(ISERROR(出力前!V87),"",出力前!V87) | W88: =IF(ISERROR(出力前!W87),"",出力前!W87) | X88: =IF(ISERROR(出力前!X87),"",出力前!X87) | Y88: =IF(ISERROR(出力前!Y87),"",出力前!Y87) | Z88: =IF(ISERROR(出力前!Z87),"",出力前!Z87) | AA88: =IF(ISERROR(出力前!AA87),"",出力前!AA87) | ... AI88: =IF(ISERROR(出力前!AI87),"",出力前!AI87) -> 86.469426
B89: 77 | F89: =G88 -> 152 | G89: =F89+$C$5 -> 154 | J89: =出力前!J88 -> 77 | M89: =IF(ISERROR(出力前!M88),"",出力前!M88) | N89: =出力前!N88 -> 77 | O89: =出力前!O88 -> 30.909546 | P89: =IF(ISERROR(出力前!P88),"",出力前!P88) -> 0.96900254 | Q89: =IF(ISERROR(出力前!Q88),"",出力前!Q88) -> 32.905259 | R89: =IF(ISERROR(出力前!R88),"",IF(出力前!R88=0,"",出力前!R88)) -> 1044.9887 | S89: =IF(ISERROR(出力前!S88),"",IF(出力前!R88=0,"",出力前!S88)) -> 1012.5967 | T89: =IF(ISERROR(出力前!T88),"",出力前!T88) -> 1.0014922 | U89: =IF(ISERROR(出力前!U88),"",出力前!U88) | V89: =IF(ISERROR(出力前!V88),"",出力前!V88) | W89: =IF(ISERROR(出力前!W88),"",出力前!W88) | X89: =IF(ISERROR(出力前!X88),"",出力前!X88) | Y89: =IF(ISERROR(出力前!Y88),"",出力前!Y88) | Z89: =IF(ISERROR(出力前!Z88),"",出力前!Z88) | AA89: =IF(ISERROR(出力前!AA88),"",出力前!AA88) | ... AI89: =IF(ISERROR(出力前!AI88),"",出力前!AI88) -> 86.415442
B90: 78 | F90: =G89 -> 154 | G90: =F90+$C$5 -> 156 | J90: =出力前!J89 -> 78 | M90: =IF(ISERROR(出力前!M89),"",出力前!M89) | N90: =出力前!N89 -> 78 | O90: =出力前!O89 -> 30.965061 | P90: =IF(ISERROR(出力前!P89),"",出力前!P89) -> 0.97514971 | Q90: =IF(ISERROR(出力前!Q89),"",出力前!Q89) -> 32.99228 | R90: =IF(ISERROR(出力前!R89),"",IF(出力前!R89=0,"",出力前!R89)) -> 1041.1447 | S90: =IF(ISERROR(出力前!S89),"",IF(出力前!R89=0,"",出力前!S89)) -> 1015.2719 | T90: =IF(ISERROR(出力前!T89),"",出力前!T89) -> 1.0015045 | U90: =IF(ISERROR(出力前!U89),"",出力前!U89) | V90: =IF(ISERROR(出力前!V89),"",出力前!V89) | W90: =IF(ISERROR(出力前!W89),"",出力前!W89) | X90: =IF(ISERROR(出力前!X89),"",出力前!X89) | Y90: =IF(ISERROR(出力前!Y89),"",出力前!Y89) | Z90: =IF(ISERROR(出力前!Z89),"",出力前!Z89) | AA90: =IF(ISERROR(出力前!AA89),"",出力前!AA89) | ... AI90: =IF(ISERROR(出力前!AI89),"",出力前!AI89) -> 86.363177
B91: 79 | F91: =G90 -> 156 | G91: =F91+$C$5 -> 158 | J91: =出力前!J90 -> 79 | M91: =IF(ISERROR(出力前!M90),"",出力前!M90) | N91: =出力前!N90 -> 79 | O91: =出力前!O90 -> 31.017881 | P91: =IF(ISERROR(出力前!P90),"",出力前!P90) -> 0.98103582 | Q91: =IF(ISERROR(出力前!Q90),"",出力前!Q90) -> 33.075482 | R91: =IF(ISERROR(出力前!R90),"",IF(出力前!R90=0,"",出力前!R90)) -> 1037.4903 | S91: =IF(ISERROR(出力前!S90),"",IF(出力前!R90=0,"",出力前!S90)) -> 1017.8152 | T91: =IF(ISERROR(出力前!T90),"",出力前!T90) -> 1.0015119 | U91: =IF(ISERROR(出力前!U90),"",出力前!U90) | V91: =IF(ISERROR(出力前!V90),"",出力前!V90) | W91: =IF(ISERROR(出力前!W90),"",出力前!W90) | X91: =IF(ISERROR(出力前!X90),"",出力前!X90) | Y91: =IF(ISERROR(出力前!Y90),"",出力前!Y90) | Z91: =IF(ISERROR(出力前!Z90),"",出力前!Z90) | AA91: =IF(ISERROR(出力前!AA90),"",出力前!AA90) | ... AI91: =IF(ISERROR(出力前!AI90),"",出力前!AI90) -> 86.312683
B92: 80 | F92: =G91 -> 158 | G92: =F92+$C$5 -> 160 | J92: =出力前!J91 -> 80 | M92: =IF(ISERROR(出力前!M91),"",出力前!M91) | N92: =出力前!N91 -> 80 | O92: =出力前!O91 -> 31.068134 | P92: =IF(ISERROR(出力前!P91),"",出力前!P91) -> 0.98667004 | Q92: =IF(ISERROR(出力前!Q91),"",出力前!Q91) -> 33.154998 | R92: =IF(ISERROR(出力前!R91),"",IF(出力前!R91=0,"",出力前!R91)) -> 1034.0163 | S92: =IF(ISERROR(出力前!S91),"",IF(出力前!R91=0,"",出力前!S91)) -> 1020.2329 | T92: =IF(ISERROR(出力前!T91),"",出力前!T91) -> 1.001515 | U92: =IF(ISERROR(出力前!U91),"",出力前!U91) | V92: =IF(ISERROR(出力前!V91),"",出力前!V91) | W92: =IF(ISERROR(出力前!W91),"",出力前!W91) | X92: =IF(ISERROR(出力前!X91),"",出力前!X91) | Y92: =IF(ISERROR(出力前!Y91),"",出力前!Y91) | Z92: =IF(ISERROR(出力前!Z91),"",出力前!Z91) | AA92: =IF(ISERROR(出力前!AA91),"",出力前!AA91) | ... AI92: =IF(ISERROR(出力前!AI91),"",出力前!AI91) -> 86.263987
B93: 81 | F93: =G92 -> 160 | G93: =F93+$C$5 -> 162
B94: 82 | F94: =G93 -> 162 | G94: =F94+$C$5 -> 164
B95: 83 | F95: =G94 -> 164 | G95: =F95+$C$5 -> 166
B96: 84 | F96: =G95 -> 166 | G96: =F96+$C$5 -> 168
B97: 85 | F97: =G96 -> 168 | G97: =F97+$C$5 -> 170
B98: 86 | F98: =G97 -> 170 | G98: =F98+$C$5 -> 172
B99: 87 | F99: =G98 -> 172 | G99: =F99+$C$5 -> 174
B100: 88 | F100: =G99 -> 174 | G100: =F100+$C$5 -> 176
B101: 89 | F101: =G100 -> 176 | G101: =F101+$C$5 -> 178
B102: 90 | F102: =G101 -> 178 | G102: =F102+$C$5 -> 180
B103: 91 | F103: =G102 -> 180 | G103: =F103+$C$5 -> 182
B104: 92 | F104: =G103 -> 182 | G104: =F104+$C$5 -> 184
... B112: 100 | F112: =G111 -> 198 | G112: =F112+$C$5 -> 200
B113: 101
B114: 102
B115: 103
B116: 104
B117: 105
B118: 106
B119: 107
B120: 108
B121: 109
B122: 110
B123: 111
B124: 112
... B312: 300

Sheet 出力前
B1: 立木データ | F1: 林分データ | J1: 間伐データ
B2: 胸高直径 | C2: ='1.収穫を予測する'!C2 -> なし | F2: 調査地名 | G2: ='1.収穫を予測する'!G2:H2 -> 椴松 太郎 | J2: 最初の間伐年 | K2: ='inv2.計算シート'!B4 -> 0 | L2: 年 | O2: ※ 地位指数（林齢40年生時の平均上層樹高）は，特等地・I等地 ，II等地 ，III等地 を目安として選択してください | AE2: meanH( coef( resLog.t ) )
B3: 樹高 | C3: ='1.収穫を予測する'!C3 -> なし | F3: 地位指数 | G3: ='1.収穫を予測する'!G3 -> 25 | J3: 間伐回数 | K3: ='inv2.計算シート'!BZ23 -> 0 | L3: 回 | O3: ※ 対象林分の地位指数，植栽本数が不明の場合は，地域の標準的な値を選択してください | AE3: coef a | AF3: 1.1346737
B4: 入力方法 | C4: ='1.収穫を予測する'!C4 -> 入力方法1 | F4: 植栽本数 | G4: ='1.収穫を予測する'!G4 -> 2500 | H4: 本/ha | J4: 主伐年 | K4: ='inv2.計算シート'!BY1 -> 0 | L4: 年 | AE4: coef b | AF4: -0.5455106
B5: 直径階cm | C5: ='1.収穫を予測する'!C5 -> 2 | F5: 林齢 | G5: ='1.収穫を予測する'!G5 -> 32 | H5: 年
F6: 調査面積 | G6: ='1.収穫を予測する'!G6 -> 0.02 | H6: ha | T6: 地位指数 | U6: =G3 -> 25 | X6: 植栽本数 | Y6: =G4 -> 2500 | Z6: 本/ha
P7: 1.2 収穫予測
P8: 主副林木（間伐前） | U8: 主林木（間伐後） | X8: 副林木 | AC8: 総収穫 | AE8: 幹材積連年成長量 | AF8: 幹材積年平均成長量 | AI8: 形状比
B9: 入力方法1 | F9: 入力方法2 | J9: 1.1 間伐スケジュール | P9: 平均 | R9: /ha | U9: /ha | X9: /ha | AC9: /ha | AE9: /ha | AF9: /ha
B10: 立木 | C10: 胸高直径 | D10: 樹高 | F10: 胸高直径階 | H10: 立木 | J10: 林齢 | K10: 本数 間伐率 | M10: 推奨 間伐回 | N10: 林齢 | O10: 上層高 | P10: 幹材積 | Q10: 胸高 直径 | R10: 立木 本数 | S10: 幹材積 | T10: 収量 比数 | U10: 立木 本数 | V10: 幹材積 | W10: 収量 比数 | X10: 立木 本数 | Y10: 本数 比率 | Z10: 幹材積 | AA10: 材積 比率 | AB10: 胸高 直径 | AC10: 副林木 材積 | AD10: 主副林木 材積 | AE10: 主副合計 | AF10: 主林木 | AG10: 主副 合計 | AH10: 総収量
B11: No. | C11: cm | D11: m | F11: cm以上 | G11: cm未満 | H11: 本数 | J11: 年 | K11: 全層 | N11: 年 | O11: m | P11: m3 | Q11: cm | R11: 本 | S11: m3 | U11: 本 | V11: m3 | X11: 本 | Y11: % | Z11: m3 | AA11: % | AB11: cm | AC11: m3 | AD11: m3 | AE11: m3 | AF11: m3 | AG11: m3 | AH11: m3
B12: 1 | C12: ='1.収穫を予測する'!C13 -> 24 | D12: ='1.収穫を予測する'!D13 -> 15 | F12: 0 | G12: =F12+$C$5 -> 2 | H12: ='1.収穫を予測する'!H13 -> 0 | J12: =IF(OR($C$2="あり",$C$3="あり"),入力方法別計算!W2,'inv2.計算シート'!E2) -> 1 | K12: =IF('1.収穫を予測する'!K13="","",'1.収穫を予測する'!K13) | M12: =IF(J12>80,"",IF(OR($C$2="あり",$C$3="あり"),IF(入力方法別計算!AP2=0,"",入力方法別計算!AP2),IF('inv2.計算シート'!BV2=0,"",'inv2.計算シート'!BV2))) | N12: =J12 -> 1 | O12: =IF(J12>80,"",IF(OR($C$2="あり",$C$3="あり"),入力方法別計算!X2,'inv2.計算シート'!AC2)) -> 0.16734066 | P12: =IF(J12>80,"",IF(OR($C$2="あり",$C$3="あり"),入力方法別計算!AR2,'inv2.計算シート'!AO2)) -> 3.4679082e-08 | Q12: =IF('1.収穫を予測する'!C2="あり",入力方法別計算!U7,'inv3.直径階分布'!HK7) -> 0 | R12: =IF(J12>80,"",IF(OR($C$2="あり",$C$3="あり"),入力方法別計算!Y2,'inv2.計算シート'!AE2)) -> 2500.0026 | S12: =IF(J12>80,"",IF(OR($C$2="あり",$C$3="あり"),入力方法別計算!Z2,'inv2.計算シート'!AD2)) -> 8.6697793e-05 | T12: =IF(J12>80,"",IF(OR($C$2="あり",$C$3="あり"),入力方法別計算!AJ2,'inv2.計算シート'!AH2)) -> 5.1279424e-05 | U12: =IF(K12="","",IF(OR($C$2="あり",$C$3="あり"),入力方法別計算!AC2,'inv2.計算シート'!AK2)) | V12: =IF(K12="","",IF(OR($C$2="あり",$C$3="あり"),入力方法別計算!AD2,'inv2.計算シート'!AJ2)) | W12: =IF(K12="","",IF(OR($C$2="あり",$C$3="あり"),入力方法別計算!AK2,'inv2.計算シート'!AN2)) | X12: =IF(K12="","",IF(OR($C$2="あり",$C$3="あり"),入力方法別計算!AE2,'inv2.計算シート'!AM2)) | Y12: =IF(K12="","",IF(OR($C$2="あり",$C$3="あり"),入力方法別計算!AA2/0.01,'inv2.計算シート'!AF2/0.01)) | Z12: =IF(K12="","",IF(OR($C$2="あり",$C$3="あり"),入力方法別計算!AF2,'inv2.計算シート'!AL2)) | AA12: =IF(K12="","",IF(OR($C$2="あり",$C$3="あり"),入力方法別計算!AF2/入力方法別計算!Z2*100,'inv2.計算シート'!AL2/'inv2.計算シート'!AD2*100)) | AB12: =IF(K12="","",'inv3.直径階分布'!HK7) | AC12: =IF(K12="","",IF(OR($C$2="あり",$C$3="あり"),入力方法別計算!AU2,'inv2.計算シート'!AW2)) | AD12: =IF(OR($C$2="あり",$C$3="あり"),入力方法別計算!AV2,'inv2.計算シート'!AX2) -> 8.6697793e-05 | AE12: =IF(OR($C$2="あり",$C$3="あり"),入力方法別計算!AW2,'inv2.計算シート'!AY2) -> 0.0053064777 | AF12: =IF($K12="","",IF(OR($C$2="あり",$C$3="あり"),入力方法別計算!AX2,'inv2.計算シート'!AZ2)) | AG12: =IF($K12="","",IF(OR($C$2="あり",$C$3="あり"),入力方法別計算!AY2,'inv2.計算シート'!BA2)) | AH12: =IF(OR($C$2="あり",$C$3="あり"),入力方法別計算!AZ2,'inv2.計算シート'!BB2) -> 8.6697793e-05 | AI12: =IF(N12>80,"",(EXP($AF$4)*O12^$AF$3)/Q12*100) -> #DIV/0!
B13: 2 | C13: ='1.収穫を予測する'!C14 -> 24 | D13: ='1.収穫を予測する'!D14 -> 15 | F13: =G12 -> 2 | G13: =F13+$C$5 -> 4 | H13: ='1.収穫を予測する'!H14 -> 1 | J13: =IF(OR($C$2="あり",$C$3="あり"),入力方法別計算!W3,'inv2.計算シート'!E3) -> 2 | K13: =IF('1.収穫を予測する'!K14="","",'1.収穫を予測する'!K14) | M13: =IF(J13>80,"",IF(OR($C$2="あり",$C$3="あり"),IF(入力方法別計算!AP3=0,"",入力方法別計算!AP3),IF('inv2.計算シート'!BV3=0,"",'inv2.計算シート'!BV3))) | N13: =J13 -> 2 | O13: =IF(J13>80,"",IF(OR($C$2="あり",$C$3="あり"),入力方法別計算!X3,'inv2.計算シート'!AC3)) -> 0.53717628 | P13: =IF(J13>80,"",IF(OR($C$2="あり",$C$3="あり"),入力方法別計算!AR3,'inv2.計算シート'!AO3)) -> 2.1572769e-06 | Q13: =IF(Q$12>'inv3.直径階分布'!HK8,Q$12,'inv3.直径階分布'!HK8) -> 0 | R13: =IF(J13>80,"",IF(OR($C$2="あり",$C$3="あり"),入力方法別計算!Y3,'inv2.計算シート'!AE3)) -> 2499.9923 | S13: =IF(J13>80,"",IF(OR($C$2="あり",$C$3="あり"),入力方法別計算!Z3,'inv2.計算シート'!AD3)) -> 0.0053931755 | T13: =IF(J13>80,"",IF(OR($C$2="あり",$C$3="あり"),入力方法別計算!AJ3,'inv2.計算シート'!AH3)) -> 0.00087776796 | U13: =IF(K13="","",IF(OR($C$2="あり",$C$3="あり"),入力方法別計算!AC3,'inv2.計算シート'!AK3)) | V13: =IF(K13="","",IF(OR($C$2="あり",$C$3="あり"),入力方法別計算!AD3,'inv2.計算シート'!AJ3)) | W13: =IF(K13="","",IF(OR($C$2="あり",$C$3="あり"),入力方法別計算!AK3,'inv2.計算シート'!AN3)) | X13: =IF(K13="","",IF(OR($C$2="あり",$C$3="あり"),入力方法別計算!AE3,'inv2.計算シート'!AM3)) | Y13: =IF(K13="","",IF(OR($C$2="あり",$C$3="あり"),入力方法別計算!AA3/0.01,'inv2.計算シート'!AF3/0.01)) | Z13: =IF(K13="","",IF(OR($C$2="あり",$C$3="あり"),入力方法別計算!AF3,'inv2.計算シート'!AL3)) | AA13: =IF(K13="","",IF(OR($C$2="あり",$C$3="あり"),入力方法別計算!AF3/入力方法別計算!Z3*100,'inv2.計算シート'!AL3/'inv2.計算シート'!AD3*100)) | AB13: =IF(K13="","",'inv3.直径階分布'!HK8) | AC13: =IF(K13="","",IF(OR($C$2="あり",$C$3="あり"),入力方法別計算!AU3,'inv2.計算シート'!AW3)) | AD13: =IF(OR($C$2="あり",$C$3="あり"),入力方法別計算!AV3,'inv2.計算シート'!AX3) -> 0.0053931755 | AE13: =IF(OR($C$2="あり",$C$3="あり"),入力方法別計算!AW3,'inv2.計算シート'!AY3) -> 0.051148624 | AF13: =IF($K13="","",IF(OR($C$2="あり",$C$3="あり"),入力方法別計算!AX3,'inv2.計算シート'!AZ3)) | AG13: =IF($K13="","",IF(OR($C$2="あり",$C$3="あり"),入力方法別計算!AY3,'inv2.計算シート'!BA3)) | AH13: =IF(OR($C$2="あり",$C$3="あり"),入力方法別計算!AZ3,'inv2.計算シート'!BB3) -> 0.0026965877 | AI13: =IF(N13>80,"",(EXP($AF$4)*O13^$AF$3)/Q13*100) -> #DIV/0!
B14: 3 | C14: ='1.収穫を予測する'!C15 -> 24 | D14: ='1.収穫を予測する'!D15 -> 15 | F14: =G13 -> 4 | G14: =F14+$C$5 -> 6 | H14: ='1.収穫を予測する'!H15 -> 2 | J14: =IF(OR($C$2="あり",$C$3="あり"),入力方法別計算!W4,'inv2.計算シート'!E4) -> 3 | K14: =IF('1.収穫を予測する'!K15="","",'1.収穫を予測する'!K15) | M14: =IF(J14>80,"",IF(OR($C$2="あり",$C$3="あり"),IF(入力方法別計算!AP4=0,"",入力方法別計算!AP4),IF('inv2.計算シート'!BV4=0,"",'inv2.計算シート'!BV4))) | N14: =J14 -> 3 | O14: =IF(J14>80,"",IF(OR($C$2="あり",$C$3="あり"),入力方法別計算!X4,'inv2.計算シート'!AC4)) -> 1.0440624 | P14: =IF(J14>80,"",IF(OR($C$2="あり",$C$3="あり"),入力方法別計算!AR4,'inv2.計算シート'!AO4)) -> 2.2617455e-05 | Q14: =IF(Q$12>'inv3.直径階分布'!HK9,Q$12,'inv3.直径階分布'!HK9) -> 0 | R14: =IF(J14>80,"",IF(OR($C$2="あり",$C$3="あり"),入力方法別計算!Y4,'inv2.計算シート'!AE4)) -> 2499.9188 | S14: =IF(J14>80,"",IF(OR($C$2="あり",$C$3="あり"),入力方法別計算!Z4,'inv2.計算シート'!AD4)) -> 0.056541799 | T14: =IF(J14>80,"",IF(OR($C$2="あり",$C$3="あり"),入力方法別計算!AJ4,'inv2.計算シート'!AH4)) -> 0.0044086008 | U14: =IF(K14="","",IF(OR($C$2="あり",$C$3="あり"),入力方法別計算!AC4,'inv2.計算シート'!AK4)) | V14: =IF(K14="","",IF(OR($C$2="あり",$C$3="あり"),入力方法別計算!AD4,'inv2.計算シート'!AJ4)) | W14: =IF(K14="","",IF(OR($C$2="あり",$C$3="あり"),入力方法別計算!AK4,'inv2.計算シート'!AN4)) | X14: =IF(K14="","",IF(OR($C$2="あり",$C$3="あり"),入力方法別計算!AE4,'inv2.計算シート'!AM4)) | Y14: =IF(K14="","",IF(OR($C$2="あり",$C$3="あり"),入力方法別計算!AA4/0.01,'inv2.計算シート'!AF4/0.01)) | Z14: =IF(K14="","",IF(OR($C$2="あり",$C$3="あり"),入力方法別計算!AF4,'inv2.計算シート'!AL4)) | AA14: =IF(K14="","",IF(OR($C$2="あり",$C$3="あり"),入力方法別計算!AF4/入力方法別計算!Z4*100,'inv2.計算シート'!AL4/'inv2.計算シート'!AD4*100)) | AB14: =IF(K14="","",'inv3.直径階分布'!HK9) | AC14: =IF(K14="","",IF(OR($C$2="あり",$C$3="あり"),入力方法別計算!AU4,'inv2.計算シート'!AW4)) | AD14: =IF(OR($C$2="あり",$C$3="あり"),入力方法別計算!AV4,'inv2.計算シート'!AX4) -> 0.056541799 | AE14: =IF(OR($C$2="あり",$C$3="あり"),入力方法別計算!AW4,'inv2.計算シート'!AY4) -> 0.22854541 | AF14: =IF($K14="","",IF(OR($C$2="あり",$C$3="あり"),入力方法別計算!AX4,'inv2.計算シート'!AZ4)) | AG14: =IF($K14="","",IF(OR($C$2="あり",$C$3="あり"),入力方法別計算!AY4,'inv2.計算シート'!BA4)) | AH14: =IF(OR($C$2="あり",$C$3="あり"),入力方法別計算!AZ4,'inv2.計算シート'!BB4) -> 0.018847266 | AI14: =IF(N14>80,"",(EXP($AF$4)*O14^$AF$3)/Q14*100) -> #DIV/0!
B15: 4 | C15: ='1.収穫を予測する'!C16 -> 22 | D15: ='1.収穫を予測する'!D16 -> 15 | F15: =G14 -> 6 | G15: =F15+$C$5 -> 8 | H15: ='1.収穫を予測する'!H16 -> 4 | J15: =IF(OR($C$2="あり",$C$3="あり"),入力方法別計算!W5,'inv2.計算シート'!E5) -> 4 | K15: =IF('1.収穫を予測する'!K16="","",'1.収穫を予測する'!K16) | M15: =IF(J15>80,"",IF(OR($C$2="あり",$C$3="あり"),IF(入力方法別計算!AP5=0,"",入力方法別計算!AP5),IF('inv2.計算シート'!BV5=0,"",'inv2.計算シート'!BV5))) | N15: =J15 -> 4 | O15: =IF(J15>80,"",IF(OR($C$2="あり",$C$3="あり"),入力方法別計算!X5,'inv2.計算シート'!AC5)) -> 1.6527808 | P15: =IF(J15>80,"",IF(OR($C$2="あり",$C$3="あり"),入力方法別計算!AR5,'inv2.計算シート'!AO5)) -> 0.00011405357 | Q15: =IF(Q$12>'inv3.直径階分布'!HK10,Q$12,'inv3.直径階分布'!HK10) -> 0 | R15: =IF(J15>80,"",IF(OR($C$2="あり",$C$3="あり"),入力方法別計算!Y5,'inv2.計算シート'!AE5)) -> 2499.5904 | S15: =IF(J15>80,"",IF(OR($C$2="あり",$C$3="あり"),入力方法別計算!Z5,'inv2.計算シート'!AD5)) -> 0.28508721 | T15: =IF(J15>80,"",IF(OR($C$2="あり",$C$3="あり"),入力方法別計算!AJ5,'inv2.計算シート'!AH5)) -> 0.01334055 | U15: =IF(K15="","",IF(OR($C$2="あり",$C$3="あり"),入力方法別計算!AC5,'inv2.計算シート'!AK5)) | V15: =IF(K15="","",IF(OR($C$2="あり",$C$3="あり"),入力方法別計算!AD5,'inv2.計算シート'!AJ5)) | W15: =IF(K15="","",IF(OR($C$2="あり",$C$3="あり"),入力方法別計算!AK5,'inv2.計算シート'!AN5)) | X15: =IF(K15="","",IF(OR($C$2="あり",$C$3="あり"),入力方法別計算!AE5,'inv2.計算シート'!AM5)) | Y15: =IF(K15="","",IF(OR($C$2="あり",$C$3="あり"),入力方法別計算!AA5/0.01,'inv2.計算シート'!AF5/0.01)) | Z15: =IF(K15="","",IF(OR($C$2="あり",$C$3="あり"),入力方法別計算!AF5,'inv2.計算シート'!AL5)) | AA15: =IF(K15="","",IF(OR($C$2="あり",$C$3="あり"),入力方法別計算!AF5/入力方法別計算!Z5*100,'inv2.計算シート'!AL5/'inv2.計算シート'!AD5*100)) | AB15: =IF(K15="","",'inv3.直径階分布'!HK10) | AC15: =IF(K15="","",IF(OR($C$2="あり",$C$3="あり"),入力方法別計算!AU5,'inv2.計算シート'!AW5)) | AD15: =IF(OR($C$2="あり",$C$3="あり"),入力方法別計算!AV5,'inv2.計算シート'!AX5) -> 0.28508721 | AE15: =IF(OR($C$2="あり",$C$3="あり"),入力方法別計算!AW5,'inv2.計算シート'!AY5) -> 0.67409646 | AF15: =IF($K15="","",IF(OR($C$2="あり",$C$3="あり"),入力方法別計算!AX5,'inv2.計算シート'!AZ5)) | AG15: =IF($K15="","",IF(OR($C$2="あり",$C$3="あり"),入力方法別計算!AY5,'inv2.計算シート'!BA5)) | AH15: =IF(OR($C$2="あり",$C$3="あり"),入力方法別計算!AZ5,'inv2.計算シート'!BB5) -> 0.071271803 | AI15: =IF(N15>80,"",(EXP($AF$4)*O15^$AF$3)/Q15*100) -> #DIV/0!
B16: 5 | C16: ='1.収穫を予測する'!C17 -> 22 | D16: ='1.収穫を予測する'!D17 -> 0 | F16: =G15 -> 8 | G16: =F16+$C$5 -> 10 | H16: ='1.収穫を予測する'!H17 -> 9 | J16: =IF(OR($C$2="あり",$C$3="あり"),入力方法別計算!W6,'inv2.計算シート'!E6) -> 5 | K16: =IF('1.収穫を予測する'!K17="","",'1.収穫を予測する'!K17) | M16: =IF(J16>80,"",IF(OR($C$2="あり",$C$3="あり"),IF(入力方法別計算!AP6=0,"",入力方法別計算!AP6),IF('inv2.計算シート'!BV6=0,"",'inv2.計算シート'!BV6))) | N16: =J16 -> 5 | O16: =IF(J16>80,"",IF(OR($C$2="あり",$C$3="あり"),入力方法別計算!X6,'inv2.計算シート'!AC6)) -> 2.3385317 | P16: =IF(J16>80,"",IF(OR($C$2="あり",$C$3="あり"),入力方法別計算!AR6,'inv2.計算シート'!AO6)) -> 0.0003838851 | Q16: =IF(Q$12>'inv3.直径階分布'!HK11,Q$12,'inv3.直径階分布'!HK11) -> 1.4572951 | R16: =IF(J16>80,"",IF(OR($C$2="あり",$C$3="あり"),入力方法別計算!Y6,'inv2.計算シート'!AE6)) -> 2498.6217 | S16: =IF(J16>80,"",IF(OR($C$2="あり",$C$3="あり"),入力方法別計算!Z6,'inv2.計算シート'!AD6)) -> 0.95918367 | T16: =IF(J16>80,"",IF(OR($C$2="あり",$C$3="あり"),入力方法別計算!AJ6,'inv2.計算シート'!AH6)) -> 0.03041221 | U16: =IF(K16="","",IF(OR($C$2="あり",$C$3="あり"),入力方法別計算!AC6,'inv2.計算シート'!AK6)) | V16: =IF(K16="","",IF(OR($C$2="あり",$C$3="あり"),入力方法別計算!AD6,'inv2.計算シート'!AJ6)) | W16: =IF(K16="","",IF(OR($C$2="あり",$C$3="あり"),入力方法別計算!AK6,'inv2.計算シート'!AN6)) | X16: =IF(K16="","",IF(OR($C$2="あり",$C$3="あり"),入力方法別計算!AE6,'inv2.計算シート'!AM6)) | Y16: =IF(K16="","",IF(OR($C$2="あり",$C$3="あり"),入力方法別計算!AA6/0.01,'inv2.計算シート'!AF6/0.01)) | Z16: =IF(K16="","",IF(OR($C$2="あり",$C$3="あり"),入力方法別計算!AF6,'inv2.計算シート'!AL6)) | AA16: =IF(K16="","",IF(OR($C$2="あり",$C$3="あり"),入力方法別計算!AF6/入力方法別計算!Z6*100,'inv2.計算シート'!AL6/'inv2.計算シート'!AD6*100)) | AB16: =IF(K16="","",'inv3.直径階分布'!HK11) | AC16: =IF(K16="","",IF(OR($C$2="あり",$C$3="あり"),入力方法別計算!AU6,'inv2.計算シート'!AW6)) | AD16: =IF(OR($C$2="あり",$C$3="あり"),入力方法別計算!AV6,'inv2.計算シート'!AX6) -> 0.95918367 | AE16: =IF(OR($C$2="あり",$C$3="あり"),入力方法別計算!AW6,'inv2.計算シート'!AY6) -> 1.5312071 | AF16: =IF($K16="","",IF(OR($C$2="あり",$C$3="あり"),入力方法別計算!AX6,'inv2.計算シート'!AZ6)) | AG16: =IF($K16="","",IF(OR($C$2="あり",$C$3="あり"),入力方法別計算!AY6,'inv2.計算シート'!BA6)) | AH16: =IF(OR($C$2="あり",$C$3="あり"),入力方法別計算!AZ6,'inv2.計算シート'!BB6) -> 0.19183673 | AI16: =IF(N16>80,"",(EXP($AF$4)*O16^$AF$3)/Q16*100) -> 104.27266
B17: 6 | C17: ='1.収穫を予測する'!C18 -> 22 | D17: ='1.収穫を予測する'!D18 -> 15 | F17: =G16 -> 10 | G17: =F17+$C$5 -> 12 | H17: ='1.収穫を予測する'!H18 -> 9 | J17: =IF(OR($C$2="あり",$C$3="あり"),入力方法別計算!W7,'inv2.計算シート'!E7) -> 6 | K17: =IF('1.収穫を予測する'!K18="","",'1.収穫を予測する'!K18) | M17: =IF(J17>80,"",IF(OR($C$2="あり",$C$3="あり"),IF(入力方法別計算!AP7=0,"",入力方法別計算!AP7),IF('inv2.計算シート'!BV7=0,"",'inv2.計算シート'!BV7))) | N17: =J17 -> 6 | O17: =IF(J17>80,"",IF(OR($C$2="あり",$C$3="あり"),入力方法別計算!X7,'inv2.計算シート'!AC7)) -> 3.082392 | P17: =IF(J17>80,"",IF(OR($C$2="あり",$C$3="あり"),入力方法別計算!AR7,'inv2.計算シート'!AO7)) -> 0.00099758426 | Q17: =IF(Q$12>'inv3.直径階分布'!HK12,Q$12,'inv3.直径階分布'!HK12) -> 2.2891766 | R17: =IF(J17>80,"",IF(OR($C$2="あり",$C$3="あり"),入力方法別計算!Y7,'inv2.計算シート'!AE7)) -> 2496.4215 | S17: =IF(J17>80,"",IF(OR($C$2="あり",$C$3="あり"),入力方法別計算!Z7,'inv2.計算シート'!AD7)) -> 2.4903908 | T17: =IF(J17>80,"",IF(OR($C$2="あり",$C$3="あり"),入力方法別計算!AJ7,'inv2.計算シート'!AH7)) -> 0.05763536 | U17: =IF(K17="","",IF(OR($C$2="あり",$C$3="あり"),入力方法別計算!AC7,'inv2.計算シート'!AK7)) | V17: =IF(K17="","",IF(OR($C$2="あり",$C$3="あり"),入力方法別計算!AD7,'inv2.計算シート'!AJ7)) | W17: =IF(K17="","",IF(OR($C$2="あり",$C$3="あり"),入力方法別計算!AK7,'inv2.計算シート'!AN7)) | X17: =IF(K17="","",IF(OR($C$2="あり",$C$3="あり"),入力方法別計算!AE7,'inv2.計算シート'!AM7)) | Y17: =IF(K17="","",IF(OR($C$2="あり",$C$3="あり"),入力方法別計算!AA7/0.01,'inv2.計算シート'!AF7/0.01)) | Z17: =IF(K17="","",IF(OR($C$2="あり",$C$3="あり"),入力方法別計算!AF7,'inv2.計算シート'!AL7)) | AA17: =IF(K17="","",IF(OR($C$2="あり",$C$3="あり"),入力方法別計算!AF7/入力方法別計算!Z7*100,'inv2.計算シート'!AL7/'inv2.計算シート'!AD7*100)) | AB17: =IF(K17="","",'inv3.直径階分布'!HK12) | AC17: =IF(K17="","",IF(OR($C$2="あり",$C$3="あり"),入力方法別計算!AU7,'inv2.計算シート'!AW7)) | AD17: =IF(OR($C$2="あり",$C$3="あり"),入力方法別計算!AV7,'inv2.計算シート'!AX7) -> 2.4903908 | AE17: =IF(OR($C$2="あり",$C$3="あり"),入力方法別計算!AW7,'inv2.計算シート'!AY7) -> 2.9013695 | AF17: =IF($K17="","",IF(OR($C$2="あり",$C$3="あり"),入力方法別計算!AX7,'inv2.計算シート'!AZ7)) | AG17: =IF($K17="","",IF(OR($C$2="あり",$C$3="あり"),入力方法別計算!AY7,'inv2.計算シート'!BA7)) | AH17: =IF(OR($C$2="あり",$C$3="あり"),入力方法別計算!AZ7,'inv2.計算シート'!BB7) -> 0.41506514 | AI17: =IF(N17>80,"",(EXP($AF$4)*O17^$AF$3)/Q17*100) -> 90.810627
B18: 7 | C18: ='1.収穫を予測する'!C19 -> 22 | D18: ='1.収穫を予測する'!D19 -> 15 | F18: =G17 -> 12 | G18: =F18+$C$5 -> 14 | H18: ='1.収穫を予測する'!H19 -> 3 | J18: =IF(OR($C$2="あり",$C$3="あり"),入力方法別計算!W8,'inv2.計算シート'!E8) -> 7 | K18: =IF('1.収穫を予測する'!K19="","",'1.収穫を予測する'!K19) | M18: =IF(J18>80,"",IF(OR($C$2="あり",$C$3="あり"),IF(入力方法別計算!AP8=0,"",入力方法別計算!AP8),IF('inv2.計算シート'!BV8=0,"",'inv2.計算シート'!BV8))) | N18: =J18 -> 7 | O18: =IF(J18>80,"",IF(OR($C$2="あり",$C$3="あり"),入力方法別計算!X8,'inv2.計算シート'!AC8)) -> 3.8693562 | P18: =IF(J18>80,"",IF(OR($C$2="あり",$C$3="あり"),入力方法別計算!AR8,'inv2.計算シート'!AO8)) -> 0.0021634085 | Q18: =IF(Q$12>'inv3.直径階分布'!HK13,Q$12,'inv3.直径階分布'!HK13) -> 3.0616376 | R18: =IF(J18>80,"",IF(OR($C$2="あり",$C$3="あり"),入力方法別計算!Y8,'inv2.計算シート'!AE8)) -> 2492.2525 | S18: =IF(J18>80,"",IF(OR($C$2="あり",$C$3="あり"),入力方法別計算!Z8,'inv2.計算シート'!AD8)) -> 5.3917603 | T18: =IF(J18>80,"",IF(OR($C$2="あり",$C$3="あり"),入力方法別計算!AJ8,'inv2.計算シート'!AH8)) -> 0.095688596 | U18: =IF(K18="","",IF(OR($C$2="あり",$C$3="あり"),入力方法別計算!AC8,'inv2.計算シート'!AK8)) | V18: =IF(K18="","",IF(OR($C$2="あり",$C$3="あり"),入力方法別計算!AD8,'inv2.計算シート'!AJ8)) | W18: =IF(K18="","",IF(OR($C$2="あり",$C$3="あり"),入力方法別計算!AK8,'inv2.計算シート'!AN8)) | X18: =IF(K18="","",IF(OR($C$2="あり",$C$3="あり"),入力方法別計算!AE8,'inv2.計算シート'!AM8)) | Y18: =IF(K18="","",IF(OR($C$2="あり",$C$3="あり"),入力方法別計算!AA8/0.01,'inv2.計算シート'!AF8/0.01)) | Z18: =IF(K18="","",IF(OR($C$2="あり",$C$3="あり"),入力方法別計算!AF8,'inv2.計算シート'!AL8)) | AA18: =IF(K18="","",IF(OR($C$2="あり",$C$3="あり"),入力方法別計算!AF8/入力方法別計算!Z8*100,'inv2.計算シート'!AL8/'inv2.計算シート'!AD8*100)) | AB18: =IF(K18="","",'inv3.直径階分布'!HK13) | AC18: =IF(K18="","",IF(OR($C$2="あり",$C$3="あり"),入力方法別計算!AU8,'inv2.計算シート'!AW8)) | AD18: =IF(OR($C$2="あり",$C$3="あり"),入力方法別計算!AV8,'inv2.計算シート'!AX8) -> 5.3917603 | AE18: =IF(OR($C$2="あり",$C$3="あり"),入力方法別計算!AW8,'inv2.計算シート'!AY8) -> 4.8064293 | AF18: =IF($K18="","",IF(OR($C$2="あり",$C$3="あり"),入力方法別計算!AX8,'inv2.計算シート'!AZ8)) | AG18: =IF($K18="","",IF(OR($C$2="あり",$C$3="あり"),入力方法別計算!AY8,'inv2.計算シート'!BA8)) | AH18: =IF(OR($C$2="あり",$C$3="あり"),入力方法別計算!AZ8,'inv2.計算シート'!BB8) -> 0.77025148 | AI18: =IF(N18>80,"",(EXP($AF$4)*O18^$AF$3)/Q18*100) -> 87.884475
B19: 8 | C19: ='1.収穫を予測する'!C20 -> 20 | D19: ='1.収穫を予測する'!D20 -> 15 | F19: =G18 -> 14 | G19: =F19+$C$5 -> 16 | H19: ='1.収穫を予測する'!H20 -> 2 | J19: =IF(OR($C$2="あり",$C$3="あり"),入力方法別計算!W9,'inv2.計算シート'!E9) -> 8 | K19: =IF('1.収穫を予測する'!K20="","",'1.収穫を予測する'!K20) | M19: =IF(J19>80,"",IF(OR($C$2="あり",$C$3="あり"),IF(入力方法別計算!AP9=0,"",入力方法別計算!AP9),IF('inv2.計算シート'!BV9=0,"",'inv2.計算シート'!BV9))) | N19: =J19 -> 8 | O19: =IF(J19>80,"",IF(OR($C$2="あり",$C$3="あり"),入力方法別計算!X9,'inv2.計算シート'!AC9)) -> 4.6872678 | P19: =IF(J19>80,"",IF(OR($C$2="あり",$C$3="あり"),入力方法別計算!AR9,'inv2.計算シート'!AO9)) -> 0.0041033277 | Q19: =IF(Q$12>'inv3.直径階分布'!HK14,Q$12,'inv3.直径階分布'!HK14) -> 3.9062208 | R19: =IF(J19>80,"",IF(OR($C$2="あり",$C$3="あり"),入力方法別計算!Y9,'inv2.計算シート'!AE9)) -> 2485.3461 | S19: =IF(J19>80,"",IF(OR($C$2="あり",$C$3="あり"),入力方法別計算!Z9,'inv2.計算シート'!AD9)) -> 10.19819 | T19: =IF(J19>80,"",IF(OR($C$2="あり",$C$3="あり"),入力方法別計算!AJ9,'inv2.計算シート'!AH9)) -> 0.14369382 | U19: =IF(K19="","",IF(OR($C$2="あり",$C$3="あり"),入力方法別計算!AC9,'inv2.計算シート'!AK9)) | V19: =IF(K19="","",IF(OR($C$2="あり",$C$3="あり"),入力方法別計算!AD9,'inv2.計算シート'!AJ9)) | W19: =IF(K19="","",IF(OR($C$2="あり",$C$3="あり"),入力方法別計算!AK9,'inv2.計算シート'!AN9)) | X19: =IF(K19="","",IF(OR($C$2="あり",$C$3="あり"),入力方法別計算!AE9,'inv2.計算シート'!AM9)) | Y19: =IF(K19="","",IF(OR($C$2="あり",$C$3="あり"),入力方法別計算!AA9/0.01,'inv2.計算シート'!AF9/0.01)) | Z19: =IF(K19="","",IF(OR($C$2="あり",$C$3="あり"),入力方法別計算!AF9,'inv2.計算シート'!AL9)) | AA19: =IF(K19="","",IF(OR($C$2="あり",$C$3="あり"),入力方法別計算!AF9/入力方法別計算!Z9*100,'inv2.計算シート'!AL9/'inv2.計算シート'!AD9*100)) | AB19: =IF(K19="","",'inv3.直径階分布'!HK14) | AC19: =IF(K19="","",IF(OR($C$2="あり",$C$3="あり"),入力方法別計算!AU9,'inv2.計算シート'!AW9)) | AD19: =IF(OR($C$2="あり",$C$3="あり"),入力方法別計算!AV9,'inv2.計算シート'!AX9) -> 10.19819 | AE19: =IF(OR($C$2="あり",$C$3="あり"),入力方法別計算!AW9,'inv2.計算シート'!AY9) -> 7.1773345 | AF19: =IF($K19="","",IF(OR($C$2="あり",$C$3="あり"),入力方法別計算!AX9,'inv2.計算シート'!AZ9)) | AG19: =IF($K19="","",IF(OR($C$2="あり",$C$3="あり"),入力方法別計算!AY9,'inv2.計算シート'!BA9)) | AH19: =IF(OR($C$2="あり",$C$3="あり"),入力方法別計算!AZ9,'inv2.計算シート'!BB9) -> 1.2747737 | AI19: =IF(N19>80,"",(EXP($AF$4)*O19^$AF$3)/Q19*100) -> 85.626064
B20: 9 | C20: ='1.収穫を予測する'!C21 -> 20 | D20: ='1.収穫を予測する'!D21 -> 15 | F20: =G19 -> 16 | G20: =F20+$C$5 -> 18 | H20: ='1.収穫を予測する'!H21 -> 2 | J20: =IF(OR($C$2="あり",$C$3="あり"),入力方法別計算!W10,'inv2.計算シート'!E10) -> 9 | K20: =IF('1.収穫を予測する'!K21="","",'1.収穫を予測する'!K21) | M20: =IF(J20>80,"",IF(OR($C$2="あり",$C$3="あり"),IF(入力方法別計算!AP10=0,"",入力方法別計算!AP10),IF('inv2.計算シート'!BV10=0,"",'inv2.計算シート'!BV10))) | N20: =J20 -> 9 | O20: =IF(J20>80,"",IF(OR($C$2="あり",$C$3="あり"),入力方法別計算!X10,'inv2.計算シート'!AC10)) -> 5.5261547 | P20: =IF(J20>80,"",IF(OR($C$2="あり",$C$3="あり"),入力方法別計算!AR10,'inv2.計算シート'!AO10)) -> 0.0070203204 | Q20: =IF(Q$12>'inv3.直径階分布'!HK15,Q$12,'inv3.直径階分布'!HK15) -> 4.7774971 | R20: =IF(J20>80,"",IF(OR($C$2="あり",$C$3="あり"),入力方法別計算!Y10,'inv2.計算シート'!AE10)) -> 2475.0329 | S20: =IF(J20>80,"",IF(OR($C$2="あり",$C$3="あり"),入力方法別計算!Z10,'inv2.計算シート'!AD10)) -> 17.375524 | T20: =IF(J20>80,"",IF(OR($C$2="あり",$C$3="あり"),入力方法別計算!AJ10,'inv2.計算シート'!AH10)) -> 0.19946353 | U20: =IF(K20="","",IF(OR($C$2="あり",$C$3="あり"),入力方法別計算!AC10,'inv2.計算シート'!AK10)) | V20: =IF(K20="","",IF(OR($C$2="あり",$C$3="あり"),入力方法別計算!AD10,'inv2.計算シート'!AJ10)) | W20: =IF(K20="","",IF(OR($C$2="あり",$C$3="あり"),入力方法別計算!AK10,'inv2.計算シート'!AN10)) | X20: =IF(K20="","",IF(OR($C$2="あり",$C$3="あり"),入力方法別計算!AE10,'inv2.計算シート'!AM10)) | Y20: =IF(K20="","",IF(OR($C$2="あり",$C$3="あり"),入力方法別計算!AA10/0.01,'inv2.計算シート'!AF10/0.01)) | Z20: =IF(K20="","",IF(OR($C$2="あり",$C$3="あり"),入力方法別計算!AF10,'inv2.計算シート'!AL10)) | AA20: =IF(K20="","",IF(OR($C$2="あり",$C$3="あり"),入力方法別計算!AF10/入力方法別計算!Z10*100,'inv2.計算シート'!AL10/'inv2.計算シート'!AD10*100)) | AB20: =IF(K20="","",'inv3.直径階分布'!HK15) | AC20: =IF(K20="","",IF(OR($C$2="あり",$C$3="あり"),入力方法別計算!AU10,'inv2.計算シート'!AW10)) | AD20: =IF(OR($C$2="あり",$C$3="あり"),入力方法別計算!AV10,'inv2.計算シート'!AX10) -> 17.375524 | AE20: =IF(OR($C$2="あり",$C$3="あり"),入力方法別計算!AW10,'inv2.計算シート'!AY10) -> 9.8722867 | AF20: =IF($K20="","",IF(OR($C$2="あり",$C$3="あり"),入力方法別計算!AX10,'inv2.計算シート'!AZ10)) | AG20: =IF($K20="","",IF(OR($C$2="あり",$C$3="あり"),入力方法別計算!AY10,'inv2.計算シート'!BA10)) | AH20: =IF(OR($C$2="あり",$C$3="あり"),入力方法別計算!AZ10,'inv2.計算シート'!BB10) -> 1.9306138 | AI20: =IF(N20>80,"",(EXP($AF$4)*O20^$AF$3)/Q20*100) -> 84.390823
B21: 10 | C21: ='1.収穫を予測する'!C22 -> 18 | D21: ='1.収穫を予測する'!D22 -> 15 | F21: =G20 -> 18 | G21: =F21+$C$5 -> 20 | H21: ='1.収穫を予測する'!H22 -> 4 | J21: =IF(OR($C$2="あり",$C$3="あり"),入力方法別計算!W11,'inv2.計算シート'!E11) -> 10 | K21: =IF('1.収穫を予測する'!K22="","",'1.収穫を予測する'!K22) | M21: =IF(J21>80,"",IF(OR($C$2="あり",$C$3="あり"),IF(入力方法別計算!AP11=0,"",入力方法別計算!AP11),IF('inv2.計算シート'!BV11=0,"",'inv2.計算シート'!BV11))) | N21: =J21 -> 10 | O21: =IF(J21>80,"",IF(OR($C$2="あり",$C$3="あり"),入力方法別計算!X11,'inv2.計算シート'!AC11)) -> 6.3777757 | P21: =IF(J21>80,"",IF(OR($C$2="あり",$C$3="あり"),入力方法別計算!AR11,'inv2.計算シート'!AO11)) -> 0.011072532 | Q21: =IF(Q$12>'inv3.直径階分布'!HK16,Q$12,'inv3.直径階分布'!HK16) -> 5.638316 | R21: =IF(J21>80,"",IF(OR($C$2="あり",$C$3="あり"),入力方法別計算!Y11,'inv2.計算シート'!AE11)) -> 2460.8473 | S21: =IF(J21>80,"",IF(OR($C$2="あり",$C$3="あり"),入力方法別計算!Z11,'inv2.計算シート'!AD11)) -> 27.247811 | T21: =IF(J21>80,"",IF(OR($C$2="あり",$C$3="あり"),入力方法別計算!AJ11,'inv2.計算シート'!AH11)) -> 0.26008802 | U21: =IF(K21="","",IF(OR($C$2="あり",$C$3="あり"),入力方法別計算!AC11,'inv2.計算シート'!AK11)) | V21: =IF(K21="","",IF(OR($C$2="あり",$C$3="あり"),入力方法別計算!AD11,'inv2.計算シート'!AJ11)) | W21: =IF(K21="","",IF(OR($C$2="あり",$C$3="あり"),入力方法別計算!AK11,'inv2.計算シート'!AN11)) | X21: =IF(K21="","",IF(OR($C$2="あり",$C$3="あり"),入力方法別計算!AE11,'inv2.計算シート'!AM11)) | Y21: =IF(K21="","",IF(OR($C$2="あり",$C$3="あり"),入力方法別計算!AA11/0.01,'inv2.計算シート'!AF11/0.01)) | Z21: =IF(K21="","",IF(OR($C$2="あり",$C$3="あり"),入力方法別計算!AF11,'inv2.計算シート'!AL11)) | AA21: =IF(K21="","",IF(OR($C$2="あり",$C$3="あり"),入力方法別計算!AF11/入力方法別計算!Z11*100,'inv2.計算シート'!AL11/'inv2.計算シート'!AD11*100)) | AB21: =IF(K21="","",'inv3.直径階分布'!HK16) | AC21: =IF(K21="","",IF(OR($C$2="あり",$C$3="あり"),入力方法別計算!AU11,'inv2.計算シート'!AW11)) | AD21: =IF(OR($C$2="あり",$C$3="あり"),入力方法別計算!AV11,'inv2.計算シート'!AX11) -> 27.247811 | AE21: =IF(OR($C$2="あり",$C$3="あり"),入力方法別計算!AW11,'inv2.計算シート'!AY11) -> 12.713726 | AF21: =IF($K21="","",IF(OR($C$2="あり",$C$3="あり"),入力方法別計算!AX11,'inv2.計算シート'!AZ11)) | AG21: =IF($K21="","",IF(OR($C$2="あり",$C$3="あり"),入力方法別計算!AY11,'inv2.計算シート'!BA11)) | AH21: =IF(OR($C$2="あり",$C$3="あり"),入力方法別計算!AZ11,'inv2.計算シート'!BB11) -> 2.7247811 | AI21: =IF(N21>80,"",(EXP($AF$4)*O21^$AF$3)/Q21*100) -> 84.134743
B22: 11 | C22: ='1.収穫を予測する'!C23 -> 20 | D22: ='1.収穫を予測する'!D23 -> 14 | F22: =G21 -> 20 | G22: =F22+$C$5 -> 22 | H22: ='1.収穫を予測する'!H23 -> 2 | J22: =IF(OR($C$2="あり",$C$3="あり"),入力方法別計算!W12,'inv2.計算シート'!E12) -> 11 | K22: =IF('1.収穫を予測する'!K23="","",'1.収穫を予測する'!K23) | M22: =IF(J22>80,"",IF(OR($C$2="あり",$C$3="あり"),IF(入力方法別計算!AP12=0,"",入力方法別計算!AP12),IF('inv2.計算シート'!BV12=0,"",'inv2.計算シート'!BV12))) | N22: =J22 -> 11 | O22: =IF(J22>80,"",IF(OR($C$2="あり",$C$3="あり"),入力方法別計算!X12,'inv2.計算シート'!AC12)) -> 7.2352937 | P22: =IF(J22>80,"",IF(OR($C$2="あり",$C$3="あり"),入力方法別計算!AR12,'inv2.計算シート'!AO12)) -> 0.016360388 | Q22: =IF(Q$12>'inv3.直径階分布'!HK17,Q$12,'inv3.直径階分布'!HK17) -> 6.5263806 | R22: =IF(J22>80,"",IF(OR($C$2="あり",$C$3="あり"),入力方法別計算!Y12,'inv2.計算シート'!AE12)) -> 2442.5788 | S22: =IF(J22>80,"",IF(OR($C$2="あり",$C$3="あり"),入力方法別計算!Z12,'inv2.計算シート'!AD12)) -> 39.961537 | T22: =IF(J22>80,"",IF(OR($C$2="あり",$C$3="あり"),入力方法別計算!AJ12,'inv2.計算シート'!AH12)) -> 0.32259312 | U22: =IF(K22="","",IF(OR($C$2="あり",$C$3="あり"),入力方法別計算!AC12,'inv2.計算シート'!AK12)) | V22: =IF(K22="","",IF(OR($C$2="あり",$C$3="あり"),入力方法別計算!AD12,'inv2.計算シート'!AJ12)) | W22: =IF(K22="","",IF(OR($C$2="あり",$C$3="あり"),入力方法別計算!AK12,'inv2.計算シート'!AN12)) | X22: =IF(K22="","",IF(OR($C$2="あり",$C$3="あり"),入力方法別計算!AE12,'inv2.計算シート'!AM12)) | Y22: =IF(K22="","",IF(OR($C$2="あり",$C$3="あり"),入力方法別計算!AA12/0.01,'inv2.計算シート'!AF12/0.01)) | Z22: =IF(K22="","",IF(OR($C$2="あり",$C$3="あり"),入力方法別計算!AF12,'inv2.計算シート'!AL12)) | AA22: =IF(K22="","",IF(OR($C$2="あり",$C$3="あり"),入力方法別計算!AF12/入力方法別計算!Z12*100,'inv2.計算シート'!AL12/'inv2.計算シート'!AD12*100)) | AB22: =IF(K22="","",'inv3.直径階分布'!HK17) | AC22: =IF(K22="","",IF(OR($C$2="あり",$C$3="あり"),入力方法別計算!AU12,'inv2.計算シート'!AW12)) | AD22: =IF(OR($C$2="あり",$C$3="あり"),入力方法別計算!AV12,'inv2.計算シート'!AX12) -> 39.961537 | AE22: =IF(OR($C$2="あり",$C$3="あり"),入力方法別計算!AW12,'inv2.計算シート'!AY12) -> 15.527406 | AF22: =IF($K22="","",IF(OR($C$2="あり",$C$3="あり"),入力方法別計算!AX12,'inv2.計算シート'!AZ12)) | AG22: =IF($K22="","",IF(OR($C$2="あり",$C$3="あり"),入力方法別計算!AY12,'inv2.計算シート'!BA12)) | AH22: =IF(OR($C$2="あり",$C$3="あり"),入力方法別計算!AZ12,'inv2.計算シート'!BB12) -> 3.632867 | AI22: =IF(N22>80,"",(EXP($AF$4)*O22^$AF$3)/Q22*100) -> 83.872129
B23: 12 | C23: ='1.収穫を予測する'!C24 -> 20 | D23: ='1.収穫を予測する'!D24 -> 14 | F23: =G22 -> 22 | G23: =F23+$C$5 -> 24 | H23: ='1.収穫を予測する'!H24 -> 2 | J23: =IF(OR($C$2="あり",$C$3="あり"),入力方法別計算!W13,'inv2.計算シート'!E13) -> 12 | K23: =IF('1.収穫を予測する'!K24="","",'1.収穫を予測する'!K24) | M23: =IF(J23>80,"",IF(OR($C$2="あり",$C$3="あり"),IF(入力方法別計算!AP13=0,"",入力方法別計算!AP13),IF('inv2.計算シート'!BV13=0,"",'inv2.計算シート'!BV13))) | N23: =J23 -> 12 | O23: =IF(J23>80,"",IF(OR($C$2="あり",$C$3="あり"),入力方法別計算!X13,'inv2.計算シート'!AC13)) -> 8.0930289 | P23: =IF(J23>80,"",IF(OR($C$2="あり",$C$3="あり"),入力方法別計算!AR13,'inv2.計算シート'!AO13)) -> 0.022926783 | Q23: =IF(Q$12>'inv3.直径階分布'!HK18,Q$12,'inv3.直径階分布'!HK18) -> 7.4224674 | R23: =IF(J23>80,"",IF(OR($C$2="あり",$C$3="あり"),入力方法別計算!Y13,'inv2.計算シート'!AE13)) -> 2420.2673 | S23: =IF(J23>80,"",IF(OR($C$2="あり",$C$3="あり"),入力方法別計算!Z13,'inv2.計算シート'!AD13)) -> 55.488943 | T23: =IF(J23>80,"",IF(OR($C$2="あり",$C$3="あり"),入力方法別計算!AJ13,'inv2.計算シート'!AH13)) -> 0.38443317 | U23: =IF(K23="","",IF(OR($C$2="あり",$C$3="あり"),入力方法別計算!AC13,'inv2.計算シート'!AK13)) | V23: =IF(K23="","",IF(OR($C$2="あり",$C$3="あり"),入力方法別計算!AD13,'inv2.計算シート'!AJ13)) | W23: =IF(K23="","",IF(OR($C$2="あり",$C$3="あり"),入力方法別計算!AK13,'inv2.計算シート'!AN13)) | X23: =IF(K23="","",IF(OR($C$2="あり",$C$3="あり"),入力方法別計算!AE13,'inv2.計算シート'!AM13)) | Y23: =IF(K23="","",IF(OR($C$2="あり",$C$3="あり"),入力方法別計算!AA13/0.01,'inv2.計算シート'!AF13/0.01)) | Z23: =IF(K23="","",IF(OR($C$2="あり",$C$3="あり"),入力方法別計算!AF13,'inv2.計算シート'!AL13)) | AA23: =IF(K23="","",IF(OR($C$2="あり",$C$3="あり"),入力方法別計算!AF13/入力方法別計算!Z13*100,'inv2.計算シート'!AL13/'inv2.計算シート'!AD13*100)) | AB23: =IF(K23="","",'inv3.直径階分布'!HK18) | AC23: =IF(K23="","",IF(OR($C$2="あり",$C$3="あり"),入力方法別計算!AU13,'inv2.計算シート'!AW13)) | AD23: =IF(OR($C$2="あり",$C$3="あり"),入力方法別計算!AV13,'inv2.計算シート'!AX13) -> 55.488943 | AE23: =IF(OR($C$2="あり",$C$3="あり"),入力方法別計算!AW13,'inv2.計算シート'!AY13) -> 18.170404 | AF23: =IF($K23="","",IF(OR($C$2="あり",$C$3="あり"),入力方法別計算!AX13,'inv2.計算シート'!AZ13)) | AG23: =IF($K23="","",IF(OR($C$2="あり",$C$3="あり"),入力方法別計算!AY13,'inv2.計算シート'!BA13)) | AH23: =IF(OR($C$2="あり",$C$3="あり"),入力方法別計算!AZ13,'inv2.計算シート'!BB13) -> 4.6240786 | AI23: =IF(N23>80,"",(EXP($AF$4)*O23^$AF$3)/Q23*100) -> 83.743138
B24: 13 | C24: ='1.収穫を予測する'!C25 -> 20 | D24: ='1.収穫を予測する'!D25 -> 14 | F24: =G23 -> 24 | G24: =F24+$C$5 -> 26 | H24: ='1.収穫を予測する'!H25 -> 0 | J24: =IF(OR($C$2="あり",$C$3="あり"),入力方法別計算!W14,'inv2.計算シート'!E14) -> 13 | K24: =IF('1.収穫を予測する'!K25="","",'1.収穫を予測する'!K25) | M24: =IF(J24>80,"",IF(OR($C$2="あり",$C$3="あり"),IF(入力方法別計算!AP14=0,"",入力方法別計算!AP14),IF('inv2.計算シート'!BV14=0,"",'inv2.計算シート'!BV14))) | N24: =J24 -> 13 | O24: =IF(J24>80,"",IF(OR($C$2="あり",$C$3="あり"),入力方法別計算!X14,'inv2.計算シート'!AC14)) -> 8.9462666 | P24: =IF(J24>80,"",IF(OR($C$2="あり",$C$3="あり"),入力方法別計算!AR14,'inv2.計算シート'!AO14)) -> 0.030766284 | Q24: =IF(Q$12>'inv3.直径階分布'!HK19,Q$12,'inv3.直径階分布'!HK19) -> 8.3148272 | R24: =IF(J24>80,"",IF(OR($C$2="あり",$C$3="あり"),入力方法別計算!Y14,'inv2.計算シート'!AE14)) -> 2394.1581 | S24: =IF(J24>80,"",IF(OR($C$2="あり",$C$3="あり"),入力方法別計算!Z14,'inv2.計算シート'!AD14)) -> 73.659347 | T24: =IF(J24>80,"",IF(OR($C$2="あり",$C$3="あり"),入力方法別計算!AJ14,'inv2.計算シート'!AH14)) -> 0.44372711 | U24: =IF(K24="","",IF(OR($C$2="あり",$C$3="あり"),入力方法別計算!AC14,'inv2.計算シート'!AK14)) | V24: =IF(K24="","",IF(OR($C$2="あり",$C$3="あり"),入力方法別計算!AD14,'inv2.計算シート'!AJ14)) | W24: =IF(K24="","",IF(OR($C$2="あり",$C$3="あり"),入力方法別計算!AK14,'inv2.計算シート'!AN14)) | X24: =IF(K24="","",IF(OR($C$2="あり",$C$3="あり"),入力方法別計算!AE14,'inv2.計算シート'!AM14)) | Y24: =IF(K24="","",IF(OR($C$2="あり",$C$3="あり"),入力方法別計算!AA14/0.01,'inv2.計算シート'!AF14/0.01)) | Z24: =IF(K24="","",IF(OR($C$2="あり",$C$3="あり"),入力方法別計算!AF14,'inv2.計算シート'!AL14)) | AA24: =IF(K24="","",IF(OR($C$2="あり",$C$3="あり"),入力方法別計算!AF14/入力方法別計算!Z14*100,'inv2.計算シート'!AL14/'inv2.計算シート'!AD14*100)) | AB24: =IF(K24="","",'inv3.直径階分布'!HK19) | AC24: =IF(K24="","",IF(OR($C$2="あり",$C$3="あり"),入力方法別計算!AU14,'inv2.計算シート'!AW14)) | AD24: =IF(OR($C$2="あり",$C$3="あり"),入力方法別計算!AV14,'inv2.計算シート'!AX14) -> 73.659347 | AE24: =IF(OR($C$2="あり",$C$3="あり"),入力方法別計算!AW14,'inv2.計算シート'!AY14) -> 20.543514 | AF24: =IF($K24="","",IF(OR($C$2="あり",$C$3="あり"),入力方法別計算!AX14,'inv2.計算シート'!AZ14)) | AG24: =IF($K24="","",IF(OR($C$2="あり",$C$3="あり"),入力方法別計算!AY14,'inv2.計算シート'!BA14)) | AH24: =IF(OR($C$2="あり",$C$3="あり"),入力方法別計算!AZ14,'inv2.計算シート'!BB14) -> 5.6661036 | AI24: =IF(N24>80,"",(EXP($AF$4)*O24^$AF$3)/Q24*100) -> 83.760159
... B91: 80 | C91: ='1.収穫を予測する'!C92 -> 0 | D91: ='1.収穫を予測する'!D92 -> 0 | F91: =G90 -> 158 | G91: =F91+$C$5 -> 160 | H91: ='1.収穫を予測する'!H92 -> 0 | J91: =IF(OR($C$2="あり",$C$3="あり"),入力方法別計算!W81,'inv2.計算シート'!E81) -> 80 | K91: =IF('1.収穫を予測する'!K92="","",'1.収穫を予測する'!K92) | M91: =IF(J91>80,"",IF(OR($C$2="あり",$C$3="あり"),IF(入力方法別計算!AP81=0,"",入力方法別計算!AP81),IF('inv2.計算シート'!BV81=0,"",'inv2.計算シート'!BV81))) | N91: =J91 -> 80 | O91: =IF(J91>80,"",IF(OR($C$2="あり",$C$3="あり"),入力方法別計算!X81,'inv2.計算シート'!AC81)) -> 31.068134 | P91: =IF(J91>80,"",IF(OR($C$2="あり",$C$3="あり"),入力方法別計算!AR81,'inv2.計算シート'!AO81)) -> 0.98667004 | Q91: =IF(Q$12>'inv3.直径階分布'!HK86,Q$12,'inv3.直径階分布'!HK86) -> 33.154998 | R91: =IF(J91>80,"",IF(OR($C$2="あり",$C$3="あり"),入力方法別計算!Y81,'inv2.計算シート'!AE81)) -> 1034.0163 | S91: =IF(J91>80,"",IF(OR($C$2="あり",$C$3="あり"),入力方法別計算!Z81,'inv2.計算シート'!AD81)) -> 1020.2329 | T91: =IF(J91>80,"",IF(OR($C$2="あり",$C$3="あり"),入力方法別計算!AJ81,'inv2.計算シート'!AH81)) -> 1.001515 | U91: =IF(K91="","",IF(OR($C$2="あり",$C$3="あり"),入力方法別計算!AC81,'inv2.計算シート'!AK81)) | V91: =IF(K91="","",IF(OR($C$2="あり",$C$3="あり"),入力方法別計算!AD81,'inv2.計算シート'!AJ81)) | W91: =IF(K91="","",IF(OR($C$2="あり",$C$3="あり"),入力方法別計算!AK81,'inv2.計算シート'!AN81)) | X91: =IF(K91="","",IF(OR($C$2="あり",$C$3="あり"),入力方法別計算!AE81,'inv2.計算シート'!AM81)) | Y91: =IF(K91="","",IF(OR($C$2="あり",$C$3="あり"),入力方法別計算!AA81/0.01,'inv2.計算シート'!AF81/0.01)) | Z91: =IF(K91="","",IF(OR($C$2="あり",$C$3="あり"),入力方法別計算!AF81,'inv2.計算シート'!AL81)) | AA91: =IF(K91="","",IF(OR($C$2="あり",$C$3="あり"),入力方法別計算!AF81/入力方法別計算!Z81*100,'inv2.計算シート'!AL81/'inv2.計算シート'!AD81*100)) | AB91: =IF(K91="","",'inv3.直径階分布'!HK86) | AC91: =IF(K91="","",IF(OR($C$2="あり",$C$3="あり"),入力方法別計算!AU81,'inv2.計算シート'!AW81)) | AD91: =IF(OR($C$2="あり",$C$3="あり"),入力方法別計算!AV81,'inv2.計算シート'!AX81) -> 1020.2329 | AE91: =IF(OR($C$2="あり",$C$3="あり"),入力方法別計算!AW81,'inv2.計算シート'!AY81) -> 0 | AF91: =IF($K91="","",IF(OR($C$2="あり",$C$3="あり"),入力方法別計算!AX81,'inv2.計算シート'!AZ81)) | AG91: =IF($K91="","",IF(OR($C$2="あり",$C$3="あり"),入力方法別計算!AY81,'inv2.計算シート'!BA81)) | AH91: =IF(OR($C$2="あり",$C$3="あり"),入力方法別計算!AZ81,'inv2.計算シート'!BB81) -> 12.752911 | AI91: =IF(N91>80,"",(EXP($AF$4)*O91^$AF$3)/Q91*100) -> 86.263987
B92: 81 | C92: ='1.収穫を予測する'!C93 -> 0 | D92: ='1.収穫を予測する'!D93 -> 0 | F92: =G91 -> 160 | G92: =F92+$C$5 -> 162 | H92: ='1.収穫を予測する'!H93 -> 0
B93: 82 | C93: ='1.収穫を予測する'!C94 -> 0 | D93: ='1.収穫を予測する'!D94 -> 0 | F93: =G92 -> 162 | G93: =F93+$C$5 -> 164 | H93: ='1.収穫を予測する'!H94 -> 0
B94: 83 | C94: ='1.収穫を予測する'!C95 -> 0 | D94: ='1.収穫を予測する'!D95 -> 0 | F94: =G93 -> 164 | G94: =F94+$C$5 -> 166 | H94: ='1.収穫を予測する'!H95 -> 0
B95: 84 | C95: ='1.収穫を予測する'!C96 -> 0 | D95: ='1.収穫を予測する'!D96 -> 0 | F95: =G94 -> 166 | G95: =F95+$C$5 -> 168 | H95: ='1.収穫を予測する'!H96 -> 0
B96: 85 | C96: ='1.収穫を予測する'!C97 -> 0 | D96: ='1.収穫を予測する'!D97 -> 0 | F96: =G95 -> 168 | G96: =F96+$C$5 -> 170 | H96: ='1.収穫を予測する'!H97 -> 0
B97: 86 | C97: ='1.収穫を予測する'!C98 -> 0 | D97: ='1.収穫を予測する'!D98 -> 0 | F97: =G96 -> 170 | G97: =F97+$C$5 -> 172 | H97: ='1.収穫を予測する'!H98 -> 0
B98: 87 | C98: ='1.収穫を予測する'!C99 -> 0 | D98: ='1.収穫を予測する'!D99 -> 0 | F98: =G97 -> 172 | G98: =F98+$C$5 -> 174 | H98: ='1.収穫を予測する'!H99 -> 0
B99: 88 | C99: ='1.収穫を予測する'!C100 -> 0 | D99: ='1.収穫を予測する'!D100 -> 0 | F99: =G98 -> 174 | G99: =F99+$C$5 -> 176 | H99: ='1.収穫を予測する'!H100 -> 0
B100: 89 | C100: ='1.収穫を予測する'!C101 -> 0 | D100: ='1.収穫を予測する'!D101 -> 0 | F100: =G99 -> 176 | G100: =F100+$C$5 -> 178 | H100: ='1.収穫を予測する'!H101 -> 0
B101: 90 | C101: ='1.収穫を予測する'!C102 -> 0 | D101: ='1.収穫を予測する'!D102 -> 0 | F101: =G100 -> 178 | G101: =F101+$C$5 -> 180 | H101: ='1.収穫を予測する'!H102 -> 0
B102: 91 | C102: ='1.収穫を予測する'!C103 -> 0 | D102: ='1.収穫を予測する'!D103 -> 0 | F102: =G101 -> 180 | G102: =F102+$C$5 -> 182 | H102: ='1.収穫を予測する'!H103 -> 0
B103: 92 | C103: ='1.収穫を予測する'!C104 -> 0 | D103: ='1.収穫を予測する'!D104 -> 0 | F103: =G102 -> 182 | G103: =F103+$C$5 -> 184 | H103: ='1.収穫を予測する'!H104 -> 0
... B111: 100 | C111: ='1.収穫を予測する'!C112 -> 0 | D111: ='1.収穫を予測する'!D112 -> 0 | F111: =G110 -> 198 | G111: =F111+$C$5 -> 200 | H111: ='1.収穫を予測する'!H112 -> 0
B112: 101 | C112: ='1.収穫を予測する'!C113 -> 0 | D112: ='1.収穫を予測する'!D113 -> 0
B113: 102 | C113: ='1.収穫を予測する'!C114 -> 0 | D113: ='1.収穫を予測する'!D114 -> 0
B114: 103 | C114: ='1.収穫を予測する'!C115 -> 0 | D114: ='1.収穫を予測する'!D115 -> 0
B115: 104 | C115: ='1.収穫を予測する'!C116 -> 0 | D115: ='1.収穫を予測する'!D116 -> 0
B116: 105 | C116: ='1.収穫を予測する'!C117 -> 0 | D116: ='1.収穫を予測する'!D117 -> 0
B117: 106 | C117: ='1.収穫を予測する'!C118 -> 0 | D117: ='1.収穫を予測する'!D118 -> 0
B118: 107 | C118: ='1.収穫を予測する'!C119 -> 0 | D118: ='1.収穫を予測する'!D119 -> 0
B119: 108 | C119: ='1.収穫を予測する'!C120 -> 0 | D119: ='1.収穫を予測する'!D120 -> 0
B120: 109 | C120: ='1.収穫を予測する'!C121 -> 0 | D120: ='1.収穫を予測する'!D121 -> 0
B121: 110 | C121: ='1.収穫を予測する'!C122 -> 0 | D121: ='1.収穫を予測する'!D122 -> 0
B122: 111 | C122: ='1.収穫を予測する'!C123 -> 0 | D122: ='1.収穫を予測する'!D123 -> 0
B123: 112 | C123: ='1.収穫を予測する'!C124 -> 0 | D123: ='1.収穫を予測する'!D124 -> 0
... B311: 300 | C311: ='1.収穫を予測する'!C312 -> 0 | D311: ='1.収穫を予測する'!D312 -> 0

Sheet 2.径級分布
J1: 最小値 | L1: 間隔
B2: 地位指数 | D2: ='1.収穫を予測する'!G3 -> 25 | I2: 直径階 | J2: 0 | K2: cm | L2: 2 | M2: cm
B4: 2.1 間伐前径級分布
B5: cm以上 | C5: ='inv3.直径階分布'!N2 -> 0 | D5: ='inv3.直径階分布'!O2 -> 2 | E5: ='inv3.直径階分布'!P2 -> 4 | F5: ='inv3.直径階分布'!Q2 -> 6 | G5: ='inv3.直径階分布'!R2 -> 8 | H5: ='inv3.直径階分布'!S2 -> 10 | I5: ='inv3.直径階分布'!T2 -> 12 | J5: ='inv3.直径階分布'!U2 -> 14 | ... AB5: ='inv3.直径階分布'!AM2 -> 50
B6: cm未満 | C6: ='inv3.直径階分布'!O2 -> 2 | D6: ='inv3.直径階分布'!P2 -> 4 | E6: ='inv3.直径階分布'!Q2 -> 6 | F6: ='inv3.直径階分布'!R2 -> 8 | G6: ='inv3.直径階分布'!S2 -> 10 | H6: ='inv3.直径階分布'!T2 -> 12 | I6: ='inv3.直径階分布'!U2 -> 14 | J6: ='inv3.直径階分布'!V2 -> 16 | ... AB6: ='inv3.直径階分布'!AN2 -> 52
A7: 林 齢 （年） | B7: =IF('1.収穫を予測する'!$C$2="あり",'1.収穫を予測する'!J13,'1.収穫を予測する'!J22) -> 10 | C7: =IF('1.収穫を予測する'!$C$2="あり",'inv3.直径階分布'!DM7,'inv3.直径階分布'!DM16) -> 0 | D7: =IF('1.収穫を予測する'!$C$2="あり",'inv3.直径階分布'!DN7,'inv3.直径階分布'!DN16) -> 465.26026 | E7: =IF('1.収穫を予測する'!$C$2="あり",'inv3.直径階分布'!DO7,'inv3.直径階分布'!DO16) -> 959.83756 | F7: =IF('1.収穫を予測する'!$C$2="あり",'inv3.直径階分布'!DP7,'inv3.直径階分布'!DP16) -> 820.95625 | G7: =IF('1.収穫を予測する'!$C$2="あり",'inv3.直径階分布'!DQ7,'inv3.直径階分布'!DQ16) -> 214.67673 | H7: =IF('1.収穫を予測する'!$C$2="あり",'inv3.直径階分布'!DR7,'inv3.直径階分布'!DR16) -> 0.11653494 | I7: =IF('1.収穫を予測する'!$C$2="あり",'inv3.直径階分布'!DS7,'inv3.直径階分布'!DS16) -> 0 | J7: =IF('1.収穫を予測する'!$C$2="あり",'inv3.直径階分布'!DT7,'inv3.直径階分布'!DT16) -> 0 | ... AB7: =IF('1.収穫を予測する'!$C$2="あり",'inv3.直径階分布'!EL7,'inv3.直径階分布'!EL16) -> 0
B8: =IF('1.収穫を予測する'!$C$2="あり",'1.収穫を予測する'!J15,'1.収穫を予測する'!J24) -> 12 | C8: =IF('1.収穫を予測する'!$C$2="あり",'inv3.直径階分布'!DM9,'inv3.直径階分布'!DM18) -> 0 | D8: =IF('1.収穫を予測する'!$C$2="あり",'inv3.直径階分布'!DN9,'inv3.直径階分布'!DN18) -> 123.82506 | E8: =IF('1.収穫を予測する'!$C$2="あり",'inv3.直径階分布'!DO9,'inv3.直径階分布'!DO18) -> 571.95024 | F8: =IF('1.収穫を予測する'!$C$2="あり",'inv3.直径階分布'!DP9,'inv3.直径階分布'!DP18) -> 745.69513 | G8: =IF('1.収穫を予測する'!$C$2="あり",'inv3.直径階分布'!DQ9,'inv3.直径階分布'!DQ18) -> 651.18682 | H8: =IF('1.収穫を予測する'!$C$2="あり",'inv3.直径階分布'!DR9,'inv3.直径階分布'!DR18) -> 303.17474 | I8: =IF('1.収穫を予測する'!$C$2="あり",'inv3.直径階分布'!DS9,'inv3.直径階分布'!DS18) -> 24.43534 | J8: =IF('1.収穫を予測する'!$C$2="あり",'inv3.直径階分布'!DT9,'inv3.直径階分布'!DT18) -> 0 | ... AB8: =IF('1.収穫を予測する'!$C$2="あり",'inv3.直径階分布'!EL9,'inv3.直径階分布'!EL18) -> 0
B9: =IF('1.収穫を予測する'!$C$2="あり",'1.収穫を予測する'!J17,'1.収穫を予測する'!J26) -> 14 | C9: =IF('1.収穫を予測する'!$C$2="あり",'inv3.直径階分布'!DM11,'inv3.直径階分布'!DM20) -> 0 | D9: =IF('1.収穫を予測する'!$C$2="あり",'inv3.直径階分布'!DN11,'inv3.直径階分布'!DN20) -> 0 | E9: =IF('1.収穫を予測する'!$C$2="あり",'inv3.直径階分布'!DO11,'inv3.直径階分布'!DO20) -> 324.23076 | F9: =IF('1.収穫を予測する'!$C$2="あり",'inv3.直径階分布'!DP11,'inv3.直径階分布'!DP20) -> 521.90341 | G9: =IF('1.収穫を予測する'!$C$2="あり",'inv3.直径階分布'!DQ11,'inv3.直径階分布'!DQ20) -> 601.76067 | H9: =IF('1.収穫を予測する'!$C$2="あり",'inv3.直径階分布'!DR11,'inv3.直径階分布'!DR20) -> 530.52368 | I9: =IF('1.収穫を予測する'!$C$2="あり",'inv3.直径階分布'!DS11,'inv3.直径階分布'!DS20) -> 313.53811 | J9: =IF('1.収穫を予測する'!$C$2="あり",'inv3.直径階分布'!DT11,'inv3.直径階分布'!DT20) -> 72.571114 | ... AB9: =IF('1.収穫を予測する'!$C$2="あり",'inv3.直径階分布'!EL11,'inv3.直径階分布'!EL20) -> 0
B10: =IF('1.収穫を予測する'!$C$2="あり",'1.収穫を予測する'!J19,'1.収穫を予測する'!J28) -> 16 | C10: =IF('1.収穫を予測する'!$C$2="あり",'inv3.直径階分布'!DM13,'inv3.直径階分布'!DM22) -> 0 | D10: =IF('1.収穫を予測する'!$C$2="あり",'inv3.直径階分布'!DN13,'inv3.直径階分布'!DN22) -> 0 | E10: =IF('1.収穫を予測する'!$C$2="あり",'inv3.直径階分布'!DO13,'inv3.直径階分布'!DO22) -> 126.47811 | F10: =IF('1.収穫を予測する'!$C$2="あり",'inv3.直径階分布'!DP13,'inv3.直径階分布'!DP22) -> 362.39271 | G10: =IF('1.収穫を予測する'!$C$2="あり",'inv3.直径階分布'!DQ13,'inv3.直径階分布'!DQ22) -> 465.83678 | H10: =IF('1.収穫を予測する'!$C$2="あり",'inv3.直径階分布'!DR13,'inv3.直径階分布'!DR22) -> 501.06139 | I10: =IF('1.収穫を予測する'!$C$2="あり",'inv3.直径階分布'!DS13,'inv3.直径階分布'!DS22) -> 441.73604 | J10: =IF('1.収穫を予測する'!$C$2="あり",'inv3.直径階分布'!DT13,'inv3.直径階分布'!DT22) -> 291.08276 | ... AB10: =IF('1.収穫を予測する'!$C$2="あり",'inv3.直径階分布'!EL13,'inv3.直径階分布'!EL22) -> 0
B11: =IF('1.収穫を予測する'!$C$2="あり",'1.収穫を予測する'!J21,'1.収穫を予測する'!J30) -> 18 | C11: =IF('1.収穫を予測する'!$C$2="あり",'inv3.直径階分布'!DM15,'inv3.直径階分布'!DM24) -> 0 | D11: =IF('1.収穫を予測する'!$C$2="あり",'inv3.直径階分布'!DN15,'inv3.直径階分布'!DN24) -> 0 | E11: =IF('1.収穫を予測する'!$C$2="あり",'inv3.直径階分布'!DO15,'inv3.直径階分布'!DO24) -> 10.98031 | F11: =IF('1.収穫を予測する'!$C$2="あり",'inv3.直径階分布'!DP15,'inv3.直径階分布'!DP24) -> 260.00894 | G11: =IF('1.収穫を予測する'!$C$2="あり",'inv3.直径階分布'!DQ15,'inv3.直径階分布'!DQ24) -> 352.73206 | H11: =IF('1.収穫を予測する'!$C$2="あり",'inv3.直径階分布'!DR15,'inv3.直径階分布'!DR24) -> 415.1677 | I11: =IF('1.収穫を予測する'!$C$2="あり",'inv3.直径階分布'!DS15,'inv3.直径階分布'!DS24) -> 426.64876 | J11: =IF('1.収穫を予測する'!$C$2="あり",'inv3.直径階分布'!DT15,'inv3.直径階分布'!DT24) -> 373.90574 | ... AB11: =IF('1.収穫を予測する'!$C$2="あり",'inv3.直径階分布'!EL15,'inv3.直径階分布'!EL24) -> 0
B12: =IF('1.収穫を予測する'!$C$2="あり",'1.収穫を予測する'!J23,'1.収穫を予測する'!J32) -> 20 | C12: =IF('1.収穫を予測する'!$C$2="あり",'inv3.直径階分布'!DM17,'inv3.直径階分布'!DM26) -> 0 | D12: =IF('1.収穫を予測する'!$C$2="あり",'inv3.直径階分布'!DN17,'inv3.直径階分布'!DN26) -> 0 | E12: =IF('1.収穫を予測する'!$C$2="あり",'inv3.直径階分布'!DO17,'inv3.直径階分布'!DO26) -> 0 | F12: =IF('1.収穫を予測する'!$C$2="あり",'inv3.直径階分布'!DP17,'inv3.直径階分布'!DP26) -> 130.72238 | G12: =IF('1.収穫を予測する'!$C$2="あり",'inv3.直径階分布'!DQ17,'inv3.直径階分布'!DQ26) -> 270.54307 | H12: =IF('1.収穫を予測する'!$C$2="あり",'inv3.直径階分布'!DR17,'inv3.直径階分布'!DR26) -> 334.41339 | I12: =IF('1.収穫を予測する'!$C$2="あり",'inv3.直径階分布'!DS17,'inv3.直径階分布'!DS26) -> 371.25826 | J12: =IF('1.収穫を予測する'!$C$2="あり",'inv3.直径階分布'!DT17,'inv3.直径階分布'!DT26) -> 368.96784 | ... AB12: =IF('1.収穫を予測する'!$C$2="あり",'inv3.直径階分布'!EL17,'inv3.直径階分布'!EL26) -> 0
B13: =IF('1.収穫を予測する'!$C$2="あり",'1.収穫を予測する'!J25,'1.収穫を予測する'!J34) -> 22 | C13: =IF('1.収穫を予測する'!$C$2="あり",'inv3.直径階分布'!DM19,'inv3.直径階分布'!DM28) -> 0 | D13: =IF('1.収穫を予測する'!$C$2="あり",'inv3.直径階分布'!DN19,'inv3.直径階分布'!DN28) -> 0 | E13: =IF('1.収穫を予測する'!$C$2="あり",'inv3.直径階分布'!DO19,'inv3.直径階分布'!DO28) -> 0 | F13: =IF('1.収穫を予測する'!$C$2="あり",'inv3.直径階分布'!DP19,'inv3.直径階分布'!DP28) -> 35.288711 | G13: =IF('1.収穫を予測する'!$C$2="あり",'inv3.直径階分布'!DQ19,'inv3.直径階分布'!DQ28) -> 211.8076 | H13: =IF('1.収穫を予測する'!$C$2="あり",'inv3.直径階分布'!DR19,'inv3.直径階分布'!DR28) -> 269.7168 | I13: =IF('1.収穫を予測する'!$C$2="あり",'inv3.直径階分布'!DS19,'inv3.直径階分布'!DS28) -> 313.21421 | J13: =IF('1.収穫を予測する'!$C$2="あり",'inv3.直径階分布'!DT19,'inv3.直径階分布'!DT28) -> 333.34935 | ... AB13: =IF('1.収穫を予測する'!$C$2="あり",'inv3.直径階分布'!EL19,'inv3.直径階分布'!EL28) -> 0
B14: =IF('1.収穫を予測する'!$C$2="あり",'1.収穫を予測する'!J27,'1.収穫を予測する'!J36) -> 24 | C14: =IF('1.収穫を予測する'!$C$2="あり",'inv3.直径階分布'!DM21,'inv3.直径階分布'!DM30) -> 0 | D14: =IF('1.収穫を予測する'!$C$2="あり",'inv3.直径階分布'!DN21,'inv3.直径階分布'!DN30) -> 0 | E14: =IF('1.収穫を予測する'!$C$2="あり",'inv3.直径階分布'!DO21,'inv3.直径階分布'!DO30) -> 0 | F14: =IF('1.収穫を予測する'!$C$2="あり",'inv3.直径階分布'!DP21,'inv3.直径階分布'!DP30) -> 0 | G14: =IF('1.収穫を予測する'!$C$2="あり",'inv3.直径階分布'!DQ21,'inv3.直径階分布'!DQ30) -> 136.46767 | H14: =IF('1.収穫を予測する'!$C$2="あり",'inv3.直径階分布'!DR21,'inv3.直径階分布'!DR30) -> 219.86007 | I14: =IF('1.収穫を予測する'!$C$2="あり",'inv3.直径階分布'!DS21,'inv3.直径階分布'!DS30) -> 262.75346 | J14: =IF('1.収穫を予測する'!$C$2="あり",'inv3.直径階分布'!DT21,'inv3.直径階分布'!DT30) -> 291.64111 | ... AB14: =IF('1.収穫を予測する'!$C$2="あり",'inv3.直径階分布'!EL21,'inv3.直径階分布'!EL30) -> 0
B15: =IF('1.収穫を予測する'!$C$2="あり",'1.収穫を予測する'!J29,'1.収穫を予測する'!J38) -> 26 | C15: =IF('1.収穫を予測する'!$C$2="あり",'inv3.直径階分布'!DM23,'inv3.直径階分布'!DM32) -> 0 | D15: =IF('1.収穫を予測する'!$C$2="あり",'inv3.直径階分布'!DN23,'inv3.直径階分布'!DN32) -> 0 | E15: =IF('1.収穫を予測する'!$C$2="あり",'inv3.直径階分布'!DO23,'inv3.直径階分布'!DO32) -> 0 | F15: =IF('1.収穫を予測する'!$C$2="あり",'inv3.直径階分布'!DP23,'inv3.直径階分布'!DP32) -> 0 | G15: =IF('1.収穫を予測する'!$C$2="あり",'inv3.直径階分布'!DQ23,'inv3.直径階分布'!DQ32) -> 54.488819 | H15: =IF('1.収穫を予測する'!$C$2="あり",'inv3.直径階分布'!DR23,'inv3.直径階分布'!DR32) -> 181.62442 | I15: =IF('1.収穫を予測する'!$C$2="あり",'inv3.直径階分布'!DS23,'inv3.直径階分布'!DS32) -> 221.3332 | J15: =IF('1.収穫を予測する'!$C$2="あり",'inv3.直径階分布'!DT23,'inv3.直径階分布'!DT32) -> 252.59537 | ... AB15: =IF('1.収穫を予測する'!$C$2="あり",'inv3.直径階分布'!EL23,'inv3.直径階分布'!EL32) -> 0
B16: =IF('1.収穫を予測する'!$C$2="あり",'1.収穫を予測する'!J31,'1.収穫を予測する'!J40) -> 28 | C16: =IF('1.収穫を予測する'!$C$2="あり",'inv3.直径階分布'!DM25,'inv3.直径階分布'!DM34) -> 0 | D16: =IF('1.収穫を予測する'!$C$2="あり",'inv3.直径階分布'!DN25,'inv3.直径階分布'!DN34) -> 0 | E16: =IF('1.収穫を予測する'!$C$2="あり",'inv3.直径階分布'!DO25,'inv3.直径階分布'!DO34) -> 0 | F16: =IF('1.収穫を予測する'!$C$2="あり",'inv3.直径階分布'!DP25,'inv3.直径階分布'!DP34) -> 0 | G16: =IF('1.収穫を予測する'!$C$2="あり",'inv3.直径階分布'!DQ25,'inv3.直径階分布'!DQ34) -> 0 | H16: =IF('1.収穫を予測する'!$C$2="あり",'inv3.直径階分布'!DR25,'inv3.直径階分布'!DR34) -> 144.12789 | I16: =IF('1.収穫を予測する'!$C$2="あり",'inv3.直径階分布'!DS25,'inv3.直径階分布'!DS34) -> 187.95215 | J16: =IF('1.収穫を予測する'!$C$2="あり",'inv3.直径階分布'!DT25,'inv3.直径階分布'!DT34) -> 218.70726 | ... AB16: =IF('1.収穫を予測する'!$C$2="あり",'inv3.直径階分布'!EL25,'inv3.直径階分布'!EL34) -> 0
B17: =IF('1.収穫を予測する'!$C$2="あり",'1.収穫を予測する'!J33,'1.収穫を予測する'!J42) -> 30 | C17: =IF('1.収穫を予測する'!$C$2="あり",'inv3.直径階分布'!DM27,'inv3.直径階分布'!DM36) -> 0 | D17: =IF('1.収穫を予測する'!$C$2="あり",'inv3.直径階分布'!DN27,'inv3.直径階分布'!DN36) -> 0 | E17: =IF('1.収穫を予測する'!$C$2="あり",'inv3.直径階分布'!DO27,'inv3.直径階分布'!DO36) -> 0 | F17: =IF('1.収穫を予測する'!$C$2="あり",'inv3.直径階分布'!DP27,'inv3.直径階分布'!DP36) -> 0 | G17: =IF('1.収穫を予測する'!$C$2="あり",'inv3.直径階分布'!DQ27,'inv3.直径階分布'!DQ36) -> 0 | H17: =IF('1.収穫を予測する'!$C$2="あり",'inv3.直径階分布'!DR27,'inv3.直径階分布'!DR36) -> 72.360681 | I17: =IF('1.収穫を予測する'!$C$2="あり",'inv3.直径階分布'!DS27,'inv3.直径階分布'!DS36) -> 161.14182 | J17: =IF('1.収穫を予測する'!$C$2="あり",'inv3.直径階分布'!DT27,'inv3.直径階分布'!DT36) -> 190.17536 | ... AB17: =IF('1.収穫を予測する'!$C$2="あり",'inv3.直径階分布'!EL27,'inv3.直径階分布'!EL36) -> 0
B18: =IF('1.収穫を予測する'!$C$2="あり",'1.収穫を予測する'!J35,'1.収穫を予測する'!J44) -> 32 | C18: =IF('1.収穫を予測する'!$C$2="あり",'inv3.直径階分布'!DM29,'inv3.直径階分布'!DM38) -> 0 | D18: =IF('1.収穫を予測する'!$C$2="あり",'inv3.直径階分布'!DN29,'inv3.直径階分布'!DN38) -> 0 | E18: =IF('1.収穫を予測する'!$C$2="あり",'inv3.直径階分布'!DO29,'inv3.直径階分布'!DO38) -> 0 | F18: =IF('1.収穫を予測する'!$C$2="あり",'inv3.直径階分布'!DP29,'inv3.直径階分布'!DP38) -> 0 | G18: =IF('1.収穫を予測する'!$C$2="あり",'inv3.直径階分布'!DQ29,'inv3.直径階分布'!DQ38) -> 0 | H18: =IF('1.収穫を予測する'!$C$2="あり",'inv3.直径階分布'!DR29,'inv3.直径階分布'!DR38) -> 15.395972 | I18: =IF('1.収穫を予測する'!$C$2="あり",'inv3.直径階分布'!DS29,'inv3.直径階分布'!DS38) -> 139.54698 | J18: =IF('1.収穫を予測する'!$C$2="あり",'inv3.直径階分布'!DT29,'inv3.直径階分布'!DT38) -> 166.43942 | ... AB18: =IF('1.収穫を予測する'!$C$2="あり",'inv3.直径階分布'!EL29,'inv3.直径階分布'!EL38) -> 0
B19: =IF('1.収穫を予測する'!$C$2="あり",'1.収穫を予測する'!J37,'1.収穫を予測する'!J46) -> 34 | C19: =IF('1.収穫を予測する'!$C$2="あり",'inv3.直径階分布'!DM31,'inv3.直径階分布'!DM40) -> 0 | D19: =IF('1.収穫を予測する'!$C$2="あり",'inv3.直径階分布'!DN31,'inv3.直径階分布'!DN40) -> 0 | E19: =IF('1.収穫を予測する'!$C$2="あり",'inv3.直径階分布'!DO31,'inv3.直径階分布'!DO40) -> 0 | F19: =IF('1.収穫を予測する'!$C$2="あり",'inv3.直径階分布'!DP31,'inv3.直径階分布'!DP40) -> 0 | G19: =IF('1.収穫を予測する'!$C$2="あり",'inv3.直径階分布'!DQ31,'inv3.直径階分布'!DQ40) -> 0 | H19: =IF('1.収穫を予測する'!$C$2="あり",'inv3.直径階分布'!DR31,'inv3.直径階分布'!DR40) -> 0 | I19: =IF('1.収穫を予測する'!$C$2="あり",'inv3.直径階分布'!DS31,'inv3.直径階分布'!DS40) -> 91.551515 | J19: =IF('1.収穫を予測する'!$C$2="あり",'inv3.直径階分布'!DT31,'inv3.直径階分布'!DT40) -> 146.76187 | ... AB19: =IF('1.収穫を予測する'!$C$2="あり",'inv3.直径階分布'!EL31,'inv3.直径階分布'!EL40) -> 0
B20: =IF('1.収穫を予測する'!$C$2="あり",'1.収穫を予測する'!J39,'1.収穫を予測する'!J48) -> 36 | C20: =IF('1.収穫を予測する'!$C$2="あり",'inv3.直径階分布'!DM33,'inv3.直径階分布'!DM42) -> 0 | D20: =IF('1.収穫を予測する'!$C$2="あり",'inv3.直径階分布'!DN33,'inv3.直径階分布'!DN42) -> 0 | E20: =IF('1.収穫を予測する'!$C$2="あり",'inv3.直径階分布'!DO33,'inv3.直径階分布'!DO42) -> 0 | F20: =IF('1.収穫を予測する'!$C$2="あり",'inv3.直径階分布'!DP33,'inv3.直径階分布'!DP42) -> 0 | G20: =IF('1.収穫を予測する'!$C$2="あり",'inv3.直径階分布'!DQ33,'inv3.直径階分布'!DQ42) -> 0 | H20: =IF('1.収穫を予測する'!$C$2="あり",'inv3.直径階分布'!DR33,'inv3.直径階分布'!DR42) -> 0 | I20: =IF('1.収穫を予測する'!$C$2="あり",'inv3.直径階分布'!DS33,'inv3.直径階分布'!DS42) -> 39.817306 | J20: =IF('1.収穫を予測する'!$C$2="あり",'inv3.直径階分布'!DT33,'inv3.直径階分布'!DT42) -> 130.4365 | ... AB20: =IF('1.収穫を予測する'!$C$2="あり",'inv3.直径階分布'!EL33,'inv3.直径階分布'!EL42) -> 0
B21: =IF('1.収穫を予測する'!$C$2="あり",'1.収穫を予測する'!J41,'1.収穫を予測する'!J50) -> 38 | C21: =IF('1.収穫を予測する'!$C$2="あり",'inv3.直径階分布'!DM35,'inv3.直径階分布'!DM44) -> 0 | D21: =IF('1.収穫を予測する'!$C$2="あり",'inv3.直径階分布'!DN35,'inv3.直径階分布'!DN44) -> 0 | E21: =IF('1.収穫を予測する'!$C$2="あり",'inv3.直径階分布'!DO35,'inv3.直径階分布'!DO44) -> 0 | F21: =IF('1.収穫を予測する'!$C$2="あり",'inv3.直径階分布'!DP35,'inv3.直径階分布'!DP44) -> 0 | G21: =IF('1.収穫を予測する'!$C$2="あり",'inv3.直径階分布'!DQ35,'inv3.直径階分布'!DQ44) -> 0 | H21: =IF('1.収穫を予測する'!$C$2="あり",'inv3.直径階分布'!DR35,'inv3.直径階分布'!DR44) -> 0 | I21: =IF('1.収穫を予測する'!$C$2="あり",'inv3.直径階分布'!DS35,'inv3.直径階分布'!DS44) -> 0 | J21: =IF('1.収穫を予測する'!$C$2="あり",'inv3.直径階分布'!DT35,'inv3.直径階分布'!DT44) -> 114.01704 | ... AB21: =IF('1.収穫を予測する'!$C$2="あり",'inv3.直径階分布'!EL35,'inv3.直径階分布'!EL44) -> 0
B22: =IF('1.収穫を予測する'!$C$2="あり",'1.収穫を予測する'!J43,'1.収穫を予測する'!J52) -> 40 | C22: =IF('1.収穫を予測する'!$C$2="あり",'inv3.直径階分布'!DM37,'inv3.直径階分布'!DM46) -> 0 | D22: =IF('1.収穫を予測する'!$C$2="あり",'inv3.直径階分布'!DN37,'inv3.直径階分布'!DN46) -> 0 | E22: =IF('1.収穫を予測する'!$C$2="あり",'inv3.直径階分布'!DO37,'inv3.直径階分布'!DO46) -> 0 | F22: =IF('1.収穫を予測する'!$C$2="あり",'inv3.直径階分布'!DP37,'inv3.直径階分布'!DP46) -> 0 | G22: =IF('1.収穫を予測する'!$C$2="あり",'inv3.直径階分布'!DQ37,'inv3.直径階分布'!DQ46) -> 0 | H22: =IF('1.収穫を予測する'!$C$2="あり",'inv3.直径階分布'!DR37,'inv3.直径階分布'!DR46) -> 0 | I22: =IF('1.収穫を予測する'!$C$2="あり",'inv3.直径階分布'!DS37,'inv3.直径階分布'!DS46) -> 0 | J22: =IF('1.収穫を予測する'!$C$2="あり",'inv3.直径階分布'!DT37,'inv3.直径階分布'!DT46) -> 67.180434 | ... AB22: =IF('1.収穫を予測する'!$C$2="あり",'inv3.直径階分布'!EL37,'inv3.直径階分布'!EL46) -> 0
B23: =IF('1.収穫を予測する'!$C$2="あり",'1.収穫を予測する'!J45,'1.収穫を予測する'!J54) -> 42 | C23: =IF('1.収穫を予測する'!$C$2="あり",'inv3.直径階分布'!DM39,'inv3.直径階分布'!DM48) -> 0 | D23: =IF('1.収穫を予測する'!$C$2="あり",'inv3.直径階分布'!DN39,'inv3.直径階分布'!DN48) -> 0 | E23: =IF('1.収穫を予測する'!$C$2="あり",'inv3.直径階分布'!DO39,'inv3.直径階分布'!DO48) -> 0 | F23: =IF('1.収穫を予測する'!$C$2="あり",'inv3.直径階分布'!DP39,'inv3.直径階分布'!DP48) -> 0 | G23: =IF('1.収穫を予測する'!$C$2="あり",'inv3.直径階分布'!DQ39,'inv3.直径階分布'!DQ48) -> 0 | H23: =IF('1.収穫を予測する'!$C$2="あり",'inv3.直径階分布'!DR39,'inv3.直径階分布'!DR48) -> 0 | I23: =IF('1.収穫を予測する'!$C$2="あり",'inv3.直径階分布'!DS39,'inv3.直径階分布'!DS48) -> 0 | J23: =IF('1.収穫を予測する'!$C$2="あり",'inv3.直径階分布'!DT39,'inv3.直径階分布'!DT48) -> 27.886878 | ... AB23: =IF('1.収穫を予測する'!$C$2="あり",'inv3.直径階分布'!EL39,'inv3.直径階分布'!EL48) -> 0
B24: =IF('1.収穫を予測する'!$C$2="あり",'1.収穫を予測する'!J47,'1.収穫を予測する'!J56) -> 44 | C24: =IF('1.収穫を予測する'!$C$2="あり",'inv3.直径階分布'!DM41,'inv3.直径階分布'!DM50) -> 0 | D24: =IF('1.収穫を予測する'!$C$2="あり",'inv3.直径階分布'!DN41,'inv3.直径階分布'!DN50) -> 0 | E24: =IF('1.収穫を予測する'!$C$2="あり",'inv3.直径階分布'!DO41,'inv3.直径階分布'!DO50) -> 0 | F24: =IF('1.収穫を予測する'!$C$2="あり",'inv3.直径階分布'!DP41,'inv3.直径階分布'!DP50) -> 0 | G24: =IF('1.収穫を予測する'!$C$2="あり",'inv3.直径階分布'!DQ41,'inv3.直径階分布'!DQ50) -> 0 | H24: =IF('1.収穫を予測する'!$C$2="あり",'inv3.直径階分布'!DR41,'inv3.直径階分布'!DR50) -> 0 | I24: =IF('1.収穫を予測する'!$C$2="あり",'inv3.直径階分布'!DS41,'inv3.直径階分布'!DS50) -> 0 | J24: =IF('1.収穫を予測する'!$C$2="あり",'inv3.直径階分布'!DT41,'inv3.直径階分布'!DT50) -> 0 | ... AB24: =IF('1.収穫を予測する'!$C$2="あり",'inv3.直径階分布'!EL41,'inv3.直径階分布'!EL50) -> 0
B25: =IF('1.収穫を予測する'!$C$2="あり",'1.収穫を予測する'!J49,'1.収穫を予測する'!J58) -> 46 | C25: =IF('1.収穫を予測する'!$C$2="あり",'inv3.直径階分布'!DM43,'inv3.直径階分布'!DM52) -> 0 | D25: =IF('1.収穫を予測する'!$C$2="あり",'inv3.直径階分布'!DN43,'inv3.直径階分布'!DN52) -> 0 | E25: =IF('1.収穫を予測する'!$C$2="あり",'inv3.直径階分布'!DO43,'inv3.直径階分布'!DO52) -> 0 | F25: =IF('1.収穫を予測する'!$C$2="あり",'inv3.直径階分布'!DP43,'inv3.直径階分布'!DP52) -> 0 | G25: =IF('1.収穫を予測する'!$C$2="あり",'inv3.直径階分布'!DQ43,'inv3.直径階分布'!DQ52) -> 0 | H25: =IF('1.収穫を予測する'!$C$2="あり",'inv3.直径階分布'!DR43,'inv3.直径階分布'!DR52) -> 0 | I25: =IF('1.収穫を予測する'!$C$2="あり",'inv3.直径階分布'!DS43,'inv3.直径階分布'!DS52) -> 0 | J25: =IF('1.収穫を予測する'!$C$2="あり",'inv3.直径階分布'!DT43,'inv3.直径階分布'!DT52) -> 0 | ... AB25: =IF('1.収穫を予測する'!$C$2="あり",'inv3.直径階分布'!EL43,'inv3.直径階分布'!EL52) -> 0
B26: =IF('1.収穫を予測する'!$C$2="あり",'1.収穫を予測する'!J51,'1.収穫を予測する'!J60) -> 48 | C26: =IF('1.収穫を予測する'!$C$2="あり",'inv3.直径階分布'!DM45,'inv3.直径階分布'!DM54) -> 0 | D26: =IF('1.収穫を予測する'!$C$2="あり",'inv3.直径階分布'!DN45,'inv3.直径階分布'!DN54) -> 0 | E26: =IF('1.収穫を予測する'!$C$2="あり",'inv3.直径階分布'!DO45,'inv3.直径階分布'!DO54) -> 0 | F26: =IF('1.収穫を予測する'!$C$2="あり",'inv3.直径階分布'!DP45,'inv3.直径階分布'!DP54) -> 0 | G26: =IF('1.収穫を予測する'!$C$2="あり",'inv3.直径階分布'!DQ45,'inv3.直径階分布'!DQ54) -> 0 | H26: =IF('1.収穫を予測する'!$C$2="あり",'inv3.直径階分布'!DR45,'inv3.直径階分布'!DR54) -> 0 | I26: =IF('1.収穫を予測する'!$C$2="あり",'inv3.直径階分布'!DS45,'inv3.直径階分布'!DS54) -> 0 | J26: =IF('1.収穫を予測する'!$C$2="あり",'inv3.直径階分布'!DT45,'inv3.直径階分布'!DT54) -> 0 | ... AB26: =IF('1.収穫を予測する'!$C$2="あり",'inv3.直径階分布'!EL45,'inv3.直径階分布'!EL54) -> 0
B27: =IF('1.収穫を予測する'!$C$2="あり",'1.収穫を予測する'!J53,'1.収穫を予測する'!J62) -> 50 | C27: =IF('1.収穫を予測する'!$C$2="あり",'inv3.直径階分布'!DM47,'inv3.直径階分布'!DM56) -> 0 | D27: =IF('1.収穫を予測する'!$C$2="あり",'inv3.直径階分布'!DN47,'inv3.直径階分布'!DN56) -> 0 | E27: =IF('1.収穫を予測する'!$C$2="あり",'inv3.直径階分布'!DO47,'inv3.直径階分布'!DO56) -> 0 | F27: =IF('1.収穫を予測する'!$C$2="あり",'inv3.直径階分布'!DP47,'inv3.直径階分布'!DP56) -> 0 | G27: =IF('1.収穫を予測する'!$C$2="あり",'inv3.直径階分布'!DQ47,'inv3.直径階分布'!DQ56) -> 0 | H27: =IF('1.収穫を予測する'!$C$2="あり",'inv3.直径階分布'!DR47,'inv3.直径階分布'!DR56) -> 0 | I27: =IF('1.収穫を予測する'!$C$2="あり",'inv3.直径階分布'!DS47,'inv3.直径階分布'!DS56) -> 0 | J27: =IF('1.収穫を予測する'!$C$2="あり",'inv3.直径階分布'!DT47,'inv3.直径階分布'!DT56) -> 0 | ... AB27: =IF('1.収穫を予測する'!$C$2="あり",'inv3.直径階分布'!EL47,'inv3.直径階分布'!EL56) -> 0
B28: =IF('1.収穫を予測する'!$C$2="あり",'1.収穫を予測する'!J55,'1.収穫を予測する'!J64) -> 52 | C28: =IF('1.収穫を予測する'!$C$2="あり",'inv3.直径階分布'!DM49,'inv3.直径階分布'!DM58) -> 0 | D28: =IF('1.収穫を予測する'!$C$2="あり",'inv3.直径階分布'!DN49,'inv3.直径階分布'!DN58) -> 0 | E28: =IF('1.収穫を予測する'!$C$2="あり",'inv3.直径階分布'!DO49,'inv3.直径階分布'!DO58) -> 0 | F28: =IF('1.収穫を予測する'!$C$2="あり",'inv3.直径階分布'!DP49,'inv3.直径階分布'!DP58) -> 0 | G28: =IF('1.収穫を予測する'!$C$2="あり",'inv3.直径階分布'!DQ49,'inv3.直径階分布'!DQ58) -> 0 | H28: =IF('1.収穫を予測する'!$C$2="あり",'inv3.直径階分布'!DR49,'inv3.直径階分布'!DR58) -> 0 | I28: =IF('1.収穫を予測する'!$C$2="あり",'inv3.直径階分布'!DS49,'inv3.直径階分布'!DS58) -> 0 | J28: =IF('1.収穫を予測する'!$C$2="あり",'inv3.直径階分布'!DT49,'inv3.直径階分布'!DT58) -> 0 | ... AB28: =IF('1.収穫を予測する'!$C$2="あり",'inv3.直径階分布'!EL49,'inv3.直径階分布'!EL58) -> 0
B29: =IF('1.収穫を予測する'!$C$2="あり",'1.収穫を予測する'!J57,'1.収穫を予測する'!J66) -> 54 | C29: =IF('1.収穫を予測する'!$C$2="あり",'inv3.直径階分布'!DM51,'inv3.直径階分布'!DM60) -> 0 | D29: =IF('1.収穫を予測する'!$C$2="あり",'inv3.直径階分布'!DN51,'inv3.直径階分布'!DN60) -> 0 | E29: =IF('1.収穫を予測する'!$C$2="あり",'inv3.直径階分布'!DO51,'inv3.直径階分布'!DO60) -> 0 | F29: =IF('1.収穫を予測する'!$C$2="あり",'inv3.直径階分布'!DP51,'inv3.直径階分布'!DP60) -> 0 | G29: =IF('1.収穫を予測する'!$C$2="あり",'inv3.直径階分布'!DQ51,'inv3.直径階分布'!DQ60) -> 0 | H29: =IF('1.収穫を予測する'!$C$2="あり",'inv3.直径階分布'!DR51,'inv3.直径階分布'!DR60) -> 0 | I29: =IF('1.収穫を予測する'!$C$2="あり",'inv3.直径階分布'!DS51,'inv3.直径階分布'!DS60) -> 0 | J29: =IF('1.収穫を予測する'!$C$2="あり",'inv3.直径階分布'!DT51,'inv3.直径階分布'!DT60) -> 0 | ... AB29: =IF('1.収穫を予測する'!$C$2="あり",'inv3.直径階分布'!EL51,'inv3.直径階分布'!EL60) -> 0
B30: =IF('1.収穫を予測する'!$C$2="あり",'1.収穫を予測する'!J59,'1.収穫を予測する'!J68) -> 56 | C30: =IF('1.収穫を予測する'!$C$2="あり",'inv3.直径階分布'!DM53,'inv3.直径階分布'!DM62) -> 0 | D30: =IF('1.収穫を予測する'!$C$2="あり",'inv3.直径階分布'!DN53,'inv3.直径階分布'!DN62) -> 0 | E30: =IF('1.収穫を予測する'!$C$2="あり",'inv3.直径階分布'!DO53,'inv3.直径階分布'!DO62) -> 0 | F30: =IF('1.収穫を予測する'!$C$2="あり",'inv3.直径階分布'!DP53,'inv3.直径階分布'!DP62) -> 0 | G30: =IF('1.収穫を予測する'!$C$2="あり",'inv3.直径階分布'!DQ53,'inv3.直径階分布'!DQ62) -> 0 | H30: =IF('1.収穫を予測する'!$C$2="あり",'inv3.直径階分布'!DR53,'inv3.直径階分布'!DR62) -> 0 | I30: =IF('1.収穫を予測する'!$C$2="あり",'inv3.直径階分布'!DS53,'inv3.直径階分布'!DS62) -> 0 | J30: =IF('1.収穫を予測する'!$C$2="あり",'inv3.直径階分布'!DT53,'inv3.直径階分布'!DT62) -> 0 | ... AB30: =IF('1.収穫を予測する'!$C$2="あり",'inv3.直径階分布'!EL53,'inv3.直径階分布'!EL62) -> 0
B31: =IF('1.収穫を予測する'!$C$2="あり",'1.収穫を予測する'!J61,'1.収穫を予測する'!J70) -> 58 | C31: =IF('1.収穫を予測する'!$C$2="あり",'inv3.直径階分布'!DM55,'inv3.直径階分布'!DM64) -> 0 | D31: =IF('1.収穫を予測する'!$C$2="あり",'inv3.直径階分布'!DN55,'inv3.直径階分布'!DN64) -> 0 | E31: =IF('1.収穫を予測する'!$C$2="あり",'inv3.直径階分布'!DO55,'inv3.直径階分布'!DO64) -> 0 | F31: =IF('1.収穫を予測する'!$C$2="あり",'inv3.直径階分布'!DP55,'inv3.直径階分布'!DP64) -> 0 | G31: =IF('1.収穫を予測する'!$C$2="あり",'inv3.直径階分布'!DQ55,'inv3.直径階分布'!DQ64) -> 0 | H31: =IF('1.収穫を予測する'!$C$2="あり",'inv3.直径階分布'!DR55,'inv3.直径階分布'!DR64) -> 0 | I31: =IF('1.収穫を予測する'!$C$2="あり",'inv3.直径階分布'!DS55,'inv3.直径階分布'!DS64) -> 0 | J31: =IF('1.収穫を予測する'!$C$2="あり",'inv3.直径階分布'!DT55,'inv3.直径階分布'!DT64) -> 0 | ... AB31: =IF('1.収穫を予測する'!$C$2="あり",'inv3.直径階分布'!EL55,'inv3.直径階分布'!EL64) -> 0
B32: =IF('1.収穫を予測する'!$C$2="あり",'1.収穫を予測する'!J63,'1.収穫を予測する'!J72) -> 60 | C32: =IF('1.収穫を予測する'!$C$2="あり",'inv3.直径階分布'!DM57,'inv3.直径階分布'!DM66) -> 0 | D32: =IF('1.収穫を予測する'!$C$2="あり",'inv3.直径階分布'!DN57,'inv3.直径階分布'!DN66) -> 0 | E32: =IF('1.収穫を予測する'!$C$2="あり",'inv3.直径階分布'!DO57,'inv3.直径階分布'!DO66) -> 0 | F32: =IF('1.収穫を予測する'!$C$2="あり",'inv3.直径階分布'!DP57,'inv3.直径階分布'!DP66) -> 0 | G32: =IF('1.収穫を予測する'!$C$2="あり",'inv3.直径階分布'!DQ57,'inv3.直径階分布'!DQ66) -> 0 | H32: =IF('1.収穫を予測する'!$C$2="あり",'inv3.直径階分布'!DR57,'inv3.直径階分布'!DR66) -> 0 | I32: =IF('1.収穫を予測する'!$C$2="あり",'inv3.直径階分布'!DS57,'inv3.直径階分布'!DS66) -> 0 | J32: =IF('1.収穫を予測する'!$C$2="あり",'inv3.直径階分布'!DT57,'inv3.直径階分布'!DT66) -> 0 | ... AB32: =IF('1.収穫を予測する'!$C$2="あり",'inv3.直径階分布'!EL57,'inv3.直径階分布'!EL66) -> 0
B33: =IF('1.収穫を予測する'!$C$2="あり",'1.収穫を予測する'!J65,'1.収穫を予測する'!J74) -> 62 | C33: =IF('1.収穫を予測する'!$C$2="あり",'inv3.直径階分布'!DM59,'inv3.直径階分布'!DM68) -> 0 | D33: =IF('1.収穫を予測する'!$C$2="あり",'inv3.直径階分布'!DN59,'inv3.直径階分布'!DN68) -> 0 | E33: =IF('1.収穫を予測する'!$C$2="あり",'inv3.直径階分布'!DO59,'inv3.直径階分布'!DO68) -> 0 | F33: =IF('1.収穫を予測する'!$C$2="あり",'inv3.直径階分布'!DP59,'inv3.直径階分布'!DP68) -> 0 | G33: =IF('1.収穫を予測する'!$C$2="あり",'inv3.直径階分布'!DQ59,'inv3.直径階分布'!DQ68) -> 0 | H33: =IF('1.収穫を予測する'!$C$2="あり",'inv3.直径階分布'!DR59,'inv3.直径階分布'!DR68) -> 0 | I33: =IF('1.収穫を予測する'!$C$2="あり",'inv3.直径階分布'!DS59,'inv3.直径階分布'!DS68) -> 0 | J33: =IF('1.収穫を予測する'!$C$2="あり",'inv3.直径階分布'!DT59,'inv3.直径階分布'!DT68) -> 0 | ... AB33: =IF('1.収穫を予測する'!$C$2="あり",'inv3.直径階分布'!EL59,'inv3.直径階分布'!EL68) -> 0
B34: =IF('1.収穫を予測する'!$C$2="あり",'1.収穫を予測する'!J67,'1.収穫を予測する'!J76) -> 64 | C34: =IF('1.収穫を予測する'!$C$2="あり",'inv3.直径階分布'!DM61,'inv3.直径階分布'!DM70) -> 0 | D34: =IF('1.収穫を予測する'!$C$2="あり",'inv3.直径階分布'!DN61,'inv3.直径階分布'!DN70) -> 0 | E34: =IF('1.収穫を予測する'!$C$2="あり",'inv3.直径階分布'!DO61,'inv3.直径階分布'!DO70) -> 0 | F34: =IF('1.収穫を予測する'!$C$2="あり",'inv3.直径階分布'!DP61,'inv3.直径階分布'!DP70) -> 0 | G34: =IF('1.収穫を予測する'!$C$2="あり",'inv3.直径階分布'!DQ61,'inv3.直径階分布'!DQ70) -> 0 | H34: =IF('1.収穫を予測する'!$C$2="あり",'inv3.直径階分布'!DR61,'inv3.直径階分布'!DR70) -> 0 | I34: =IF('1.収穫を予測する'!$C$2="あり",'inv3.直径階分布'!DS61,'inv3.直径階分布'!DS70) -> 0 | J34: =IF('1.収穫を予測する'!$C$2="あり",'inv3.直径階分布'!DT61,'inv3.直径階分布'!DT70) -> 0 | ... AB34: =IF('1.収穫を予測する'!$C$2="あり",'inv3.直径階分布'!EL61,'inv3.直径階分布'!EL70) -> 0
B35: =IF('1.収穫を予測する'!$C$2="あり",'1.収穫を予測する'!J69,'1.収穫を予測する'!J78) -> 66 | C35: =IF('1.収穫を予測する'!$C$2="あり",'inv3.直径階分布'!DM63,'inv3.直径階分布'!DM72) -> 0 | D35: =IF('1.収穫を予測する'!$C$2="あり",'inv3.直径階分布'!DN63,'inv3.直径階分布'!DN72) -> 0 | E35: =IF('1.収穫を予測する'!$C$2="あり",'inv3.直径階分布'!DO63,'inv3.直径階分布'!DO72) -> 0 | F35: =IF('1.収穫を予測する'!$C$2="あり",'inv3.直径階分布'!DP63,'inv3.直径階分布'!DP72) -> 0 | G35: =IF('1.収穫を予測する'!$C$2="あり",'inv3.直径階分布'!DQ63,'inv3.直径階分布'!DQ72) -> 0 | H35: =IF('1.収穫を予測する'!$C$2="あり",'inv3.直径階分布'!DR63,'inv3.直径階分布'!DR72) -> 0 | I35: =IF('1.収穫を予測する'!$C$2="あり",'inv3.直径階分布'!DS63,'inv3.直径階分布'!DS72) -> 0 | J35: =IF('1.収穫を予測する'!$C$2="あり",'inv3.直径階分布'!DT63,'inv3.直径階分布'!DT72) -> 0 | ... AB35: =IF('1.収穫を予測する'!$C$2="あり",'inv3.直径階分布'!EL63,'inv3.直径階分布'!EL72) -> 0
B36: =IF('1.収穫を予測する'!$C$2="あり",'1.収穫を予測する'!J71,'1.収穫を予測する'!J80) -> 68 | C36: =IF('1.収穫を予測する'!$C$2="あり",'inv3.直径階分布'!DM65,'inv3.直径階分布'!DM74) -> 0 | D36: =IF('1.収穫を予測する'!$C$2="あり",'inv3.直径階分布'!DN65,'inv3.直径階分布'!DN74) -> 0 | E36: =IF('1.収穫を予測する'!$C$2="あり",'inv3.直径階分布'!DO65,'inv3.直径階分布'!DO74) -> 0 | F36: =IF('1.収穫を予測する'!$C$2="あり",'inv3.直径階分布'!DP65,'inv3.直径階分布'!DP74) -> 0 | G36: =IF('1.収穫を予測する'!$C$2="あり",'inv3.直径階分布'!DQ65,'inv3.直径階分布'!DQ74) -> 0 | H36: =IF('1.収穫を予測する'!$C$2="あり",'inv3.直径階分布'!DR65,'inv3.直径階分布'!DR74) -> 0 | I36: =IF('1.収穫を予測する'!$C$2="あり",'inv3.直径階分布'!DS65,'inv3.直径階分布'!DS74) -> 0 | J36: =IF('1.収穫を予測する'!$C$2="あり",'inv3.直径階分布'!DT65,'inv3.直径階分布'!DT74) -> 0 | ... AB36: =IF('1.収穫を予測する'!$C$2="あり",'inv3.直径階分布'!EL65,'inv3.直径階分布'!EL74) -> 0
B37: =IF('1.収穫を予測する'!$C$2="あり",'1.収穫を予測する'!J73,'1.収穫を予測する'!J82) -> 70 | C37: =IF('1.収穫を予測する'!$C$2="あり",'inv3.直径階分布'!DM67,'inv3.直径階分布'!DM76) -> 0 | D37: =IF('1.収穫を予測する'!$C$2="あり",'inv3.直径階分布'!DN67,'inv3.直径階分布'!DN76) -> 0 | E37: =IF('1.収穫を予測する'!$C$2="あり",'inv3.直径階分布'!DO67,'inv3.直径階分布'!DO76) -> 0 | F37: =IF('1.収穫を予測する'!$C$2="あり",'inv3.直径階分布'!DP67,'inv3.直径階分布'!DP76) -> 0 | G37: =IF('1.収穫を予測する'!$C$2="あり",'inv3.直径階分布'!DQ67,'inv3.直径階分布'!DQ76) -> 0 | H37: =IF('1.収穫を予測する'!$C$2="あり",'inv3.直径階分布'!DR67,'inv3.直径階分布'!DR76) -> 0 | I37: =IF('1.収穫を予測する'!$C$2="あり",'inv3.直径階分布'!DS67,'inv3.直径階分布'!DS76) -> 0 | J37: =IF('1.収穫を予測する'!$C$2="あり",'inv3.直径階分布'!DT67,'inv3.直径階分布'!DT76) -> 0 | ... AB37: =IF('1.収穫を予測する'!$C$2="あり",'inv3.直径階分布'!EL67,'inv3.直径階分布'!EL76) -> 0
B38: =IF('1.収穫を予測する'!$C$2="あり",'1.収穫を予測する'!J75,'1.収穫を予測する'!J84) -> 72 | C38: =IF('1.収穫を予測する'!$C$2="あり",'inv3.直径階分布'!DM69,'inv3.直径階分布'!DM78) -> 0 | D38: =IF('1.収穫を予測する'!$C$2="あり",'inv3.直径階分布'!DN69,'inv3.直径階分布'!DN78) -> 0 | E38: =IF('1.収穫を予測する'!$C$2="あり",'inv3.直径階分布'!DO69,'inv3.直径階分布'!DO78) -> 0 | F38: =IF('1.収穫を予測する'!$C$2="あり",'inv3.直径階分布'!DP69,'inv3.直径階分布'!DP78) -> 0 | G38: =IF('1.収穫を予測する'!$C$2="あり",'inv3.直径階分布'!DQ69,'inv3.直径階分布'!DQ78) -> 0 | H38: =IF('1.収穫を予測する'!$C$2="あり",'inv3.直径階分布'!DR69,'inv3.直径階分布'!DR78) -> 0 | I38: =IF('1.収穫を予測する'!$C$2="あり",'inv3.直径階分布'!DS69,'inv3.直径階分布'!DS78) -> 0 | J38: =IF('1.収穫を予測する'!$C$2="あり",'inv3.直径階分布'!DT69,'inv3.直径階分布'!DT78) -> 0 | ... AB38: =IF('1.収穫を予測する'!$C$2="あり",'inv3.直径階分布'!EL69,'inv3.直径階分布'!EL78) -> 0
B39: =IF('1.収穫を予測する'!$C$2="あり",'1.収穫を予測する'!J77,'1.収穫を予測する'!J86) -> 74 | C39: =IF('1.収穫を予測する'!$C$2="あり",'inv3.直径階分布'!DM71,'inv3.直径階分布'!DM80) -> 0 | D39: =IF('1.収穫を予測する'!$C$2="あり",'inv3.直径階分布'!DN71,'inv3.直径階分布'!DN80) -> 0 | E39: =IF('1.収穫を予測する'!$C$2="あり",'inv3.直径階分布'!DO71,'inv3.直径階分布'!DO80) -> 0 | F39: =IF('1.収穫を予測する'!$C$2="あり",'inv3.直径階分布'!DP71,'inv3.直径階分布'!DP80) -> 0 | G39: =IF('1.収穫を予測する'!$C$2="あり",'inv3.直径階分布'!DQ71,'inv3.直径階分布'!DQ80) -> 0 | H39: =IF('1.収穫を予測する'!$C$2="あり",'inv3.直径階分布'!DR71,'inv3.直径階分布'!DR80) -> 0 | I39: =IF('1.収穫を予測する'!$C$2="あり",'inv3.直径階分布'!DS71,'inv3.直径階分布'!DS80) -> 0 | J39: =IF('1.収穫を予測する'!$C$2="あり",'inv3.直径階分布'!DT71,'inv3.直径階分布'!DT80) -> 0 | ... AB39: =IF('1.収穫を予測する'!$C$2="あり",'inv3.直径階分布'!EL71,'inv3.直径階分布'!EL80) -> 0
B40: =IF('1.収穫を予測する'!$C$2="あり",'1.収穫を予測する'!J79,'1.収穫を予測する'!J88) -> 76 | C40: =IF('1.収穫を予測する'!$C$2="あり",'inv3.直径階分布'!DM73,'inv3.直径階分布'!DM82) -> 0 | D40: =IF('1.収穫を予測する'!$C$2="あり",'inv3.直径階分布'!DN73,'inv3.直径階分布'!DN82) -> 0 | E40: =IF('1.収穫を予測する'!$C$2="あり",'inv3.直径階分布'!DO73,'inv3.直径階分布'!DO82) -> 0 | F40: =IF('1.収穫を予測する'!$C$2="あり",'inv3.直径階分布'!DP73,'inv3.直径階分布'!DP82) -> 0 | G40: =IF('1.収穫を予測する'!$C$2="あり",'inv3.直径階分布'!DQ73,'inv3.直径階分布'!DQ82) -> 0 | H40: =IF('1.収穫を予測する'!$C$2="あり",'inv3.直径階分布'!DR73,'inv3.直径階分布'!DR82) -> 0 | I40: =IF('1.収穫を予測する'!$C$2="あり",'inv3.直径階分布'!DS73,'inv3.直径階分布'!DS82) -> 0 | J40: =IF('1.収穫を予測する'!$C$2="あり",'inv3.直径階分布'!DT73,'inv3.直径階分布'!DT82) -> 0 | ... AB40: =IF('1.収穫を予測する'!$C$2="あり",'inv3.直径階分布'!EL73,'inv3.直径階分布'!EL82) -> 0
B41: =IF('1.収穫を予測する'!$C$2="あり",'1.収穫を予測する'!J81,'1.収穫を予測する'!J90) -> 78 | C41: =IF('1.収穫を予測する'!$C$2="あり",'inv3.直径階分布'!DM75,'inv3.直径階分布'!DM84) -> 0 | D41: =IF('1.収穫を予測する'!$C$2="あり",'inv3.直径階分布'!DN75,'inv3.直径階分布'!DN84) -> 0 | E41: =IF('1.収穫を予測する'!$C$2="あり",'inv3.直径階分布'!DO75,'inv3.直径階分布'!DO84) -> 0 | F41: =IF('1.収穫を予測する'!$C$2="あり",'inv3.直径階分布'!DP75,'inv3.直径階分布'!DP84) -> 0 | G41: =IF('1.収穫を予測する'!$C$2="あり",'inv3.直径階分布'!DQ75,'inv3.直径階分布'!DQ84) -> 0 | H41: =IF('1.収穫を予測する'!$C$2="あり",'inv3.直径階分布'!DR75,'inv3.直径階分布'!DR84) -> 0 | I41: =IF('1.収穫を予測する'!$C$2="あり",'inv3.直径階分布'!DS75,'inv3.直径階分布'!DS84) -> 0 | J41: =IF('1.収穫を予測する'!$C$2="あり",'inv3.直径階分布'!DT75,'inv3.直径階分布'!DT84) -> 0 | ... AB41: =IF('1.収穫を予測する'!$C$2="あり",'inv3.直径階分布'!EL75,'inv3.直径階分布'!EL84) -> 0
B42: =IF('1.収穫を予測する'!$C$2="あり",'1.収穫を予測する'!J83,'1.収穫を予測する'!J92) -> 80 | C42: =IF('1.収穫を予測する'!$C$2="あり",'inv3.直径階分布'!DM77,'inv3.直径階分布'!DM86) -> 0 | D42: =IF('1.収穫を予測する'!$C$2="あり",'inv3.直径階分布'!DN77,'inv3.直径階分布'!DN86) -> 0 | E42: =IF('1.収穫を予測する'!$C$2="あり",'inv3.直径階分布'!DO77,'inv3.直径階分布'!DO86) -> 0 | F42: =IF('1.収穫を予測する'!$C$2="あり",'inv3.直径階分布'!DP77,'inv3.直径階分布'!DP86) -> 0 | G42: =IF('1.収穫を予測する'!$C$2="あり",'inv3.直径階分布'!DQ77,'inv3.直径階分布'!DQ86) -> 0 | H42: =IF('1.収穫を予測する'!$C$2="あり",'inv3.直径階分布'!DR77,'inv3.直径階分布'!DR86) -> 0 | I42: =IF('1.収穫を予測する'!$C$2="あり",'inv3.直径階分布'!DS77,'inv3.直径階分布'!DS86) -> 0 | J42: =IF('1.収穫を予測する'!$C$2="あり",'inv3.直径階分布'!DT77,'inv3.直径階分布'!DT86) -> 0 | ... AB42: =IF('1.収穫を予測する'!$C$2="あり",'inv3.直径階分布'!EL77,'inv3.直径階分布'!EL86) -> 0
B45: 2.2 間伐木径級分布
B46: cm以上 | C46: ='inv3.直径階分布'!N2 -> 0 | D46: ='inv3.直径階分布'!O2 -> 2 | E46: ='inv3.直径階分布'!P2 -> 4 | F46: ='inv3.直径階分布'!Q2 -> 6 | G46: ='inv3.直径階分布'!R2 -> 8 | H46: ='inv3.直径階分布'!S2 -> 10 | I46: ='inv3.直径階分布'!T2 -> 12 | J46: ='inv3.直径階分布'!U2 -> 14 | ... AB46: ='inv3.直径階分布'!AM2 -> 50
B47: cm未満 | C47: ='inv3.直径階分布'!O2 -> 2 | D47: ='inv3.直径階分布'!P2 -> 4 | E47: ='inv3.直径階分布'!Q2 -> 6 | F47: ='inv3.直径階分布'!R2 -> 8 | G47: ='inv3.直径階分布'!S2 -> 10 | H47: ='inv3.直径階分布'!T2 -> 12 | I47: ='inv3.直径階分布'!U2 -> 14 | J47: ='inv3.直径階分布'!V2 -> 16 | ... AB47: ='inv3.直径階分布'!AN2 -> 52
A48: 林 齢 （年） | B48: ="~ " & B7 -> ~ 10 | C48: =IF('1.収穫を予測する'!$C$2="なし",SUM('inv3.直径階分布'!DM91:DM100),'inv3.直径階分布'!DM91) -> 0 | D48: =IF('1.収穫を予測する'!$C$2="なし",SUM('inv3.直径階分布'!DN91:DN100),'inv3.直径階分布'!DN91) -> 0 | E48: =IF('1.収穫を予測する'!$C$2="なし",SUM('inv3.直径階分布'!DO91:DO100),'inv3.直径階分布'!DO91) -> 0 | F48: =IF('1.収穫を予測する'!$C$2="なし",SUM('inv3.直径階分布'!DP91:DP100),'inv3.直径階分布'!DP91) -> 0 | G48: =IF('1.収穫を予測する'!$C$2="なし",SUM('inv3.直径階分布'!DQ91:DQ100),'inv3.直径階分布'!DQ91) -> 0 | H48: =IF('1.収穫を予測する'!$C$2="なし",SUM('inv3.直径階分布'!DR91:DR100),'inv3.直径階分布'!DR91) -> 0 | I48: =IF('1.収穫を予測する'!$C$2="なし",SUM('inv3.直径階分布'!DS91:DS100),'inv3.直径階分布'!DS91) -> 0 | J48: =IF('1.収穫を予測する'!$C$2="なし",SUM('inv3.直径階分布'!DT91:DT100),'inv3.直径階分布'!DT91) -> 0 | ... AB48: =IF('1.収穫を予測する'!$C$2="なし",SUM('inv3.直径階分布'!EL91:EL100),'inv3.直径階分布'!EL91) -> 0
B49: ="~ " & B8 -> ~ 12 | C49: =IF('1.収穫を予測する'!$C$2="なし", SUM('inv3.直径階分布'!DM101:DM102),SUM('inv3.直径階分布'!DM92:DM93)) -> 0 | D49: =IF('1.収穫を予測する'!$C$2="なし", SUM('inv3.直径階分布'!DN101:DN102),SUM('inv3.直径階分布'!DN92:DN93)) -> 0 | E49: =IF('1.収穫を予測する'!$C$2="なし", SUM('inv3.直径階分布'!DO101:DO102),SUM('inv3.直径階分布'!DO92:DO93)) -> 0 | F49: =IF('1.収穫を予測する'!$C$2="なし", SUM('inv3.直径階分布'!DP101:DP102),SUM('inv3.直径階分布'!DP92:DP93)) -> 0 | G49: =IF('1.収穫を予測する'!$C$2="なし", SUM('inv3.直径階分布'!DQ101:DQ102),SUM('inv3.直径階分布'!DQ92:DQ93)) -> 0 | H49: =IF('1.収穫を予測する'!$C$2="なし", SUM('inv3.直径階分布'!DR101:DR102),SUM('inv3.直径階分布'!DR92:DR93)) -> 0 | I49: =IF('1.収穫を予測する'!$C$2="なし", SUM('inv3.直径階分布'!DS101:DS102),SUM('inv3.直径階分布'!DS92:DS93)) -> 0 | J49: =IF('1.収穫を予測する'!$C$2="なし", SUM('inv3.直径階分布'!DT101:DT102),SUM('inv3.直径階分布'!DT92:DT93)) -> 0 | ... AB49: =IF('1.収穫を予測する'!$C$2="なし", SUM('inv3.直径階分布'!EL101:EL102),SUM('inv3.直径階分布'!EL92:EL93)) -> 0
B50: ="~ " & B9 -> ~ 14 | C50: =IF('1.収穫を予測する'!$C$2="なし", SUM('inv3.直径階分布'!DM103:DM104),SUM('inv3.直径階分布'!DM94:DM95)) -> 0 | D50: =IF('1.収穫を予測する'!$C$2="なし", SUM('inv3.直径階分布'!DN103:DN104),SUM('inv3.直径階分布'!DN94:DN95)) -> 0 | E50: =IF('1.収穫を予測する'!$C$2="なし", SUM('inv3.直径階分布'!DO103:DO104),SUM('inv3.直径階分布'!DO94:DO95)) -> 0 | F50: =IF('1.収穫を予測する'!$C$2="なし", SUM('inv3.直径階分布'!DP103:DP104),SUM('inv3.直径階分布'!DP94:DP95)) -> 0 | G50: =IF('1.収穫を予測する'!$C$2="なし", SUM('inv3.直径階分布'!DQ103:DQ104),SUM('inv3.直径階分布'!DQ94:DQ95)) -> 0 | H50: =IF('1.収穫を予測する'!$C$2="なし", SUM('inv3.直径階分布'!DR103:DR104),SUM('inv3.直径階分布'!DR94:DR95)) -> 0 | I50: =IF('1.収穫を予測する'!$C$2="なし", SUM('inv3.直径階分布'!DS103:DS104),SUM('inv3.直径階分布'!DS94:DS95)) -> 0 | J50: =IF('1.収穫を予測する'!$C$2="なし", SUM('inv3.直径階分布'!DT103:DT104),SUM('inv3.直径階分布'!DT94:DT95)) -> 0 | ... AB50: =IF('1.収穫を予測する'!$C$2="なし", SUM('inv3.直径階分布'!EL103:EL104),SUM('inv3.直径階分布'!EL94:EL95)) -> 0
B51: ="~ " & B10 -> ~ 16 | C51: =IF('1.収穫を予測する'!$C$2="なし", SUM('inv3.直径階分布'!DM105:DM106),SUM('inv3.直径階分布'!DM96:DM97)) -> 0 | D51: =IF('1.収穫を予測する'!$C$2="なし", SUM('inv3.直径階分布'!DN105:DN106),SUM('inv3.直径階分布'!DN96:DN97)) -> 0 | E51: =IF('1.収穫を予測する'!$C$2="なし", SUM('inv3.直径階分布'!DO105:DO106),SUM('inv3.直径階分布'!DO96:DO97)) -> 0 | F51: =IF('1.収穫を予測する'!$C$2="なし", SUM('inv3.直径階分布'!DP105:DP106),SUM('inv3.直径階分布'!DP96:DP97)) -> 0 | G51: =IF('1.収穫を予測する'!$C$2="なし", SUM('inv3.直径階分布'!DQ105:DQ106),SUM('inv3.直径階分布'!DQ96:DQ97)) -> 0 | H51: =IF('1.収穫を予測する'!$C$2="なし", SUM('inv3.直径階分布'!DR105:DR106),SUM('inv3.直径階分布'!DR96:DR97)) -> 0 | I51: =IF('1.収穫を予測する'!$C$2="なし", SUM('inv3.直径階分布'!DS105:DS106),SUM('inv3.直径階分布'!DS96:DS97)) -> 0 | J51: =IF('1.収穫を予測する'!$C$2="なし", SUM('inv3.直径階分布'!DT105:DT106),SUM('inv3.直径階分布'!DT96:DT97)) -> 0 | ... AB51: =IF('1.収穫を予測する'!$C$2="なし", SUM('inv3.直径階分布'!EL105:EL106),SUM('inv3.直径階分布'!EL96:EL97)) -> 0
B52: ="~ " & B11 -> ~ 18 | C52: =IF('1.収穫を予測する'!$C$2="なし", SUM('inv3.直径階分布'!DM107:DM108),SUM('inv3.直径階分布'!DM98:DM99)) -> 0 | D52: =IF('1.収穫を予測する'!$C$2="なし", SUM('inv3.直径階分布'!DN107:DN108),SUM('inv3.直径階分布'!DN98:DN99)) -> 0 | E52: =IF('1.収穫を予測する'!$C$2="なし", SUM('inv3.直径階分布'!DO107:DO108),SUM('inv3.直径階分布'!DO98:DO99)) -> 0 | F52: =IF('1.収穫を予測する'!$C$2="なし", SUM('inv3.直径階分布'!DP107:DP108),SUM('inv3.直径階分布'!DP98:DP99)) -> 0 | G52: =IF('1.収穫を予測する'!$C$2="なし", SUM('inv3.直径階分布'!DQ107:DQ108),SUM('inv3.直径階分布'!DQ98:DQ99)) -> 0 | H52: =IF('1.収穫を予測する'!$C$2="なし", SUM('inv3.直径階分布'!DR107:DR108),SUM('inv3.直径階分布'!DR98:DR99)) -> 0 | I52: =IF('1.収穫を予測する'!$C$2="なし", SUM('inv3.直径階分布'!DS107:DS108),SUM('inv3.直径階分布'!DS98:DS99)) -> 0 | J52: =IF('1.収穫を予測する'!$C$2="なし", SUM('inv3.直径階分布'!DT107:DT108),SUM('inv3.直径階分布'!DT98:DT99)) -> 0 | ... AB52: =IF('1.収穫を予測する'!$C$2="なし", SUM('inv3.直径階分布'!EL107:EL108),SUM('inv3.直径階分布'!EL98:EL99)) -> 0
B53: ="~ " & B12 -> ~ 20 | C53: =IF('1.収穫を予測する'!$C$2="なし", SUM('inv3.直径階分布'!DM109:DM110),SUM('inv3.直径階分布'!DM100:DM101)) -> 0 | D53: =IF('1.収穫を予測する'!$C$2="なし", SUM('inv3.直径階分布'!DN109:DN110),SUM('inv3.直径階分布'!DN100:DN101)) -> 0 | E53: =IF('1.収穫を予測する'!$C$2="なし", SUM('inv3.直径階分布'!DO109:DO110),SUM('inv3.直径階分布'!DO100:DO101)) -> 0 | F53: =IF('1.収穫を予測する'!$C$2="なし", SUM('inv3.直径階分布'!DP109:DP110),SUM('inv3.直径階分布'!DP100:DP101)) -> 0 | G53: =IF('1.収穫を予測する'!$C$2="なし", SUM('inv3.直径階分布'!DQ109:DQ110),SUM('inv3.直径階分布'!DQ100:DQ101)) -> 0 | H53: =IF('1.収穫を予測する'!$C$2="なし", SUM('inv3.直径階分布'!DR109:DR110),SUM('inv3.直径階分布'!DR100:DR101)) -> 0 | I53: =IF('1.収穫を予測する'!$C$2="なし", SUM('inv3.直径階分布'!DS109:DS110),SUM('inv3.直径階分布'!DS100:DS101)) -> 0 | J53: =IF('1.収穫を予測する'!$C$2="なし", SUM('inv3.直径階分布'!DT109:DT110),SUM('inv3.直径階分布'!DT100:DT101)) -> 0 | ... AB53: =IF('1.収穫を予測する'!$C$2="なし", SUM('inv3.直径階分布'!EL109:EL110),SUM('inv3.直径階分布'!EL100:EL101)) -> 0
B54: ="~ " & B13 -> ~ 22 | C54: =IF('1.収穫を予測する'!$C$2="なし", SUM('inv3.直径階分布'!DM111:DM112),SUM('inv3.直径階分布'!DM102:DM103)) -> 0 | D54: =IF('1.収穫を予測する'!$C$2="なし", SUM('inv3.直径階分布'!DN111:DN112),SUM('inv3.直径階分布'!DN102:DN103)) -> 0 | E54: =IF('1.収穫を予測する'!$C$2="なし", SUM('inv3.直径階分布'!DO111:DO112),SUM('inv3.直径階分布'!DO102:DO103)) -> 0 | F54: =IF('1.収穫を予測する'!$C$2="なし", SUM('inv3.直径階分布'!DP111:DP112),SUM('inv3.直径階分布'!DP102:DP103)) -> 0 | G54: =IF('1.収穫を予測する'!$C$2="なし", SUM('inv3.直径階分布'!DQ111:DQ112),SUM('inv3.直径階分布'!DQ102:DQ103)) -> 0 | H54: =IF('1.収穫を予測する'!$C$2="なし", SUM('inv3.直径階分布'!DR111:DR112),SUM('inv3.直径階分布'!DR102:DR103)) -> 0 | I54: =IF('1.収穫を予測する'!$C$2="なし", SUM('inv3.直径階分布'!DS111:DS112),SUM('inv3.直径階分布'!DS102:DS103)) -> 0 | J54: =IF('1.収穫を予測する'!$C$2="なし", SUM('inv3.直径階分布'!DT111:DT112),SUM('inv3.直径階分布'!DT102:DT103)) -> 0 | ... AB54: =IF('1.収穫を予測する'!$C$2="なし", SUM('inv3.直径階分布'!EL111:EL112),SUM('inv3.直径階分布'!EL102:EL103)) -> 0
B55: ="~ " & B14 -> ~ 24 | C55: =IF('1.収穫を予測する'!$C$2="なし", SUM('inv3.直径階分布'!DM113:DM114),SUM('inv3.直径階分布'!DM104:DM105)) -> 0 | D55: =IF('1.収穫を予測する'!$C$2="なし", SUM('inv3.直径階分布'!DN113:DN114),SUM('inv3.直径階分布'!DN104:DN105)) -> 0 | E55: =IF('1.収穫を予測する'!$C$2="なし", SUM('inv3.直径階分布'!DO113:DO114),SUM('inv3.直径階分布'!DO104:DO105)) -> 0 | F55: =IF('1.収穫を予測する'!$C$2="なし", SUM('inv3.直径階分布'!DP113:DP114),SUM('inv3.直径階分布'!DP104:DP105)) -> 0 | G55: =IF('1.収穫を予測する'!$C$2="なし", SUM('inv3.直径階分布'!DQ113:DQ114),SUM('inv3.直径階分布'!DQ104:DQ105)) -> 0 | H55: =IF('1.収穫を予測する'!$C$2="なし", SUM('inv3.直径階分布'!DR113:DR114),SUM('inv3.直径階分布'!DR104:DR105)) -> 0 | I55: =IF('1.収穫を予測する'!$C$2="なし", SUM('inv3.直径階分布'!DS113:DS114),SUM('inv3.直径階分布'!DS104:DS105)) -> 0 | J55: =IF('1.収穫を予測する'!$C$2="なし", SUM('inv3.直径階分布'!DT113:DT114),SUM('inv3.直径階分布'!DT104:DT105)) -> 0 | ... AB55: =IF('1.収穫を予測する'!$C$2="なし", SUM('inv3.直径階分布'!EL113:EL114),SUM('inv3.直径階分布'!EL104:EL105)) -> 0
B56: ="~ " & B15 -> ~ 26 | C56: =IF('1.収穫を予測する'!$C$2="なし", SUM('inv3.直径階分布'!DM115:DM116),SUM('inv3.直径階分布'!DM106:DM107)) -> 0 | D56: =IF('1.収穫を予測する'!$C$2="なし", SUM('inv3.直径階分布'!DN115:DN116),SUM('inv3.直径階分布'!DN106:DN107)) -> 0 | E56: =IF('1.収穫を予測する'!$C$2="なし", SUM('inv3.直径階分布'!DO115:DO116),SUM('inv3.直径階分布'!DO106:DO107)) -> 0 | F56: =IF('1.収穫を予測する'!$C$2="なし", SUM('inv3.直径階分布'!DP115:DP116),SUM('inv3.直径階分布'!DP106:DP107)) -> 0 | G56: =IF('1.収穫を予測する'!$C$2="なし", SUM('inv3.直径階分布'!DQ115:DQ116),SUM('inv3.直径階分布'!DQ106:DQ107)) -> 0 | H56: =IF('1.収穫を予測する'!$C$2="なし", SUM('inv3.直径階分布'!DR115:DR116),SUM('inv3.直径階分布'!DR106:DR107)) -> 0 | I56: =IF('1.収穫を予測する'!$C$2="なし", SUM('inv3.直径階分布'!DS115:DS116),SUM('inv3.直径階分布'!DS106:DS107)) -> 0 | J56: =IF('1.収穫を予測する'!$C$2="なし", SUM('inv3.直径階分布'!DT115:DT116),SUM('inv3.直径階分布'!DT106:DT107)) -> 0 | ... AB56: =IF('1.収穫を予測する'!$C$2="なし", SUM('inv3.直径階分布'!EL115:EL116),SUM('inv3.直径階分布'!EL106:EL107)) -> 0
B57: ="~ " & B16 -> ~ 28 | C57: =IF('1.収穫を予測する'!$C$2="なし", SUM('inv3.直径階分布'!DM117:DM118),SUM('inv3.直径階分布'!DM108:DM109)) -> 0 | D57: =IF('1.収穫を予測する'!$C$2="なし", SUM('inv3.直径階分布'!DN117:DN118),SUM('inv3.直径階分布'!DN108:DN109)) -> 0 | E57: =IF('1.収穫を予測する'!$C$2="なし", SUM('inv3.直径階分布'!DO117:DO118),SUM('inv3.直径階分布'!DO108:DO109)) -> 0 | F57: =IF('1.収穫を予測する'!$C$2="なし", SUM('inv3.直径階分布'!DP117:DP118),SUM('inv3.直径階分布'!DP108:DP109)) -> 0 | G57: =IF('1.収穫を予測する'!$C$2="なし", SUM('inv3.直径階分布'!DQ117:DQ118),SUM('inv3.直径階分布'!DQ108:DQ109)) -> 0 | H57: =IF('1.収穫を予測する'!$C$2="なし", SUM('inv3.直径階分布'!DR117:DR118),SUM('inv3.直径階分布'!DR108:DR109)) -> 0 | I57: =IF('1.収穫を予測する'!$C$2="なし", SUM('inv3.直径階分布'!DS117:DS118),SUM('inv3.直径階分布'!DS108:DS109)) -> 0 | J57: =IF('1.収穫を予測する'!$C$2="なし", SUM('inv3.直径階分布'!DT117:DT118),SUM('inv3.直径階分布'!DT108:DT109)) -> 0 | ... AB57: =IF('1.収穫を予測する'!$C$2="なし", SUM('inv3.直径階分布'!EL117:EL118),SUM('inv3.直径階分布'!EL108:EL109)) -> 0
B58: ="~ " & B17 -> ~ 30 | C58: =IF('1.収穫を予測する'!$C$2="なし", SUM('inv3.直径階分布'!DM119:DM120),SUM('inv3.直径階分布'!DM110:DM111)) -> 0 | D58: =IF('1.収穫を予測する'!$C$2="なし", SUM('inv3.直径階分布'!DN119:DN120),SUM('inv3.直径階分布'!DN110:DN111)) -> 0 | E58: =IF('1.収穫を予測する'!$C$2="なし", SUM('inv3.直径階分布'!DO119:DO120),SUM('inv3.直径階分布'!DO110:DO111)) -> 0 | F58: =IF('1.収穫を予測する'!$C$2="なし", SUM('inv3.直径階分布'!DP119:DP120),SUM('inv3.直径階分布'!DP110:DP111)) -> 0 | G58: =IF('1.収穫を予測する'!$C$2="なし", SUM('inv3.直径階分布'!DQ119:DQ120),SUM('inv3.直径階分布'!DQ110:DQ111)) -> 0 | H58: =IF('1.収穫を予測する'!$C$2="なし", SUM('inv3.直径階分布'!DR119:DR120),SUM('inv3.直径階分布'!DR110:DR111)) -> 0 | I58: =IF('1.収穫を予測する'!$C$2="なし", SUM('inv3.直径階分布'!DS119:DS120),SUM('inv3.直径階分布'!DS110:DS111)) -> 0 | J58: =IF('1.収穫を予測する'!$C$2="なし", SUM('inv3.直径階分布'!DT119:DT120),SUM('inv3.直径階分布'!DT110:DT111)) -> 0 | ... AB58: =IF('1.収穫を予測する'!$C$2="なし", SUM('inv3.直径階分布'!EL119:EL120),SUM('inv3.直径階分布'!EL110:EL111)) -> 0
B59: ="~ " & B18 -> ~ 32 | C59: =IF('1.収穫を予測する'!$C$2="なし", SUM('inv3.直径階分布'!DM121:DM122),SUM('inv3.直径階分布'!DM112:DM113)) -> 0 | D59: =IF('1.収穫を予測する'!$C$2="なし", SUM('inv3.直径階分布'!DN121:DN122),SUM('inv3.直径階分布'!DN112:DN113)) -> 0 | E59: =IF('1.収穫を予測する'!$C$2="なし", SUM('inv3.直径階分布'!DO121:DO122),SUM('inv3.直径階分布'!DO112:DO113)) -> 0 | F59: =IF('1.収穫を予測する'!$C$2="なし", SUM('inv3.直径階分布'!DP121:DP122),SUM('inv3.直径階分布'!DP112:DP113)) -> 0 | G59: =IF('1.収穫を予測する'!$C$2="なし", SUM('inv3.直径階分布'!DQ121:DQ122),SUM('inv3.直径階分布'!DQ112:DQ113)) -> 0 | H59: =IF('1.収穫を予測する'!$C$2="なし", SUM('inv3.直径階分布'!DR121:DR122),SUM('inv3.直径階分布'!DR112:DR113)) -> 0 | I59: =IF('1.収穫を予測する'!$C$2="なし", SUM('inv3.直径階分布'!DS121:DS122),SUM('inv3.直径階分布'!DS112:DS113)) -> 0 | J59: =IF('1.収穫を予測する'!$C$2="なし", SUM('inv3.直径階分布'!DT121:DT122),SUM('inv3.直径階分布'!DT112:DT113)) -> 0 | ... AB59: =IF('1.収穫を予測する'!$C$2="なし", SUM('inv3.直径階分布'!EL121:EL122),SUM('inv3.直径階分布'!EL112:EL113)) -> 0
B60: ="~ " & B19 -> ~ 34 | C60: =IF('1.収穫を予測する'!$C$2="なし", SUM('inv3.直径階分布'!DM123:DM124),SUM('inv3.直径階分布'!DM114:DM115)) -> 0 | D60: =IF('1.収穫を予測する'!$C$2="なし", SUM('inv3.直径階分布'!DN123:DN124),SUM('inv3.直径階分布'!DN114:DN115)) -> 0 | E60: =IF('1.収穫を予測する'!$C$2="なし", SUM('inv3.直径階分布'!DO123:DO124),SUM('inv3.直径階分布'!DO114:DO115)) -> 0 | F60: =IF('1.収穫を予測する'!$C$2="なし", SUM('inv3.直径階分布'!DP123:DP124),SUM('inv3.直径階分布'!DP114:DP115)) -> 0 | G60: =IF('1.収穫を予測する'!$C$2="なし", SUM('inv3.直径階分布'!DQ123:DQ124),SUM('inv3.直径階分布'!DQ114:DQ115)) -> 0 | H60: =IF('1.収穫を予測する'!$C$2="なし", SUM('inv3.直径階分布'!DR123:DR124),SUM('inv3.直径階分布'!DR114:DR115)) -> 0 | I60: =IF('1.収穫を予測する'!$C$2="なし", SUM('inv3.直径階分布'!DS123:DS124),SUM('inv3.直径階分布'!DS114:DS115)) -> 0 | J60: =IF('1.収穫を予測する'!$C$2="なし", SUM('inv3.直径階分布'!DT123:DT124),SUM('inv3.直径階分布'!DT114:DT115)) -> 0 | ... AB60: =IF('1.収穫を予測する'!$C$2="なし", SUM('inv3.直径階分布'!EL123:EL124),SUM('inv3.直径階分布'!EL114:EL115)) -> 0
B61: ="~ " & B20 -> ~ 36 | C61: =IF('1.収穫を予測する'!$C$2="なし", SUM('inv3.直径階分布'!DM125:DM126),SUM('inv3.直径階分布'!DM116:DM117)) -> 0 | D61: =IF('1.収穫を予測する'!$C$2="なし", SUM('inv3.直径階分布'!DN125:DN126),SUM('inv3.直径階分布'!DN116:DN117)) -> 0 | E61: =IF('1.収穫を予測する'!$C$2="なし", SUM('inv3.直径階分布'!DO125:DO126),SUM('inv3.直径階分布'!DO116:DO117)) -> 0 | F61: =IF('1.収穫を予測する'!$C$2="なし", SUM('inv3.直径階分布'!DP125:DP126),SUM('inv3.直径階分布'!DP116:DP117)) -> 0 | G61: =IF('1.収穫を予測する'!$C$2="なし", SUM('inv3.直径階分布'!DQ125:DQ126),SUM('inv3.直径階分布'!DQ116:DQ117)) -> 0 | H61: =IF('1.収穫を予測する'!$C$2="なし", SUM('inv3.直径階分布'!DR125:DR126),SUM('inv3.直径階分布'!DR116:DR117)) -> 0 | I61: =IF('1.収穫を予測する'!$C$2="なし", SUM('inv3.直径階分布'!DS125:DS126),SUM('inv3.直径階分布'!DS116:DS117)) -> 0 | J61: =IF('1.収穫を予測する'!$C$2="なし", SUM('inv3.直径階分布'!DT125:DT126),SUM('inv3.直径階分布'!DT116:DT117)) -> 0 | ... AB61: =IF('1.収穫を予測する'!$C$2="なし", SUM('inv3.直径階分布'!EL125:EL126),SUM('inv3.直径階分布'!EL116:EL117)) -> 0
B62: ="~ " & B21 -> ~ 38 | C62: =IF('1.収穫を予測する'!$C$2="なし", SUM('inv3.直径階分布'!DM127:DM128),SUM('inv3.直径階分布'!DM118:DM119)) -> 0 | D62: =IF('1.収穫を予測する'!$C$2="なし", SUM('inv3.直径階分布'!DN127:DN128),SUM('inv3.直径階分布'!DN118:DN119)) -> 0 | E62: =IF('1.収穫を予測する'!$C$2="なし", SUM('inv3.直径階分布'!DO127:DO128),SUM('inv3.直径階分布'!DO118:DO119)) -> 0 | F62: =IF('1.収穫を予測する'!$C$2="なし", SUM('inv3.直径階分布'!DP127:DP128),SUM('inv3.直径階分布'!DP118:DP119)) -> 0 | G62: =IF('1.収穫を予測する'!$C$2="なし", SUM('inv3.直径階分布'!DQ127:DQ128),SUM('inv3.直径階分布'!DQ118:DQ119)) -> 0 | H62: =IF('1.収穫を予測する'!$C$2="なし", SUM('inv3.直径階分布'!DR127:DR128),SUM('inv3.直径階分布'!DR118:DR119)) -> 0 | I62: =IF('1.収穫を予測する'!$C$2="なし", SUM('inv3.直径階分布'!DS127:DS128),SUM('inv3.直径階分布'!DS118:DS119)) -> 0 | J62: =IF('1.収穫を予測する'!$C$2="なし", SUM('inv3.直径階分布'!DT127:DT128),SUM('inv3.直径階分布'!DT118:DT119)) -> 0 | ... AB62: =IF('1.収穫を予測する'!$C$2="なし", SUM('inv3.直径階分布'!EL127:EL128),SUM('inv3.直径階分布'!EL118:EL119)) -> 0
B63: ="~ " & B22 -> ~ 40 | C63: =IF('1.収穫を予測する'!$C$2="なし", SUM('inv3.直径階分布'!DM129:DM130),SUM('inv3.直径階分布'!DM120:DM121)) -> 0 | D63: =IF('1.収穫を予測する'!$C$2="なし", SUM('inv3.直径階分布'!DN129:DN130),SUM('inv3.直径階分布'!DN120:DN121)) -> 0 | E63: =IF('1.収穫を予測する'!$C$2="なし", SUM('inv3.直径階分布'!DO129:DO130),SUM('inv3.直径階分布'!DO120:DO121)) -> 0 | F63: =IF('1.収穫を予測する'!$C$2="なし", SUM('inv3.直径階分布'!DP129:DP130),SUM('inv3.直径階分布'!DP120:DP121)) -> 0 | G63: =IF('1.収穫を予測する'!$C$2="なし", SUM('inv3.直径階分布'!DQ129:DQ130),SUM('inv3.直径階分布'!DQ120:DQ121)) -> 0 | H63: =IF('1.収穫を予測する'!$C$2="なし", SUM('inv3.直径階分布'!DR129:DR130),SUM('inv3.直径階分布'!DR120:DR121)) -> 0 | I63: =IF('1.収穫を予測する'!$C$2="なし", SUM('inv3.直径階分布'!DS129:DS130),SUM('inv3.直径階分布'!DS120:DS121)) -> 0 | J63: =IF('1.収穫を予測する'!$C$2="なし", SUM('inv3.直径階分布'!DT129:DT130),SUM('inv3.直径階分布'!DT120:DT121)) -> 0 | ... AB63: =IF('1.収穫を予測する'!$C$2="なし", SUM('inv3.直径階分布'!EL129:EL130),SUM('inv3.直径階分布'!EL120:EL121)) -> 0
B64: ="~ " & B23 -> ~ 42 | C64: =IF('1.収穫を予測する'!$C$2="なし", SUM('inv3.直径階分布'!DM131:DM132),SUM('inv3.直径階分布'!DM122:DM123)) -> 0 | D64: =IF('1.収穫を予測する'!$C$2="なし", SUM('inv3.直径階分布'!DN131:DN132),SUM('inv3.直径階分布'!DN122:DN123)) -> 0 | E64: =IF('1.収穫を予測する'!$C$2="なし", SUM('inv3.直径階分布'!DO131:DO132),SUM('inv3.直径階分布'!DO122:DO123)) -> 0 | F64: =IF('1.収穫を予測する'!$C$2="なし", SUM('inv3.直径階分布'!DP131:DP132),SUM('inv3.直径階分布'!DP122:DP123)) -> 0 | G64: =IF('1.収穫を予測する'!$C$2="なし", SUM('inv3.直径階分布'!DQ131:DQ132),SUM('inv3.直径階分布'!DQ122:DQ123)) -> 0 | H64: =IF('1.収穫を予測する'!$C$2="なし", SUM('inv3.直径階分布'!DR131:DR132),SUM('inv3.直径階分布'!DR122:DR123)) -> 0 | I64: =IF('1.収穫を予測する'!$C$2="なし", SUM('inv3.直径階分布'!DS131:DS132),SUM('inv3.直径階分布'!DS122:DS123)) -> 0 | J64: =IF('1.収穫を予測する'!$C$2="なし", SUM('inv3.直径階分布'!DT131:DT132),SUM('inv3.直径階分布'!DT122:DT123)) -> 0 | ... AB64: =IF('1.収穫を予測する'!$C$2="なし", SUM('inv3.直径階分布'!EL131:EL132),SUM('inv3.直径階分布'!EL122:EL123)) -> 0
B65: ="~ " & B24 -> ~ 44 | C65: =IF('1.収穫を予測する'!$C$2="なし", SUM('inv3.直径階分布'!DM133:DM134),SUM('inv3.直径階分布'!DM124:DM125)) -> 0 | D65: =IF('1.収穫を予測する'!$C$2="なし", SUM('inv3.直径階分布'!DN133:DN134),SUM('inv3.直径階分布'!DN124:DN125)) -> 0 | E65: =IF('1.収穫を予測する'!$C$2="なし", SUM('inv3.直径階分布'!DO133:DO134),SUM('inv3.直径階分布'!DO124:DO125)) -> 0 | F65: =IF('1.収穫を予測する'!$C$2="なし", SUM('inv3.直径階分布'!DP133:DP134),SUM('inv3.直径階分布'!DP124:DP125)) -> 0 | G65: =IF('1.収穫を予測する'!$C$2="なし", SUM('inv3.直径階分布'!DQ133:DQ134),SUM('inv3.直径階分布'!DQ124:DQ125)) -> 0 | H65: =IF('1.収穫を予測する'!$C$2="なし", SUM('inv3.直径階分布'!DR133:DR134),SUM('inv3.直径階分布'!DR124:DR125)) -> 0 | I65: =IF('1.収穫を予測する'!$C$2="なし", SUM('inv3.直径階分布'!DS133:DS134),SUM('inv3.直径階分布'!DS124:DS125)) -> 0 | J65: =IF('1.収穫を予測する'!$C$2="なし", SUM('inv3.直径階分布'!DT133:DT134),SUM('inv3.直径階分布'!DT124:DT125)) -> 0 | ... AB65: =IF('1.収穫を予測する'!$C$2="なし", SUM('inv3.直径階分布'!EL133:EL134),SUM('inv3.直径階分布'!EL124:EL125)) -> 0
B66: ="~ " & B25 -> ~ 46 | C66: =IF('1.収穫を予測する'!$C$2="なし", SUM('inv3.直径階分布'!DM135:DM136),SUM('inv3.直径階分布'!DM126:DM127)) -> 0 | D66: =IF('1.収穫を予測する'!$C$2="なし", SUM('inv3.直径階分布'!DN135:DN136),SUM('inv3.直径階分布'!DN126:DN127)) -> 0 | E66: =IF('1.収穫を予測する'!$C$2="なし", SUM('inv3.直径階分布'!DO135:DO136),SUM('inv3.直径階分布'!DO126:DO127)) -> 0 | F66: =IF('1.収穫を予測する'!$C$2="なし", SUM('inv3.直径階分布'!DP135:DP136),SUM('inv3.直径階分布'!DP126:DP127)) -> 0 | G66: =IF('1.収穫を予測する'!$C$2="なし", SUM('inv3.直径階分布'!DQ135:DQ136),SUM('inv3.直径階分布'!DQ126:DQ127)) -> 0 | H66: =IF('1.収穫を予測する'!$C$2="なし", SUM('inv3.直径階分布'!DR135:DR136),SUM('inv3.直径階分布'!DR126:DR127)) -> 0 | I66: =IF('1.収穫を予測する'!$C$2="なし", SUM('inv3.直径階分布'!DS135:DS136),SUM('inv3.直径階分布'!DS126:DS127)) -> 0 | J66: =IF('1.収穫を予測する'!$C$2="なし", SUM('inv3.直径階分布'!DT135:DT136),SUM('inv3.直径階分布'!DT126:DT127)) -> 0 | ... AB66: =IF('1.収穫を予測する'!$C$2="なし", SUM('inv3.直径階分布'!EL135:EL136),SUM('inv3.直径階分布'!EL126:EL127)) -> 0
B67: ="~ " & B26 -> ~ 48 | C67: =IF('1.収穫を予測する'!$C$2="なし", SUM('inv3.直径階分布'!DM137:DM138),SUM('inv3.直径階分布'!DM128:DM129)) -> 0 | D67: =IF('1.収穫を予測する'!$C$2="なし", SUM('inv3.直径階分布'!DN137:DN138),SUM('inv3.直径階分布'!DN128:DN129)) -> 0 | E67: =IF('1.収穫を予測する'!$C$2="なし", SUM('inv3.直径階分布'!DO137:DO138),SUM('inv3.直径階分布'!DO128:DO129)) -> 0 | F67: =IF('1.収穫を予測する'!$C$2="なし", SUM('inv3.直径階分布'!DP137:DP138),SUM('inv3.直径階分布'!DP128:DP129)) -> 0 | G67: =IF('1.収穫を予測する'!$C$2="なし", SUM('inv3.直径階分布'!DQ137:DQ138),SUM('inv3.直径階分布'!DQ128:DQ129)) -> 0 | H67: =IF('1.収穫を予測する'!$C$2="なし", SUM('inv3.直径階分布'!DR137:DR138),SUM('inv3.直径階分布'!DR128:DR129)) -> 0 | I67: =IF('1.収穫を予測する'!$C$2="なし", SUM('inv3.直径階分布'!DS137:DS138),SUM('inv3.直径階分布'!DS128:DS129)) -> 0 | J67: =IF('1.収穫を予測する'!$C$2="なし", SUM('inv3.直径階分布'!DT137:DT138),SUM('inv3.直径階分布'!DT128:DT129)) -> 0 | ... AB67: =IF('1.収穫を予測する'!$C$2="なし", SUM('inv3.直径階分布'!EL137:EL138),SUM('inv3.直径階分布'!EL128:EL129)) -> 0
B68: ="~ " & B27 -> ~ 50 | C68: =IF('1.収穫を予測する'!$C$2="なし", SUM('inv3.直径階分布'!DM139:DM140),SUM('inv3.直径階分布'!DM130:DM131)) -> 0 | D68: =IF('1.収穫を予測する'!$C$2="なし", SUM('inv3.直径階分布'!DN139:DN140),SUM('inv3.直径階分布'!DN130:DN131)) -> 0 | E68: =IF('1.収穫を予測する'!$C$2="なし", SUM('inv3.直径階分布'!DO139:DO140),SUM('inv3.直径階分布'!DO130:DO131)) -> 0 | F68: =IF('1.収穫を予測する'!$C$2="なし", SUM('inv3.直径階分布'!DP139:DP140),SUM('inv3.直径階分布'!DP130:DP131)) -> 0 | G68: =IF('1.収穫を予測する'!$C$2="なし", SUM('inv3.直径階分布'!DQ139:DQ140),SUM('inv3.直径階分布'!DQ130:DQ131)) -> 0 | H68: =IF('1.収穫を予測する'!$C$2="なし", SUM('inv3.直径階分布'!DR139:DR140),SUM('inv3.直径階分布'!DR130:DR131)) -> 0 | I68: =IF('1.収穫を予測する'!$C$2="なし", SUM('inv3.直径階分布'!DS139:DS140),SUM('inv3.直径階分布'!DS130:DS131)) -> 0 | J68: =IF('1.収穫を予測する'!$C$2="なし", SUM('inv3.直径階分布'!DT139:DT140),SUM('inv3.直径階分布'!DT130:DT131)) -> 0 | ... AB68: =IF('1.収穫を予測する'!$C$2="なし", SUM('inv3.直径階分布'!EL139:EL140),SUM('inv3.直径階分布'!EL130:EL131)) -> 0
B69: ="~ " & B28 -> ~ 52 | C69: =IF('1.収穫を予測する'!$C$2="なし", SUM('inv3.直径階分布'!DM141:DM142),SUM('inv3.直径階分布'!DM132:DM133)) -> 0 | D69: =IF('1.収穫を予測する'!$C$2="なし", SUM('inv3.直径階分布'!DN141:DN142),SUM('inv3.直径階分布'!DN132:DN133)) -> 0 | E69: =IF('1.収穫を予測する'!$C$2="なし", SUM('inv3.直径階分布'!DO141:DO142),SUM('inv3.直径階分布'!DO132:DO133)) -> 0 | F69: =IF('1.収穫を予測する'!$C$2="なし", SUM('inv3.直径階分布'!DP141:DP142),SUM('inv3.直径階分布'!DP132:DP133)) -> 0 | G69: =IF('1.収穫を予測する'!$C$2="なし", SUM('inv3.直径階分布'!DQ141:DQ142),SUM('inv3.直径階分布'!DQ132:DQ133)) -> 0 | H69: =IF('1.収穫を予測する'!$C$2="なし", SUM('inv3.直径階分布'!DR141:DR142),SUM('inv3.直径階分布'!DR132:DR133)) -> 0 | I69: =IF('1.収穫を予測する'!$C$2="なし", SUM('inv3.直径階分布'!DS141:DS142),SUM('inv3.直径階分布'!DS132:DS133)) -> 0 | J69: =IF('1.収穫を予測する'!$C$2="なし", SUM('inv3.直径階分布'!DT141:DT142),SUM('inv3.直径階分布'!DT132:DT133)) -> 0 | ... AB69: =IF('1.収穫を予測する'!$C$2="なし", SUM('inv3.直径階分布'!EL141:EL142),SUM('inv3.直径階分布'!EL132:EL133)) -> 0
B70: ="~ " & B29 -> ~ 54 | C70: =IF('1.収穫を予測する'!$C$2="なし", SUM('inv3.直径階分布'!DM143:DM144),SUM('inv3.直径階分布'!DM134:DM135)) -> 0 | D70: =IF('1.収穫を予測する'!$C$2="なし", SUM('inv3.直径階分布'!DN143:DN144),SUM('inv3.直径階分布'!DN134:DN135)) -> 0 | E70: =IF('1.収穫を予測する'!$C$2="なし", SUM('inv3.直径階分布'!DO143:DO144),SUM('inv3.直径階分布'!DO134:DO135)) -> 0 | F70: =IF('1.収穫を予測する'!$C$2="なし", SUM('inv3.直径階分布'!DP143:DP144),SUM('inv3.直径階分布'!DP134:DP135)) -> 0 | G70: =IF('1.収穫を予測する'!$C$2="なし", SUM('inv3.直径階分布'!DQ143:DQ144),SUM('inv3.直径階分布'!DQ134:DQ135)) -> 0 | H70: =IF('1.収穫を予測する'!$C$2="なし", SUM('inv3.直径階分布'!DR143:DR144),SUM('inv3.直径階分布'!DR134:DR135)) -> 0 | I70: =IF('1.収穫を予測する'!$C$2="なし", SUM('inv3.直径階分布'!DS143:DS144),SUM('inv3.直径階分布'!DS134:DS135)) -> 0 | J70: =IF('1.収穫を予測する'!$C$2="なし", SUM('inv3.直径階分布'!DT143:DT144),SUM('inv3.直径階分布'!DT134:DT135)) -> 0 | ... AB70: =IF('1.収穫を予測する'!$C$2="なし", SUM('inv3.直径階分布'!EL143:EL144),SUM('inv3.直径階分布'!EL134:EL135)) -> 0
B71: ="~ " & B30 -> ~ 56 | C71: =IF('1.収穫を予測する'!$C$2="なし", SUM('inv3.直径階分布'!DM145:DM146),SUM('inv3.直径階分布'!DM136:DM137)) -> 0 | D71: =IF('1.収穫を予測する'!$C$2="なし", SUM('inv3.直径階分布'!DN145:DN146),SUM('inv3.直径階分布'!DN136:DN137)) -> 0 | E71: =IF('1.収穫を予測する'!$C$2="なし", SUM('inv3.直径階分布'!DO145:DO146),SUM('inv3.直径階分布'!DO136:DO137)) -> 0 | F71: =IF('1.収穫を予測する'!$C$2="なし", SUM('inv3.直径階分布'!DP145:DP146),SUM('inv3.直径階分布'!DP136:DP137)) -> 0 | G71: =IF('1.収穫を予測する'!$C$2="なし", SUM('inv3.直径階分布'!DQ145:DQ146),SUM('inv3.直径階分布'!DQ136:DQ137)) -> 0 | H71: =IF('1.収穫を予測する'!$C$2="なし", SUM('inv3.直径階分布'!DR145:DR146),SUM('inv3.直径階分布'!DR136:DR137)) -> 0 | I71: =IF('1.収穫を予測する'!$C$2="なし", SUM('inv3.直径階分布'!DS145:DS146),SUM('inv3.直径階分布'!DS136:DS137)) -> 0 | J71: =IF('1.収穫を予測する'!$C$2="なし", SUM('inv3.直径階分布'!DT145:DT146),SUM('inv3.直径階分布'!DT136:DT137)) -> 0 | ... AB71: =IF('1.収穫を予測する'!$C$2="なし", SUM('inv3.直径階分布'!EL145:EL146),SUM('inv3.直径階分布'!EL136:EL137)) -> 0
B72: ="~ " & B31 -> ~ 58 | C72: =IF('1.収穫を予測する'!$C$2="なし", SUM('inv3.直径階分布'!DM147:DM148),SUM('inv3.直径階分布'!DM138:DM139)) -> 0 | D72: =IF('1.収穫を予測する'!$C$2="なし", SUM('inv3.直径階分布'!DN147:DN148),SUM('inv3.直径階分布'!DN138:DN139)) -> 0 | E72: =IF('1.収穫を予測する'!$C$2="なし", SUM('inv3.直径階分布'!DO147:DO148),SUM('inv3.直径階分布'!DO138:DO139)) -> 0 | F72: =IF('1.収穫を予測する'!$C$2="なし", SUM('inv3.直径階分布'!DP147:DP148),SUM('inv3.直径階分布'!DP138:DP139)) -> 0 | G72: =IF('1.収穫を予測する'!$C$2="なし", SUM('inv3.直径階分布'!DQ147:DQ148),SUM('inv3.直径階分布'!DQ138:DQ139)) -> 0 | H72: =IF('1.収穫を予測する'!$C$2="なし", SUM('inv3.直径階分布'!DR147:DR148),SUM('inv3.直径階分布'!DR138:DR139)) -> 0 | I72: =IF('1.収穫を予測する'!$C$2="なし", SUM('inv3.直径階分布'!DS147:DS148),SUM('inv3.直径階分布'!DS138:DS139)) -> 0 | J72: =IF('1.収穫を予測する'!$C$2="なし", SUM('inv3.直径階分布'!DT147:DT148),SUM('inv3.直径階分布'!DT138:DT139)) -> 0 | ... AB72: =IF('1.収穫を予測する'!$C$2="なし", SUM('inv3.直径階分布'!EL147:EL148),SUM('inv3.直径階分布'!EL138:EL139)) -> 0
B73: ="~ " & B32 -> ~ 60 | C73: =IF('1.収穫を予測する'!$C$2="なし", SUM('inv3.直径階分布'!DM149:DM150),SUM('inv3.直径階分布'!DM140:DM141)) -> 0 | D73: =IF('1.収穫を予測する'!$C$2="なし", SUM('inv3.直径階分布'!DN149:DN150),SUM('inv3.直径階分布'!DN140:DN141)) -> 0 | E73: =IF('1.収穫を予測する'!$C$2="なし", SUM('inv3.直径階分布'!DO149:DO150),SUM('inv3.直径階分布'!DO140:DO141)) -> 0 | F73: =IF('1.収穫を予測する'!$C$2="なし", SUM('inv3.直径階分布'!DP149:DP150),SUM('inv3.直径階分布'!DP140:DP141)) -> 0 | G73: =IF('1.収穫を予測する'!$C$2="なし", SUM('inv3.直径階分布'!DQ149:DQ150),SUM('inv3.直径階分布'!DQ140:DQ141)) -> 0 | H73: =IF('1.収穫を予測する'!$C$2="なし", SUM('inv3.直径階分布'!DR149:DR150),SUM('inv3.直径階分布'!DR140:DR141)) -> 0 | I73: =IF('1.収穫を予測する'!$C$2="なし", SUM('inv3.直径階分布'!DS149:DS150),SUM('inv3.直径階分布'!DS140:DS141)) -> 0 | J73: =IF('1.収穫を予測する'!$C$2="なし", SUM('inv3.直径階分布'!DT149:DT150),SUM('inv3.直径階分布'!DT140:DT141)) -> 0 | ... AB73: =IF('1.収穫を予測する'!$C$2="なし", SUM('inv3.直径階分布'!EL149:EL150),SUM('inv3.直径階分布'!EL140:EL141)) -> 0
B74: ="~ " & B33 -> ~ 62 | C74: =IF('1.収穫を予測する'!$C$2="なし", SUM('inv3.直径階分布'!DM151:DM152),SUM('inv3.直径階分布'!DM142:DM143)) -> 0 | D74: =IF('1.収穫を予測する'!$C$2="なし", SUM('inv3.直径階分布'!DN151:DN152),SUM('inv3.直径階分布'!DN142:DN143)) -> 0 | E74: =IF('1.収穫を予測する'!$C$2="なし", SUM('inv3.直径階分布'!DO151:DO152),SUM('inv3.直径階分布'!DO142:DO143)) -> 0 | F74: =IF('1.収穫を予測する'!$C$2="なし", SUM('inv3.直径階分布'!DP151:DP152),SUM('inv3.直径階分布'!DP142:DP143)) -> 0 | G74: =IF('1.収穫を予測する'!$C$2="なし", SUM('inv3.直径階分布'!DQ151:DQ152),SUM('inv3.直径階分布'!DQ142:DQ143)) -> 0 | H74: =IF('1.収穫を予測する'!$C$2="なし", SUM('inv3.直径階分布'!DR151:DR152),SUM('inv3.直径階分布'!DR142:DR143)) -> 0 | I74: =IF('1.収穫を予測する'!$C$2="なし", SUM('inv3.直径階分布'!DS151:DS152),SUM('inv3.直径階分布'!DS142:DS143)) -> 0 | J74: =IF('1.収穫を予測する'!$C$2="なし", SUM('inv3.直径階分布'!DT151:DT152),SUM('inv3.直径階分布'!DT142:DT143)) -> 0 | ... AB74: =IF('1.収穫を予測する'!$C$2="なし", SUM('inv3.直径階分布'!EL151:EL152),SUM('inv3.直径階分布'!EL142:EL143)) -> 0
B75: ="~ " & B34 -> ~ 64 | C75: =IF('1.収穫を予測する'!$C$2="なし", SUM('inv3.直径階分布'!DM153:DM154),SUM('inv3.直径階分布'!DM144:DM145)) -> 0 | D75: =IF('1.収穫を予測する'!$C$2="なし", SUM('inv3.直径階分布'!DN153:DN154),SUM('inv3.直径階分布'!DN144:DN145)) -> 0 | E75: =IF('1.収穫を予測する'!$C$2="なし", SUM('inv3.直径階分布'!DO153:DO154),SUM('inv3.直径階分布'!DO144:DO145)) -> 0 | F75: =IF('1.収穫を予測する'!$C$2="なし", SUM('inv3.直径階分布'!DP153:DP154),SUM('inv3.直径階分布'!DP144:DP145)) -> 0 | G75: =IF('1.収穫を予測する'!$C$2="なし", SUM('inv3.直径階分布'!DQ153:DQ154),SUM('inv3.直径階分布'!DQ144:DQ145)) -> 0 | H75: =IF('1.収穫を予測する'!$C$2="なし", SUM('inv3.直径階分布'!DR153:DR154),SUM('inv3.直径階分布'!DR144:DR145)) -> 0 | I75: =IF('1.収穫を予測する'!$C$2="なし", SUM('inv3.直径階分布'!DS153:DS154),SUM('inv3.直径階分布'!DS144:DS145)) -> 0 | J75: =IF('1.収穫を予測する'!$C$2="なし", SUM('inv3.直径階分布'!DT153:DT154),SUM('inv3.直径階分布'!DT144:DT145)) -> 0 | ... AB75: =IF('1.収穫を予測する'!$C$2="なし", SUM('inv3.直径階分布'!EL153:EL154),SUM('inv3.直径階分布'!EL144:EL145)) -> 0
B76: ="~ " & B35 -> ~ 66 | C76: =IF('1.収穫を予測する'!$C$2="なし", SUM('inv3.直径階分布'!DM155:DM156),SUM('inv3.直径階分布'!DM146:DM147)) -> 0 | D76: =IF('1.収穫を予測する'!$C$2="なし", SUM('inv3.直径階分布'!DN155:DN156),SUM('inv3.直径階分布'!DN146:DN147)) -> 0 | E76: =IF('1.収穫を予測する'!$C$2="なし", SUM('inv3.直径階分布'!DO155:DO156),SUM('inv3.直径階分布'!DO146:DO147)) -> 0 | F76: =IF('1.収穫を予測する'!$C$2="なし", SUM('inv3.直径階分布'!DP155:DP156),SUM('inv3.直径階分布'!DP146:DP147)) -> 0 | G76: =IF('1.収穫を予測する'!$C$2="なし", SUM('inv3.直径階分布'!DQ155:DQ156),SUM('inv3.直径階分布'!DQ146:DQ147)) -> 0 | H76: =IF('1.収穫を予測する'!$C$2="なし", SUM('inv3.直径階分布'!DR155:DR156),SUM('inv3.直径階分布'!DR146:DR147)) -> 0 | I76: =IF('1.収穫を予測する'!$C$2="なし", SUM('inv3.直径階分布'!DS155:DS156),SUM('inv3.直径階分布'!DS146:DS147)) -> 0 | J76: =IF('1.収穫を予測する'!$C$2="なし", SUM('inv3.直径階分布'!DT155:DT156),SUM('inv3.直径階分布'!DT146:DT147)) -> 0 | ... AB76: =IF('1.収穫を予測する'!$C$2="なし", SUM('inv3.直径階分布'!EL155:EL156),SUM('inv3.直径階分布'!EL146:EL147)) -> 0
B77: ="~ " & B36 -> ~ 68 | C77: =IF('1.収穫を予測する'!$C$2="なし", SUM('inv3.直径階分布'!DM157:DM158),SUM('inv3.直径階分布'!DM148:DM149)) -> 0 | D77: =IF('1.収穫を予測する'!$C$2="なし", SUM('inv3.直径階分布'!DN157:DN158),SUM('inv3.直径階分布'!DN148:DN149)) -> 0 | E77: =IF('1.収穫を予測する'!$C$2="なし", SUM('inv3.直径階分布'!DO157:DO158),SUM('inv3.直径階分布'!DO148:DO149)) -> 0 | F77: =IF('1.収穫を予測する'!$C$2="なし", SUM('inv3.直径階分布'!DP157:DP158),SUM('inv3.直径階分布'!DP148:DP149)) -> 0 | G77: =IF('1.収穫を予測する'!$C$2="なし", SUM('inv3.直径階分布'!DQ157:DQ158),SUM('inv3.直径階分布'!DQ148:DQ149)) -> 0 | H77: =IF('1.収穫を予測する'!$C$2="なし", SUM('inv3.直径階分布'!DR157:DR158),SUM('inv3.直径階分布'!DR148:DR149)) -> 0 | I77: =IF('1.収穫を予測する'!$C$2="なし", SUM('inv3.直径階分布'!DS157:DS158),SUM('inv3.直径階分布'!DS148:DS149)) -> 0 | J77: =IF('1.収穫を予測する'!$C$2="なし", SUM('inv3.直径階分布'!DT157:DT158),SUM('inv3.直径階分布'!DT148:DT149)) -> 0 | ... AB77: =IF('1.収穫を予測する'!$C$2="なし", SUM('inv3.直径階分布'!EL157:EL158),SUM('inv3.直径階分布'!EL148:EL149)) -> 0
B78: ="~ " & B37 -> ~ 70 | C78: =IF('1.収穫を予測する'!$C$2="なし", SUM('inv3.直径階分布'!DM159:DM160),SUM('inv3.直径階分布'!DM150:DM151)) -> 0 | D78: =IF('1.収穫を予測する'!$C$2="なし", SUM('inv3.直径階分布'!DN159:DN160),SUM('inv3.直径階分布'!DN150:DN151)) -> 0 | E78: =IF('1.収穫を予測する'!$C$2="なし", SUM('inv3.直径階分布'!DO159:DO160),SUM('inv3.直径階分布'!DO150:DO151)) -> 0 | F78: =IF('1.収穫を予測する'!$C$2="なし", SUM('inv3.直径階分布'!DP159:DP160),SUM('inv3.直径階分布'!DP150:DP151)) -> 0 | G78: =IF('1.収穫を予測する'!$C$2="なし", SUM('inv3.直径階分布'!DQ159:DQ160),SUM('inv3.直径階分布'!DQ150:DQ151)) -> 0 | H78: =IF('1.収穫を予測する'!$C$2="なし", SUM('inv3.直径階分布'!DR159:DR160),SUM('inv3.直径階分布'!DR150:DR151)) -> 0 | I78: =IF('1.収穫を予測する'!$C$2="なし", SUM('inv3.直径階分布'!DS159:DS160),SUM('inv3.直径階分布'!DS150:DS151)) -> 0 | J78: =IF('1.収穫を予測する'!$C$2="なし", SUM('inv3.直径階分布'!DT159:DT160),SUM('inv3.直径階分布'!DT150:DT151)) -> 0 | ... AB78: =IF('1.収穫を予測する'!$C$2="なし", SUM('inv3.直径階分布'!EL159:EL160),SUM('inv3.直径階分布'!EL150:EL151)) -> 0
B79: ="~ " & B38 -> ~ 72 | C79: =IF('1.収穫を予測する'!$C$2="なし", SUM('inv3.直径階分布'!DM161:DM162),SUM('inv3.直径階分布'!DM152:DM153)) -> 0 | D79: =IF('1.収穫を予測する'!$C$2="なし", SUM('inv3.直径階分布'!DN161:DN162),SUM('inv3.直径階分布'!DN152:DN153)) -> 0 | E79: =IF('1.収穫を予測する'!$C$2="なし", SUM('inv3.直径階分布'!DO161:DO162),SUM('inv3.直径階分布'!DO152:DO153)) -> 0 | F79: =IF('1.収穫を予測する'!$C$2="なし", SUM('inv3.直径階分布'!DP161:DP162),SUM('inv3.直径階分布'!DP152:DP153)) -> 0 | G79: =IF('1.収穫を予測する'!$C$2="なし", SUM('inv3.直径階分布'!DQ161:DQ162),SUM('inv3.直径階分布'!DQ152:DQ153)) -> 0 | H79: =IF('1.収穫を予測する'!$C$2="なし", SUM('inv3.直径階分布'!DR161:DR162),SUM('inv3.直径階分布'!DR152:DR153)) -> 0 | I79: =IF('1.収穫を予測する'!$C$2="なし", SUM('inv3.直径階分布'!DS161:DS162),SUM('inv3.直径階分布'!DS152:DS153)) -> 0 | J79: =IF('1.収穫を予測する'!$C$2="なし", SUM('inv3.直径階分布'!DT161:DT162),SUM('inv3.直径階分布'!DT152:DT153)) -> 0 | ... AB79: =IF('1.収穫を予測する'!$C$2="なし", SUM('inv3.直径階分布'!EL161:EL162),SUM('inv3.直径階分布'!EL152:EL153)) -> 0
B80: ="~ " & B39 -> ~ 74 | C80: =IF('1.収穫を予測する'!$C$2="なし", SUM('inv3.直径階分布'!DM163:DM164),SUM('inv3.直径階分布'!DM154:DM155)) -> 0 | D80: =IF('1.収穫を予測する'!$C$2="なし", SUM('inv3.直径階分布'!DN163:DN164),SUM('inv3.直径階分布'!DN154:DN155)) -> 0 | E80: =IF('1.収穫を予測する'!$C$2="なし", SUM('inv3.直径階分布'!DO163:DO164),SUM('inv3.直径階分布'!DO154:DO155)) -> 0 | F80: =IF('1.収穫を予測する'!$C$2="なし", SUM('inv3.直径階分布'!DP163:DP164),SUM('inv3.直径階分布'!DP154:DP155)) -> 0 | G80: =IF('1.収穫を予測する'!$C$2="なし", SUM('inv3.直径階分布'!DQ163:DQ164),SUM('inv3.直径階分布'!DQ154:DQ155)) -> 0 | H80: =IF('1.収穫を予測する'!$C$2="なし", SUM('inv3.直径階分布'!DR163:DR164),SUM('inv3.直径階分布'!DR154:DR155)) -> 0 | I80: =IF('1.収穫を予測する'!$C$2="なし", SUM('inv3.直径階分布'!DS163:DS164),SUM('inv3.直径階分布'!DS154:DS155)) -> 0 | J80: =IF('1.収穫を予測する'!$C$2="なし", SUM('inv3.直径階分布'!DT163:DT164),SUM('inv3.直径階分布'!DT154:DT155)) -> 0 | ... AB80: =IF('1.収穫を予測する'!$C$2="なし", SUM('inv3.直径階分布'!EL163:EL164),SUM('inv3.直径階分布'!EL154:EL155)) -> 0
B81: ="~ " & B40 -> ~ 76 | C81: =IF('1.収穫を予測する'!$C$2="なし", SUM('inv3.直径階分布'!DM165:DM166),SUM('inv3.直径階分布'!DM156:DM157)) -> 0 | D81: =IF('1.収穫を予測する'!$C$2="なし", SUM('inv3.直径階分布'!DN165:DN166),SUM('inv3.直径階分布'!DN156:DN157)) -> 0 | E81: =IF('1.収穫を予測する'!$C$2="なし", SUM('inv3.直径階分布'!DO165:DO166),SUM('inv3.直径階分布'!DO156:DO157)) -> 0 | F81: =IF('1.収穫を予測する'!$C$2="なし", SUM('inv3.直径階分布'!DP165:DP166),SUM('inv3.直径階分布'!DP156:DP157)) -> 0 | G81: =IF('1.収穫を予測する'!$C$2="なし", SUM('inv3.直径階分布'!DQ165:DQ166),SUM('inv3.直径階分布'!DQ156:DQ157)) -> 0 | H81: =IF('1.収穫を予測する'!$C$2="なし", SUM('inv3.直径階分布'!DR165:DR166),SUM('inv3.直径階分布'!DR156:DR157)) -> 0 | I81: =IF('1.収穫を予測する'!$C$2="なし", SUM('inv3.直径階分布'!DS165:DS166),SUM('inv3.直径階分布'!DS156:DS157)) -> 0 | J81: =IF('1.収穫を予測する'!$C$2="なし", SUM('inv3.直径階分布'!DT165:DT166),SUM('inv3.直径階分布'!DT156:DT157)) -> 0 | ... AB81: =IF('1.収穫を予測する'!$C$2="なし", SUM('inv3.直径階分布'!EL165:EL166),SUM('inv3.直径階分布'!EL156:EL157)) -> 0
B82: ="~ " & B41 -> ~ 78 | C82: =IF('1.収穫を予測する'!$C$2="なし", SUM('inv3.直径階分布'!DM167:DM168),SUM('inv3.直径階分布'!DM158:DM159)) -> 0 | D82: =IF('1.収穫を予測する'!$C$2="なし", SUM('inv3.直径階分布'!DN167:DN168),SUM('inv3.直径階分布'!DN158:DN159)) -> 0 | E82: =IF('1.収穫を予測する'!$C$2="なし", SUM('inv3.直径階分布'!DO167:DO168),SUM('inv3.直径階分布'!DO158:DO159)) -> 0 | F82: =IF('1.収穫を予測する'!$C$2="なし", SUM('inv3.直径階分布'!DP167:DP168),SUM('inv3.直径階分布'!DP158:DP159)) -> 0 | G82: =IF('1.収穫を予測する'!$C$2="なし", SUM('inv3.直径階分布'!DQ167:DQ168),SUM('inv3.直径階分布'!DQ158:DQ159)) -> 0 | H82: =IF('1.収穫を予測する'!$C$2="なし", SUM('inv3.直径階分布'!DR167:DR168),SUM('inv3.直径階分布'!DR158:DR159)) -> 0 | I82: =IF('1.収穫を予測する'!$C$2="なし", SUM('inv3.直径階分布'!DS167:DS168),SUM('inv3.直径階分布'!DS158:DS159)) -> 0 | J82: =IF('1.収穫を予測する'!$C$2="なし", SUM('inv3.直径階分布'!DT167:DT168),SUM('inv3.直径階分布'!DT158:DT159)) -> 0 | ... AB82: =IF('1.収穫を予測する'!$C$2="なし", SUM('inv3.直径階分布'!EL167:EL168),SUM('inv3.直径階分布'!EL158:EL159)) -> 0
B83: ="~ " & B42 -> ~ 80 | C83: =IF('1.収穫を予測する'!$C$2="なし", SUM('inv3.直径階分布'!DM169:DM170),SUM('inv3.直径階分布'!DM160:DM161)) -> 0 | D83: =IF('1.収穫を予測する'!$C$2="なし", SUM('inv3.直径階分布'!DN169:DN170),SUM('inv3.直径階分布'!DN160:DN161)) -> 0 | E83: =IF('1.収穫を予測する'!$C$2="なし", SUM('inv3.直径階分布'!DO169:DO170),SUM('inv3.直径階分布'!DO160:DO161)) -> 0 | F83: =IF('1.収穫を予測する'!$C$2="なし", SUM('inv3.直径階分布'!DP169:DP170),SUM('inv3.直径階分布'!DP160:DP161)) -> 0 | G83: =IF('1.収穫を予測する'!$C$2="なし", SUM('inv3.直径階分布'!DQ169:DQ170),SUM('inv3.直径階分布'!DQ160:DQ161)) -> 0 | H83: =IF('1.収穫を予測する'!$C$2="なし", SUM('inv3.直径階分布'!DR169:DR170),SUM('inv3.直径階分布'!DR160:DR161)) -> 0 | I83: =IF('1.収穫を予測する'!$C$2="なし", SUM('inv3.直径階分布'!DS169:DS170),SUM('inv3.直径階分布'!DS160:DS161)) -> 0 | J83: =IF('1.収穫を予測する'!$C$2="なし", SUM('inv3.直径階分布'!DT169:DT170),SUM('inv3.直径階分布'!DT160:DT161)) -> 0 | ... AB83: =IF('1.収穫を予測する'!$C$2="なし", SUM('inv3.直径階分布'!EL169:EL170),SUM('inv3.直径階分布'!EL160:EL161)) -> 0
B86: 2.3 間伐後径級分布
B87: cm以上 | C87: ='inv3.直径階分布'!N2 -> 0 | D87: ='inv3.直径階分布'!O2 -> 2 | E87: ='inv3.直径階分布'!P2 -> 4 | F87: ='inv3.直径階分布'!Q2 -> 6 | G87: ='inv3.直径階分布'!R2 -> 8 | H87: ='inv3.直径階分布'!S2 -> 10 | I87: ='inv3.直径階分布'!T2 -> 12 | J87: ='inv3.直径階分布'!U2 -> 14 | ... AB87: ='inv3.直径階分布'!AM2 -> 50
B88: cm未満 | C88: ='inv3.直径階分布'!O2 -> 2 | D88: ='inv3.直径階分布'!P2 -> 4 | E88: ='inv3.直径階分布'!Q2 -> 6 | F88: ='inv3.直径階分布'!R2 -> 8 | G88: ='inv3.直径階分布'!S2 -> 10 | H88: ='inv3.直径階分布'!T2 -> 12 | I88: ='inv3.直径階分布'!U2 -> 14 | J88: ='inv3.直径階分布'!V2 -> 16 | ... AB88: ='inv3.直径階分布'!AN2 -> 52
A89: 林 齢 （年） | B89: ="~" & B7 -> ~10 | C89: =IF('1.収穫を予測する'!$C$2="なし",SUM('inv3.直径階分布'!DM175:DM184),'inv3.直径階分布'!DM175) -> 0 | D89: =IF('1.収穫を予測する'!$C$2="なし",SUM('inv3.直径階分布'!DN175:DN184),'inv3.直径階分布'!DN175) -> 0 | E89: =IF('1.収穫を予測する'!$C$2="なし",SUM('inv3.直径階分布'!DO175:DO184),'inv3.直径階分布'!DO175) -> 0 | F89: =IF('1.収穫を予測する'!$C$2="なし",SUM('inv3.直径階分布'!DP175:DP184),'inv3.直径階分布'!DP175) -> 0 | G89: =IF('1.収穫を予測する'!$C$2="なし",SUM('inv3.直径階分布'!DQ175:DQ184),'inv3.直径階分布'!DQ175) -> 0 | H89: =IF('1.収穫を予測する'!$C$2="なし",SUM('inv3.直径階分布'!DR175:DR184),'inv3.直径階分布'!DR175) -> 0 | I89: =IF('1.収穫を予測する'!$C$2="なし",SUM('inv3.直径階分布'!DS175:DS184),'inv3.直径階分布'!DS175) -> 0 | J89: =IF('1.収穫を予測する'!$C$2="なし",SUM('inv3.直径階分布'!DT175:DT184),'inv3.直径階分布'!DT175) -> 0 | ... AB89: =IF('1.収穫を予測する'!$C$2="なし",SUM('inv3.直径階分布'!EL175:EL184),'inv3.直径階分布'!EL175) -> 0
B90: ="~" & B8 -> ~12 | C90: =IF('1.収穫を予測する'!$C$2="なし",SUM('inv3.直径階分布'!DM185:DM186),SUM('inv3.直径階分布'!DM176:DM177)) -> 0 | D90: =IF('1.収穫を予測する'!$C$2="なし",SUM('inv3.直径階分布'!DN185:DN186),SUM('inv3.直径階分布'!DN176:DN177)) -> 0 | E90: =IF('1.収穫を予測する'!$C$2="なし",SUM('inv3.直径階分布'!DO185:DO186),SUM('inv3.直径階分布'!DO176:DO177)) -> 0 | F90: =IF('1.収穫を予測する'!$C$2="なし",SUM('inv3.直径階分布'!DP185:DP186),SUM('inv3.直径階分布'!DP176:DP177)) -> 0 | G90: =IF('1.収穫を予測する'!$C$2="なし",SUM('inv3.直径階分布'!DQ185:DQ186),SUM('inv3.直径階分布'!DQ176:DQ177)) -> 0 | H90: =IF('1.収穫を予測する'!$C$2="なし",SUM('inv3.直径階分布'!DR185:DR186),SUM('inv3.直径階分布'!DR176:DR177)) -> 0 | I90: =IF('1.収穫を予測する'!$C$2="なし",SUM('inv3.直径階分布'!DS185:DS186),SUM('inv3.直径階分布'!DS176:DS177)) -> 0 | J90: =IF('1.収穫を予測する'!$C$2="なし",SUM('inv3.直径階分布'!DT185:DT186),SUM('inv3.直径階分布'!DT176:DT177)) -> 0 | ... AB90: =IF('1.収穫を予測する'!$C$2="なし",SUM('inv3.直径階分布'!EL185:EL186),SUM('inv3.直径階分布'!EL176:EL177)) -> 0
B91: ="~" & B9 -> ~14 | C91: =IF('1.収穫を予測する'!$C$2="なし", SUM('inv3.直径階分布'!DM187:DM188),SUM('inv3.直径階分布'!DM178:DM179)) -> 0 | D91: =IF('1.収穫を予測する'!$C$2="なし", SUM('inv3.直径階分布'!DN187:DN188),SUM('inv3.直径階分布'!DN178:DN179)) -> 0 | E91: =IF('1.収穫を予測する'!$C$2="なし", SUM('inv3.直径階分布'!DO187:DO188),SUM('inv3.直径階分布'!DO178:DO179)) -> 0 | F91: =IF('1.収穫を予測する'!$C$2="なし", SUM('inv3.直径階分布'!DP187:DP188),SUM('inv3.直径階分布'!DP178:DP179)) -> 0 | G91: =IF('1.収穫を予測する'!$C$2="なし", SUM('inv3.直径階分布'!DQ187:DQ188),SUM('inv3.直径階分布'!DQ178:DQ179)) -> 0 | H91: =IF('1.収穫を予測する'!$C$2="なし", SUM('inv3.直径階分布'!DR187:DR188),SUM('inv3.直径階分布'!DR178:DR179)) -> 0 | I91: =IF('1.収穫を予測する'!$C$2="なし", SUM('inv3.直径階分布'!DS187:DS188),SUM('inv3.直径階分布'!DS178:DS179)) -> 0 | J91: =IF('1.収穫を予測する'!$C$2="なし", SUM('inv3.直径階分布'!DT187:DT188),SUM('inv3.直径階分布'!DT178:DT179)) -> 0 | ... AB91: =IF('1.収穫を予測する'!$C$2="なし", SUM('inv3.直径階分布'!EL187:EL188),SUM('inv3.直径階分布'!EL178:EL179)) -> 0
B92: ="~" & B10 -> ~16 | C92: =IF('1.収穫を予測する'!$C$2="なし", SUM('inv3.直径階分布'!DM189:DM190),SUM('inv3.直径階分布'!DM180:DM181)) -> 0 | D92: =IF('1.収穫を予測する'!$C$2="なし", SUM('inv3.直径階分布'!DN189:DN190),SUM('inv3.直径階分布'!DN180:DN181)) -> 0 | E92: =IF('1.収穫を予測する'!$C$2="なし", SUM('inv3.直径階分布'!DO189:DO190),SUM('inv3.直径階分布'!DO180:DO181)) -> 0 | F92: =IF('1.収穫を予測する'!$C$2="なし", SUM('inv3.直径階分布'!DP189:DP190),SUM('inv3.直径階分布'!DP180:DP181)) -> 0 | G92: =IF('1.収穫を予測する'!$C$2="なし", SUM('inv3.直径階分布'!DQ189:DQ190),SUM('inv3.直径階分布'!DQ180:DQ181)) -> 0 | H92: =IF('1.収穫を予測する'!$C$2="なし", SUM('inv3.直径階分布'!DR189:DR190),SUM('inv3.直径階分布'!DR180:DR181)) -> 0 | I92: =IF('1.収穫を予測する'!$C$2="なし", SUM('inv3.直径階分布'!DS189:DS190),SUM('inv3.直径階分布'!DS180:DS181)) -> 0 | J92: =IF('1.収穫を予測する'!$C$2="なし", SUM('inv3.直径階分布'!DT189:DT190),SUM('inv3.直径階分布'!DT180:DT181)) -> 0 | ... AB92: =IF('1.収穫を予測する'!$C$2="なし", SUM('inv3.直径階分布'!EL189:EL190),SUM('inv3.直径階分布'!EL180:EL181)) -> 0
B93: ="~" & B11 -> ~18 | C93: =IF('1.収穫を予測する'!$C$2="なし", SUM('inv3.直径階分布'!DM191:DM192),SUM('inv3.直径階分布'!DM182:DM183)) -> 0 | D93: =IF('1.収穫を予測する'!$C$2="なし", SUM('inv3.直径階分布'!DN191:DN192),SUM('inv3.直径階分布'!DN182:DN183)) -> 0 | E93: =IF('1.収穫を予測する'!$C$2="なし", SUM('inv3.直径階分布'!DO191:DO192),SUM('inv3.直径階分布'!DO182:DO183)) -> 0 | F93: =IF('1.収穫を予測する'!$C$2="なし", SUM('inv3.直径階分布'!DP191:DP192),SUM('inv3.直径階分布'!DP182:DP183)) -> 0 | G93: =IF('1.収穫を予測する'!$C$2="なし", SUM('inv3.直径階分布'!DQ191:DQ192),SUM('inv3.直径階分布'!DQ182:DQ183)) -> 0 | H93: =IF('1.収穫を予測する'!$C$2="なし", SUM('inv3.直径階分布'!DR191:DR192),SUM('inv3.直径階分布'!DR182:DR183)) -> 0 | I93: =IF('1.収穫を予測する'!$C$2="なし", SUM('inv3.直径階分布'!DS191:DS192),SUM('inv3.直径階分布'!DS182:DS183)) -> 0 | J93: =IF('1.収穫を予測する'!$C$2="なし", SUM('inv3.直径階分布'!DT191:DT192),SUM('inv3.直径階分布'!DT182:DT183)) -> 0 | ... AB93: =IF('1.収穫を予測する'!$C$2="なし", SUM('inv3.直径階分布'!EL191:EL192),SUM('inv3.直径階分布'!EL182:EL183)) -> 0
B94: ="~" & B12 -> ~20 | C94: =IF('1.収穫を予測する'!$C$2="なし", SUM('inv3.直径階分布'!DM193:DM194),SUM('inv3.直径階分布'!DM184:DM185)) -> 0 | D94: =IF('1.収穫を予測する'!$C$2="なし", SUM('inv3.直径階分布'!DN193:DN194),SUM('inv3.直径階分布'!DN184:DN185)) -> 0 | E94: =IF('1.収穫を予測する'!$C$2="なし", SUM('inv3.直径階分布'!DO193:DO194),SUM('inv3.直径階分布'!DO184:DO185)) -> 0 | F94: =IF('1.収穫を予測する'!$C$2="なし", SUM('inv3.直径階分布'!DP193:DP194),SUM('inv3.直径階分布'!DP184:DP185)) -> 0 | G94: =IF('1.収穫を予測する'!$C$2="なし", SUM('inv3.直径階分布'!DQ193:DQ194),SUM('inv3.直径階分布'!DQ184:DQ185)) -> 0 | H94: =IF('1.収穫を予測する'!$C$2="なし", SUM('inv3.直径階分布'!DR193:DR194),SUM('inv3.直径階分布'!DR184:DR185)) -> 0 | I94: =IF('1.収穫を予測する'!$C$2="なし", SUM('inv3.直径階分布'!DS193:DS194),SUM('inv3.直径階分布'!DS184:DS185)) -> 0 | J94: =IF('1.収穫を予測する'!$C$2="なし", SUM('inv3.直径階分布'!DT193:DT194),SUM('inv3.直径階分布'!DT184:DT185)) -> 0 | ... AB94: =IF('1.収穫を予測する'!$C$2="なし", SUM('inv3.直径階分布'!EL193:EL194),SUM('inv3.直径階分布'!EL184:EL185)) -> 0
B95: ="~" & B13 -> ~22 | C95: =IF('1.収穫を予測する'!$C$2="なし", SUM('inv3.直径階分布'!DM195:DM196),SUM('inv3.直径階分布'!DM186:DM187)) -> 0 | D95: =IF('1.収穫を予測する'!$C$2="なし", SUM('inv3.直径階分布'!DN195:DN196),SUM('inv3.直径階分布'!DN186:DN187)) -> 0 | E95: =IF('1.収穫を予測する'!$C$2="なし", SUM('inv3.直径階分布'!DO195:DO196),SUM('inv3.直径階分布'!DO186:DO187)) -> 0 | F95: =IF('1.収穫を予測する'!$C$2="なし", SUM('inv3.直径階分布'!DP195:DP196),SUM('inv3.直径階分布'!DP186:DP187)) -> 0 | G95: =IF('1.収穫を予測する'!$C$2="なし", SUM('inv3.直径階分布'!DQ195:DQ196),SUM('inv3.直径階分布'!DQ186:DQ187)) -> 0 | H95: =IF('1.収穫を予測する'!$C$2="なし", SUM('inv3.直径階分布'!DR195:DR196),SUM('inv3.直径階分布'!DR186:DR187)) -> 0 | I95: =IF('1.収穫を予測する'!$C$2="なし", SUM('inv3.直径階分布'!DS195:DS196),SUM('inv3.直径階分布'!DS186:DS187)) -> 0 | J95: =IF('1.収穫を予測する'!$C$2="なし", SUM('inv3.直径階分布'!DT195:DT196),SUM('inv3.直径階分布'!DT186:DT187)) -> 0 | ... AB95: =IF('1.収穫を予測する'!$C$2="なし", SUM('inv3.直径階分布'!EL195:EL196),SUM('inv3.直径階分布'!EL186:EL187)) -> 0
B96: ="~" & B14 -> ~24 | C96: =IF('1.収穫を予測する'!$C$2="なし", SUM('inv3.直径階分布'!DM197:DM198),SUM('inv3.直径階分布'!DM188:DM189)) -> 0 | D96: =IF('1.収穫を予測する'!$C$2="なし", SUM('inv3.直径階分布'!DN197:DN198),SUM('inv3.直径階分布'!DN188:DN189)) -> 0 | E96: =IF('1.収穫を予測する'!$C$2="なし", SUM('inv3.直径階分布'!DO197:DO198),SUM('inv3.直径階分布'!DO188:DO189)) -> 0 | F96: =IF('1.収穫を予測する'!$C$2="なし", SUM('inv3.直径階分布'!DP197:DP198),SUM('inv3.直径階分布'!DP188:DP189)) -> 0 | G96: =IF('1.収穫を予測する'!$C$2="なし", SUM('inv3.直径階分布'!DQ197:DQ198),SUM('inv3.直径階分布'!DQ188:DQ189)) -> 0 | H96: =IF('1.収穫を予測する'!$C$2="なし", SUM('inv3.直径階分布'!DR197:DR198),SUM('inv3.直径階分布'!DR188:DR189)) -> 0 | I96: =IF('1.収穫を予測する'!$C$2="なし", SUM('inv3.直径階分布'!DS197:DS198),SUM('inv3.直径階分布'!DS188:DS189)) -> 0 | J96: =IF('1.収穫を予測する'!$C$2="なし", SUM('inv3.直径階分布'!DT197:DT198),SUM('inv3.直径階分布'!DT188:DT189)) -> 0 | ... AB96: =IF('1.収穫を予測する'!$C$2="なし", SUM('inv3.直径階分布'!EL197:EL198),SUM('inv3.直径階分布'!EL188:EL189)) -> 0
B97: ="~" & B15 -> ~26 | C97: =IF('1.収穫を予測する'!$C$2="なし", SUM('inv3.直径階分布'!DM199:DM200),SUM('inv3.直径階分布'!DM190:DM191)) -> 0 | D97: =IF('1.収穫を予測する'!$C$2="なし", SUM('inv3.直径階分布'!DN199:DN200),SUM('inv3.直径階分布'!DN190:DN191)) -> 0 | E97: =IF('1.収穫を予測する'!$C$2="なし", SUM('inv3.直径階分布'!DO199:DO200),SUM('inv3.直径階分布'!DO190:DO191)) -> 0 | F97: =IF('1.収穫を予測する'!$C$2="なし", SUM('inv3.直径階分布'!DP199:DP200),SUM('inv3.直径階分布'!DP190:DP191)) -> 0 | G97: =IF('1.収穫を予測する'!$C$2="なし", SUM('inv3.直径階分布'!DQ199:DQ200),SUM('inv3.直径階分布'!DQ190:DQ191)) -> 0 | H97: =IF('1.収穫を予測する'!$C$2="なし", SUM('inv3.直径階分布'!DR199:DR200),SUM('inv3.直径階分布'!DR190:DR191)) -> 0 | I97: =IF('1.収穫を予測する'!$C$2="なし", SUM('inv3.直径階分布'!DS199:DS200),SUM('inv3.直径階分布'!DS190:DS191)) -> 0 | J97: =IF('1.収穫を予測する'!$C$2="なし", SUM('inv3.直径階分布'!DT199:DT200),SUM('inv3.直径階分布'!DT190:DT191)) -> 0 | ... AB97: =IF('1.収穫を予測する'!$C$2="なし", SUM('inv3.直径階分布'!EL199:EL200),SUM('inv3.直径階分布'!EL190:EL191)) -> 0
B98: ="~" & B16 -> ~28 | C98: =IF('1.収穫を予測する'!$C$2="なし", SUM('inv3.直径階分布'!DM201:DM202),SUM('inv3.直径階分布'!DM192:DM193)) -> 0 | D98: =IF('1.収穫を予測する'!$C$2="なし", SUM('inv3.直径階分布'!DN201:DN202),SUM('inv3.直径階分布'!DN192:DN193)) -> 0 | E98: =IF('1.収穫を予測する'!$C$2="なし", SUM('inv3.直径階分布'!DO201:DO202),SUM('inv3.直径階分布'!DO192:DO193)) -> 0 | F98: =IF('1.収穫を予測する'!$C$2="なし", SUM('inv3.直径階分布'!DP201:DP202),SUM('inv3.直径階分布'!DP192:DP193)) -> 0 | G98: =IF('1.収穫を予測する'!$C$2="なし", SUM('inv3.直径階分布'!DQ201:DQ202),SUM('inv3.直径階分布'!DQ192:DQ193)) -> 0 | H98: =IF('1.収穫を予測する'!$C$2="なし", SUM('inv3.直径階分布'!DR201:DR202),SUM('inv3.直径階分布'!DR192:DR193)) -> 0 | I98: =IF('1.収穫を予測する'!$C$2="なし", SUM('inv3.直径階分布'!DS201:DS202),SUM('inv3.直径階分布'!DS192:DS193)) -> 0 | J98: =IF('1.収穫を予測する'!$C$2="なし", SUM('inv3.直径階分布'!DT201:DT202),SUM('inv3.直径階分布'!DT192:DT193)) -> 0 | ... AB98: =IF('1.収穫を予測する'!$C$2="なし", SUM('inv3.直径階分布'!EL201:EL202),SUM('inv3.直径階分布'!EL192:EL193)) -> 0
B99: ="~" & B17 -> ~30 | C99: =IF('1.収穫を予測する'!$C$2="なし", SUM('inv3.直径階分布'!DM203:DM204),SUM('inv3.直径階分布'!DM194:DM195)) -> 0 | D99: =IF('1.収穫を予測する'!$C$2="なし", SUM('inv3.直径階分布'!DN203:DN204),SUM('inv3.直径階分布'!DN194:DN195)) -> 0 | E99: =IF('1.収穫を予測する'!$C$2="なし", SUM('inv3.直径階分布'!DO203:DO204),SUM('inv3.直径階分布'!DO194:DO195)) -> 0 | F99: =IF('1.収穫を予測する'!$C$2="なし", SUM('inv3.直径階分布'!DP203:DP204),SUM('inv3.直径階分布'!DP194:DP195)) -> 0 | G99: =IF('1.収穫を予測する'!$C$2="なし", SUM('inv3.直径階分布'!DQ203:DQ204),SUM('inv3.直径階分布'!DQ194:DQ195)) -> 0 | H99: =IF('1.収穫を予測する'!$C$2="なし", SUM('inv3.直径階分布'!DR203:DR204),SUM('inv3.直径階分布'!DR194:DR195)) -> 0 | I99: =IF('1.収穫を予測する'!$C$2="なし", SUM('inv3.直径階分布'!DS203:DS204),SUM('inv3.直径階分布'!DS194:DS195)) -> 0 | J99: =IF('1.収穫を予測する'!$C$2="なし", SUM('inv3.直径階分布'!DT203:DT204),SUM('inv3.直径階分布'!DT194:DT195)) -> 0 | ... AB99: =IF('1.収穫を予測する'!$C$2="なし", SUM('inv3.直径階分布'!EL203:EL204),SUM('inv3.直径階分布'!EL194:EL195)) -> 0
B100: ="~" & B18 -> ~32 | C100: =IF('1.収穫を予測する'!$C$2="なし", SUM('inv3.直径階分布'!DM205:DM206),SUM('inv3.直径階分布'!DM196:DM197)) -> 0 | D100: =IF('1.収穫を予測する'!$C$2="なし", SUM('inv3.直径階分布'!DN205:DN206),SUM('inv3.直径階分布'!DN196:DN197)) -> 0 | E100: =IF('1.収穫を予測する'!$C$2="なし", SUM('inv3.直径階分布'!DO205:DO206),SUM('inv3.直径階分布'!DO196:DO197)) -> 0 | F100: =IF('1.収穫を予測する'!$C$2="なし", SUM('inv3.直径階分布'!DP205:DP206),SUM('inv3.直径階分布'!DP196:DP197)) -> 0 | G100: =IF('1.収穫を予測する'!$C$2="なし", SUM('inv3.直径階分布'!DQ205:DQ206),SUM('inv3.直径階分布'!DQ196:DQ197)) -> 0 | H100: =IF('1.収穫を予測する'!$C$2="なし", SUM('inv3.直径階分布'!DR205:DR206),SUM('inv3.直径階分布'!DR196:DR197)) -> 0 | I100: =IF('1.収穫を予測する'!$C$2="なし", SUM('inv3.直径階分布'!DS205:DS206),SUM('inv3.直径階分布'!DS196:DS197)) -> 0 | J100: =IF('1.収穫を予測する'!$C$2="なし", SUM('inv3.直径階分布'!DT205:DT206),SUM('inv3.直径階分布'!DT196:DT197)) -> 0 | ... AB100: =IF('1.収穫を予測する'!$C$2="なし", SUM('inv3.直径階分布'!EL205:EL206),SUM('inv3.直径階分布'!EL196:EL197)) -> 0
B101: ="~" & B19 -> ~34 | C101: =IF('1.収穫を予測する'!$C$2="なし", SUM('inv3.直径階分布'!DM207:DM208),SUM('inv3.直径階分布'!DM198:DM199)) -> 0 | D101: =IF('1.収穫を予測する'!$C$2="なし", SUM('inv3.直径階分布'!DN207:DN208),SUM('inv3.直径階分布'!DN198:DN199)) -> 0 | E101: =IF('1.収穫を予測する'!$C$2="なし", SUM('inv3.直径階分布'!DO207:DO208),SUM('inv3.直径階分布'!DO198:DO199)) -> 0 | F101: =IF('1.収穫を予測する'!$C$2="なし", SUM('inv3.直径階分布'!DP207:DP208),SUM('inv3.直径階分布'!DP198:DP199)) -> 0 | G101: =IF('1.収穫を予測する'!$C$2="なし", SUM('inv3.直径階分布'!DQ207:DQ208),SUM('inv3.直径階分布'!DQ198:DQ199)) -> 0 | H101: =IF('1.収穫を予測する'!$C$2="なし", SUM('inv3.直径階分布'!DR207:DR208),SUM('inv3.直径階分布'!DR198:DR199)) -> 0 | I101: =IF('1.収穫を予測する'!$C$2="なし", SUM('inv3.直径階分布'!DS207:DS208),SUM('inv3.直径階分布'!DS198:DS199)) -> 0 | J101: =IF('1.収穫を予測する'!$C$2="なし", SUM('inv3.直径階分布'!DT207:DT208),SUM('inv3.直径階分布'!DT198:DT199)) -> 0 | ... AB101: =IF('1.収穫を予測する'!$C$2="なし", SUM('inv3.直径階分布'!EL207:EL208),SUM('inv3.直径階分布'!EL198:EL199)) -> 0
B102: ="~" & B20 -> ~36 | C102: =IF('1.収穫を予測する'!$C$2="なし", SUM('inv3.直径階分布'!DM209:DM210),SUM('inv3.直径階分布'!DM200:DM201)) -> 0 | D102: =IF('1.収穫を予測する'!$C$2="なし", SUM('inv3.直径階分布'!DN209:DN210),SUM('inv3.直径階分布'!DN200:DN201)) -> 0 | E102: =IF('1.収穫を予測する'!$C$2="なし", SUM('inv3.直径階分布'!DO209:DO210),SUM('inv3.直径階分布'!DO200:DO201)) -> 0 | F102: =IF('1.収穫を予測する'!$C$2="なし", SUM('inv3.直径階分布'!DP209:DP210),SUM('inv3.直径階分布'!DP200:DP201)) -> 0 | G102: =IF('1.収穫を予測する'!$C$2="なし", SUM('inv3.直径階分布'!DQ209:DQ210),SUM('inv3.直径階分布'!DQ200:DQ201)) -> 0 | H102: =IF('1.収穫を予測する'!$C$2="なし", SUM('inv3.直径階分布'!DR209:DR210),SUM('inv3.直径階分布'!DR200:DR201)) -> 0 | I102: =IF('1.収穫を予測する'!$C$2="なし", SUM('inv3.直径階分布'!DS209:DS210),SUM('inv3.直径階分布'!DS200:DS201)) -> 0 | J102: =IF('1.収穫を予測する'!$C$2="なし", SUM('inv3.直径階分布'!DT209:DT210),SUM('inv3.直径階分布'!DT200:DT201)) -> 0 | ... AB102: =IF('1.収穫を予測する'!$C$2="なし", SUM('inv3.直径階分布'!EL209:EL210),SUM('inv3.直径階分布'!EL200:EL201)) -> 0
B103: ="~" & B21 -> ~38 | C103: =IF('1.収穫を予測する'!$C$2="なし", SUM('inv3.直径階分布'!DM211:DM212),SUM('inv3.直径階分布'!DM202:DM203)) -> 0 | D103: =IF('1.収穫を予測する'!$C$2="なし", SUM('inv3.直径階分布'!DN211:DN212),SUM('inv3.直径階分布'!DN202:DN203)) -> 0 | E103: =IF('1.収穫を予測する'!$C$2="なし", SUM('inv3.直径階分布'!DO211:DO212),SUM('inv3.直径階分布'!DO202:DO203)) -> 0 | F103: =IF('1.収穫を予測する'!$C$2="なし", SUM('inv3.直径階分布'!DP211:DP212),SUM('inv3.直径階分布'!DP202:DP203)) -> 0 | G103: =IF('1.収穫を予測する'!$C$2="なし", SUM('inv3.直径階分布'!DQ211:DQ212),SUM('inv3.直径階分布'!DQ202:DQ203)) -> 0 | H103: =IF('1.収穫を予測する'!$C$2="なし", SUM('inv3.直径階分布'!DR211:DR212),SUM('inv3.直径階分布'!DR202:DR203)) -> 0 | I103: =IF('1.収穫を予測する'!$C$2="なし", SUM('inv3.直径階分布'!DS211:DS212),SUM('inv3.直径階分布'!DS202:DS203)) -> 0 | J103: =IF('1.収穫を予測する'!$C$2="なし", SUM('inv3.直径階分布'!DT211:DT212),SUM('inv3.直径階分布'!DT202:DT203)) -> 0 | ... AB103: =IF('1.収穫を予測する'!$C$2="なし", SUM('inv3.直径階分布'!EL211:EL212),SUM('inv3.直径階分布'!EL202:EL203)) -> 0
B104: ="~" & B22 -> ~40 | C104: =IF('1.収穫を予測する'!$C$2="なし", SUM('inv3.直径階分布'!DM213:DM214),SUM('inv3.直径階分布'!DM204:DM205)) -> 0 | D104: =IF('1.収穫を予測する'!$C$2="なし", SUM('inv3.直径階分布'!DN213:DN214),SUM('inv3.直径階分布'!DN204:DN205)) -> 0 | E104: =IF('1.収穫を予測する'!$C$2="なし", SUM('inv3.直径階分布'!DO213:DO214),SUM('inv3.直径階分布'!DO204:DO205)) -> 0 | F104: =IF('1.収穫を予測する'!$C$2="なし", SUM('inv3.直径階分布'!DP213:DP214),SUM('inv3.直径階分布'!DP204:DP205)) -> 0 | G104: =IF('1.収穫を予測する'!$C$2="なし", SUM('inv3.直径階分布'!DQ213:DQ214),SUM('inv3.直径階分布'!DQ204:DQ205)) -> 0 | H104: =IF('1.収穫を予測する'!$C$2="なし", SUM('inv3.直径階分布'!DR213:DR214),SUM('inv3.直径階分布'!DR204:DR205)) -> 0 | I104: =IF('1.収穫を予測する'!$C$2="なし", SUM('inv3.直径階分布'!DS213:DS214),SUM('inv3.直径階分布'!DS204:DS205)) -> 0 | J104: =IF('1.収穫を予測する'!$C$2="なし", SUM('inv3.直径階分布'!DT213:DT214),SUM('inv3.直径階分布'!DT204:DT205)) -> 0 | ... AB104: =IF('1.収穫を予測する'!$C$2="なし", SUM('inv3.直径階分布'!EL213:EL214),SUM('inv3.直径階分布'!EL204:EL205)) -> 0
B105: ="~" & B23 -> ~42 | C105: =IF('1.収穫を予測する'!$C$2="なし", SUM('inv3.直径階分布'!DM215:DM216),SUM('inv3.直径階分布'!DM206:DM207)) -> 0 | D105: =IF('1.収穫を予測する'!$C$2="なし", SUM('inv3.直径階分布'!DN215:DN216),SUM('inv3.直径階分布'!DN206:DN207)) -> 0 | E105: =IF('1.収穫を予測する'!$C$2="なし", SUM('inv3.直径階分布'!DO215:DO216),SUM('inv3.直径階分布'!DO206:DO207)) -> 0 | F105: =IF('1.収穫を予測する'!$C$2="なし", SUM('inv3.直径階分布'!DP215:DP216),SUM('inv3.直径階分布'!DP206:DP207)) -> 0 | G105: =IF('1.収穫を予測する'!$C$2="なし", SUM('inv3.直径階分布'!DQ215:DQ216),SUM('inv3.直径階分布'!DQ206:DQ207)) -> 0 | H105: =IF('1.収穫を予測する'!$C$2="なし", SUM('inv3.直径階分布'!DR215:DR216),SUM('inv3.直径階分布'!DR206:DR207)) -> 0 | I105: =IF('1.収穫を予測する'!$C$2="なし", SUM('inv3.直径階分布'!DS215:DS216),SUM('inv3.直径階分布'!DS206:DS207)) -> 0 | J105: =IF('1.収穫を予測する'!$C$2="なし", SUM('inv3.直径階分布'!DT215:DT216),SUM('inv3.直径階分布'!DT206:DT207)) -> 0 | ... AB105: =IF('1.収穫を予測する'!$C$2="なし", SUM('inv3.直径階分布'!EL215:EL216),SUM('inv3.直径階分布'!EL206:EL207)) -> 0
...

Sheet 3.施業体系図
B2: ='1.収穫を予測する'!G2 & "山林" -> 椴松 太郎山林
C32: 林齢（年） | E32: =IF(ISERROR(VLOOKUP(1,'inv1.組み合わせ番号表'!$I$2:$K$92,2,FALSE)),"",VLOOKUP(1,'inv1.組み合わせ番号表'!$I$2:$K$92,2,FALSE)) | F32: =IF(ISERROR(VLOOKUP(2,'inv1.組み合わせ番号表'!$I$2:$K$92,2,FALSE)),"",VLOOKUP(2,'inv1.組み合わせ番号表'!$I$2:$K$92,2,FALSE)) | G32: =IF(ISERROR(VLOOKUP(3,'inv1.組み合わせ番号表'!$I$2:$K$92,2,FALSE)),"",VLOOKUP(3,'inv1.組み合わせ番号表'!$I$2:$K$92,2,FALSE)) | H32: =IF(ISERROR(VLOOKUP(4,'inv1.組み合わせ番号表'!$I$2:$K$92,2,FALSE)),"",VLOOKUP(4,'inv1.組み合わせ番号表'!$I$2:$K$92,2,FALSE)) | I32: =IF(ISERROR(VLOOKUP(5,'inv1.組み合わせ番号表'!$I$2:$K$92,2,FALSE)),"",VLOOKUP(5,'inv1.組み合わせ番号表'!$I$2:$K$92,2,FALSE)) | J32: =IF(ISERROR(VLOOKUP(6,'inv1.組み合わせ番号表'!$I$2:$K$92,2,FALSE)),"",VLOOKUP(6,'inv1.組み合わせ番号表'!$I$2:$K$92,2,FALSE)) | K32: =IF(ISERROR(VLOOKUP(7,'inv1.組み合わせ番号表'!$I$2:$K$92,2,FALSE)),"",VLOOKUP(7,'inv1.組み合わせ番号表'!$I$2:$K$92,2,FALSE)) | L32: =IF(ISERROR(VLOOKUP(8,'inv1.組み合わせ番号表'!$I$2:$K$92,2,FALSE)),"",VLOOKUP(8,'inv1.組み合わせ番号表'!$I$2:$K$92,2,FALSE)) | M32: =IF(ISERROR(VLOOKUP(9,'inv1.組み合わせ番号表'!$I$2:$K$92,2,FALSE)),"",VLOOKUP(9,'inv1.組み合わせ番号表'!$I$2:$K$92,2,FALSE)) | N32: =IF(ISERROR(VLOOKUP(10,'inv1.組み合わせ番号表'!$I$2:$K$92,2,FALSE)),"",VLOOKUP(10,'inv1.組み合わせ番号表'!$I$2:$K$92,2,FALSE))
B33: 間伐前 | C33: 上層高(m) | E33: =IF(E$32="","",IF(OR('1.収穫を予測する'!$C$2="あり",'1.収穫を予測する'!$C$3="あり"),VLOOKUP(E$32,入力方法別計算!$W$2:$AG$81,2),VLOOKUP(E$32,'inv2.計算シート'!$AB$2:$AQ$81,2))) | F33: =IF(F$32="","",IF(OR('1.収穫を予測する'!$C$2="あり",'1.収穫を予測する'!$C$3="あり"),VLOOKUP(F$32,入力方法別計算!$W$2:$AG$81,2),VLOOKUP(F$32,'inv2.計算シート'!$AB$2:$AQ$81,2))) | G33: =IF(G$32="","",IF(OR('1.収穫を予測する'!$C$2="あり",'1.収穫を予測する'!$C$3="あり"),VLOOKUP(G$32,入力方法別計算!$W$2:$AG$81,2),VLOOKUP(G$32,'inv2.計算シート'!$AB$2:$AQ$81,2))) | H33: =IF(H$32="","",IF(OR('1.収穫を予測する'!$C$2="あり",'1.収穫を予測する'!$C$3="あり"),VLOOKUP(H$32,入力方法別計算!$W$2:$AG$81,2),VLOOKUP(H$32,'inv2.計算シート'!$AB$2:$AQ$81,2))) | I33: =IF(I$32="","",IF(OR('1.収穫を予測する'!$C$2="あり",'1.収穫を予測する'!$C$3="あり"),VLOOKUP(I$32,入力方法別計算!$W$2:$AG$81,2),VLOOKUP(I$32,'inv2.計算シート'!$AB$2:$AQ$81,2))) | J33: =IF(J$32="","",IF(OR('1.収穫を予測する'!$C$2="あり",'1.収穫を予測する'!$C$3="あり"),VLOOKUP(J$32,入力方法別計算!$W$2:$AG$81,2),VLOOKUP(J$32,'inv2.計算シート'!$AB$2:$AQ$81,2))) | K33: =IF(K$32="","",IF(OR('1.収穫を予測する'!$C$2="あり",'1.収穫を予測する'!$C$3="あり"),VLOOKUP(K$32,入力方法別計算!$W$2:$AG$81,2),VLOOKUP(K$32,'inv2.計算シート'!$AB$2:$AQ$81,2))) | L33: =IF(L$32="","",IF(OR('1.収穫を予測する'!$C$2="あり",'1.収穫を予測する'!$C$3="あり"),VLOOKUP(L$32,入力方法別計算!$W$2:$AG$81,2),VLOOKUP(L$32,'inv2.計算シート'!$AB$2:$AQ$81,2))) | ... N33: =IF(N$32="","",IF(OR('1.収穫を予測する'!$C$2="あり",'1.収穫を予測する'!$C$3="あり"),VLOOKUP(N$32,入力方法別計算!$W$2:$AG$81,2),VLOOKUP(N$32,'inv2.計算シート'!$AB$2:$AQ$81,2)))
C34: 平均直径(cm) | E34: =IF(E$32="","",IF(OR('1.収穫を予測する'!$C$2="あり",'1.収穫を予測する'!$C$3="あり"),VLOOKUP(E$32,入力方法別計算!$W$2:$AG$81,11),VLOOKUP(E$32,'inv2.計算シート'!$AB$2:$AR$81,17))) | F34: =IF(F$32="","",IF(OR('1.収穫を予測する'!$C$2="あり",'1.収穫を予測する'!$C$3="あり"),VLOOKUP(F$32,入力方法別計算!$W$2:$AG$81,11),VLOOKUP(F$32,'inv2.計算シート'!$AB$2:$AR$81,17))) | G34: =IF(G$32="","",IF(OR('1.収穫を予測する'!$C$2="あり",'1.収穫を予測する'!$C$3="あり"),VLOOKUP(G$32,入力方法別計算!$W$2:$AG$81,11),VLOOKUP(G$32,'inv2.計算シート'!$AB$2:$AR$81,17))) | H34: =IF(H$32="","",IF(OR('1.収穫を予測する'!$C$2="あり",'1.収穫を予測する'!$C$3="あり"),VLOOKUP(H$32,入力方法別計算!$W$2:$AG$81,11),VLOOKUP(H$32,'inv2.計算シート'!$AB$2:$AR$81,17))) | I34: =IF(I$32="","",IF(OR('1.収穫を予測する'!$C$2="あり",'1.収穫を予測する'!$C$3="あり"),VLOOKUP(I$32,入力方法別計算!$W$2:$AG$81,11),VLOOKUP(I$32,'inv2.計算シート'!$AB$2:$AR$81,17))) | J34: =IF(J$32="","",IF(OR('1.収穫を予測する'!$C$2="あり",'1.収穫を予測する'!$C$3="あり"),VLOOKUP(J$32,入力方法別計算!$W$2:$AG$81,11),VLOOKUP(J$32,'inv2.計算シート'!$AB$2:$AR$81,17))) | K34: =IF(K$32="","",IF(OR('1.収穫を予測する'!$C$2="あり",'1.収穫を予測する'!$C$3="あり"),VLOOKUP(K$32,入力方法別計算!$W$2:$AG$81,11),VLOOKUP(K$32,'inv2.計算シート'!$AB$2:$AR$81,17))) | L34: =IF(L$32="","",IF(OR('1.収穫を予測する'!$C$2="あり",'1.収穫を予測する'!$C$3="あり"),VLOOKUP(L$32,入力方法別計算!$W$2:$AG$81,11),VLOOKUP(L$32,'inv2.計算シート'!$AB$2:$AR$81,17))) | ... N34: =IF(N$32="","",IF(OR('1.収穫を予測する'!$C$2="あり",'1.収穫を予測する'!$C$3="あり"),VLOOKUP(N$32,入力方法別計算!$W$2:$AG$81,11),VLOOKUP(N$32,'inv2.計算シート'!$AB$2:$AR$81,17)))
C35: 立木本数(/ha) | E35: =IF(E$32="","",IF(OR('1.収穫を予測する'!$C$2="あり",'1.収穫を予測する'!$C$3="あり"),VLOOKUP(E$32,入力方法別計算!$W$2:$AG$81,3),VLOOKUP(E$32,'inv2.計算シート'!$AB$2:$AQ$81,4))) | F35: =IF(F$32="","",IF(OR('1.収穫を予測する'!$C$2="あり",'1.収穫を予測する'!$C$3="あり"),VLOOKUP(F$32,入力方法別計算!$W$2:$AG$81,3),VLOOKUP(F$32,'inv2.計算シート'!$AB$2:$AQ$81,4))) | G35: =IF(G$32="","",IF(OR('1.収穫を予測する'!$C$2="あり",'1.収穫を予測する'!$C$3="あり"),VLOOKUP(G$32,入力方法別計算!$W$2:$AG$81,3),VLOOKUP(G$32,'inv2.計算シート'!$AB$2:$AQ$81,4))) | H35: =IF(H$32="","",IF(OR('1.収穫を予測する'!$C$2="あり",'1.収穫を予測する'!$C$3="あり"),VLOOKUP(H$32,入力方法別計算!$W$2:$AG$81,3),VLOOKUP(H$32,'inv2.計算シート'!$AB$2:$AQ$81,4))) | I35: =IF(I$32="","",IF(OR('1.収穫を予測する'!$C$2="あり",'1.収穫を予測する'!$C$3="あり"),VLOOKUP(I$32,入力方法別計算!$W$2:$AG$81,3),VLOOKUP(I$32,'inv2.計算シート'!$AB$2:$AQ$81,4))) | J35: =IF(J$32="","",IF(OR('1.収穫を予測する'!$C$2="あり",'1.収穫を予測する'!$C$3="あり"),VLOOKUP(J$32,入力方法別計算!$W$2:$AG$81,3),VLOOKUP(J$32,'inv2.計算シート'!$AB$2:$AQ$81,4))) | K35: =IF(K$32="","",IF(OR('1.収穫を予測する'!$C$2="あり",'1.収穫を予測する'!$C$3="あり"),VLOOKUP(K$32,入力方法別計算!$W$2:$AG$81,3),VLOOKUP(K$32,'inv2.計算シート'!$AB$2:$AQ$81,4))) | L35: =IF(L$32="","",IF(OR('1.収穫を予測する'!$C$2="あり",'1.収穫を予測する'!$C$3="あり"),VLOOKUP(L$32,入力方法別計算!$W$2:$AG$81,3),VLOOKUP(L$32,'inv2.計算シート'!$AB$2:$AQ$81,4))) | ... N35: =IF(N$32="","",IF(OR('1.収穫を予測する'!$C$2="あり",'1.収穫を予測する'!$C$3="あり"),VLOOKUP(N$32,入力方法別計算!$W$2:$AG$81,3),VLOOKUP(N$32,'inv2.計算シート'!$AB$2:$AQ$81,4)))
C36: 材積(m3/ha) | E36: =IF(E$32="","",IF(OR('1.収穫を予測する'!$C$2="あり",'1.収穫を予測する'!$C$3="あり"),VLOOKUP(E$32,入力方法別計算!$W$2:$AG$81,4),VLOOKUP(E$32,'inv2.計算シート'!$AB$2:$AQ$81,3))) | F36: =IF(F$32="","",IF(OR('1.収穫を予測する'!$C$2="あり",'1.収穫を予測する'!$C$3="あり"),VLOOKUP(F$32,入力方法別計算!$W$2:$AG$81,4),VLOOKUP(F$32,'inv2.計算シート'!$AB$2:$AQ$81,3))) | G36: =IF(G$32="","",IF(OR('1.収穫を予測する'!$C$2="あり",'1.収穫を予測する'!$C$3="あり"),VLOOKUP(G$32,入力方法別計算!$W$2:$AG$81,4),VLOOKUP(G$32,'inv2.計算シート'!$AB$2:$AQ$81,3))) | H36: =IF(H$32="","",IF(OR('1.収穫を予測する'!$C$2="あり",'1.収穫を予測する'!$C$3="あり"),VLOOKUP(H$32,入力方法別計算!$W$2:$AG$81,4),VLOOKUP(H$32,'inv2.計算シート'!$AB$2:$AQ$81,3))) | I36: =IF(I$32="","",IF(OR('1.収穫を予測する'!$C$2="あり",'1.収穫を予測する'!$C$3="あり"),VLOOKUP(I$32,入力方法別計算!$W$2:$AG$81,4),VLOOKUP(I$32,'inv2.計算シート'!$AB$2:$AQ$81,3))) | J36: =IF(J$32="","",IF(OR('1.収穫を予測する'!$C$2="あり",'1.収穫を予測する'!$C$3="あり"),VLOOKUP(J$32,入力方法別計算!$W$2:$AG$81,4),VLOOKUP(J$32,'inv2.計算シート'!$AB$2:$AQ$81,3))) | K36: =IF(K$32="","",IF(OR('1.収穫を予測する'!$C$2="あり",'1.収穫を予測する'!$C$3="あり"),VLOOKUP(K$32,入力方法別計算!$W$2:$AG$81,4),VLOOKUP(K$32,'inv2.計算シート'!$AB$2:$AQ$81,3))) | L36: =IF(L$32="","",IF(OR('1.収穫を予測する'!$C$2="あり",'1.収穫を予測する'!$C$3="あり"),VLOOKUP(L$32,入力方法別計算!$W$2:$AG$81,4),VLOOKUP(L$32,'inv2.計算シート'!$AB$2:$AQ$81,3))) | ... N36: =IF(N$32="","",IF(OR('1.収穫を予測する'!$C$2="あり",'1.収穫を予測する'!$C$3="あり"),VLOOKUP(N$32,入力方法別計算!$W$2:$AG$81,4),VLOOKUP(N$32,'inv2.計算シート'!$AB$2:$AQ$81,3)))
B37: 間伐 | C37: 回数（回） | E37: =IF(E32="","",1) | F37: =IF(F32="","",E37+1) | G37: =IF(G32="","",F37+1) | H37: =IF(H32="","",G37+1) | I37: =IF(I32="","",H37+1) | J37: =IF(J32="","",I37+1) | K37: =IF(K32="","",J37+1) | L37: =IF(L32="","",K37+1) | M37: =IF(M32="","",L37+1) | N37: =IF(N32="","",M37+1)
C38: 本数(/ha） | E38: =IF(E$32="","",IF(OR('1.収穫を予測する'!$C$2="あり",'1.収穫を予測する'!$C$3="あり"),VLOOKUP(E$32,入力方法別計算!$W$2:$AG$81,9),VLOOKUP(E$32,'inv2.計算シート'!$AB$2:$AM$81,12))) | F38: =IF(F$32="","",IF(OR('1.収穫を予測する'!$C$2="あり",'1.収穫を予測する'!$C$3="あり"),VLOOKUP(F$32,入力方法別計算!$W$2:$AG$81,9),VLOOKUP(F$32,'inv2.計算シート'!$AB$2:$AM$81,12))) | G38: =IF(G$32="","",IF(OR('1.収穫を予測する'!$C$2="あり",'1.収穫を予測する'!$C$3="あり"),VLOOKUP(G$32,入力方法別計算!$W$2:$AG$81,9),VLOOKUP(G$32,'inv2.計算シート'!$AB$2:$AM$81,12))) | H38: =IF(H$32="","",IF(OR('1.収穫を予測する'!$C$2="あり",'1.収穫を予測する'!$C$3="あり"),VLOOKUP(H$32,入力方法別計算!$W$2:$AG$81,9),VLOOKUP(H$32,'inv2.計算シート'!$AB$2:$AM$81,12))) | I38: =IF(I$32="","",IF(OR('1.収穫を予測する'!$C$2="あり",'1.収穫を予測する'!$C$3="あり"),VLOOKUP(I$32,入力方法別計算!$W$2:$AG$81,9),VLOOKUP(I$32,'inv2.計算シート'!$AB$2:$AM$81,12))) | J38: =IF(J$32="","",IF(OR('1.収穫を予測する'!$C$2="あり",'1.収穫を予測する'!$C$3="あり"),VLOOKUP(J$32,入力方法別計算!$W$2:$AG$81,9),VLOOKUP(J$32,'inv2.計算シート'!$AB$2:$AM$81,12))) | K38: =IF(K$32="","",IF(OR('1.収穫を予測する'!$C$2="あり",'1.収穫を予測する'!$C$3="あり"),VLOOKUP(K$32,入力方法別計算!$W$2:$AG$81,9),VLOOKUP(K$32,'inv2.計算シート'!$AB$2:$AM$81,12))) | L38: =IF(L$32="","",IF(OR('1.収穫を予測する'!$C$2="あり",'1.収穫を予測する'!$C$3="あり"),VLOOKUP(L$32,入力方法別計算!$W$2:$AG$81,9),VLOOKUP(L$32,'inv2.計算シート'!$AB$2:$AM$81,12))) | ... N38: =IF(N$32="","",IF(OR('1.収穫を予測する'!$C$2="あり",'1.収穫を予測する'!$C$3="あり"),VLOOKUP(N$32,入力方法別計算!$W$2:$AG$81,9),VLOOKUP(N$32,'inv2.計算シート'!$AB$2:$AM$81,12)))
C39: 本数率(%) | E39: =IF(E$32="","",IF(OR('1.収穫を予測する'!$C$2="あり",'1.収穫を予測する'!$C$3="あり"),VLOOKUP(E$32,入力方法別計算!$W$2:$AG$81,5)*100,VLOOKUP(E$32,'inv2.計算シート'!$AB$2:$AQ$81,5)*100)) | F39: =IF(F$32="","",IF(OR('1.収穫を予測する'!$C$2="あり",'1.収穫を予測する'!$C$3="あり"),VLOOKUP(F$32,入力方法別計算!$W$2:$AG$81,5)*100,VLOOKUP(F$32,'inv2.計算シート'!$AB$2:$AQ$81,5)*100)) | G39: =IF(G$32="","",IF(OR('1.収穫を予測する'!$C$2="あり",'1.収穫を予測する'!$C$3="あり"),VLOOKUP(G$32,入力方法別計算!$W$2:$AG$81,5)*100,VLOOKUP(G$32,'inv2.計算シート'!$AB$2:$AQ$81,5)*100)) | H39: =IF(H$32="","",IF(OR('1.収穫を予測する'!$C$2="あり",'1.収穫を予測する'!$C$3="あり"),VLOOKUP(H$32,入力方法別計算!$W$2:$AG$81,5)*100,VLOOKUP(H$32,'inv2.計算シート'!$AB$2:$AQ$81,5)*100)) | I39: =IF(I$32="","",IF(OR('1.収穫を予測する'!$C$2="あり",'1.収穫を予測する'!$C$3="あり"),VLOOKUP(I$32,入力方法別計算!$W$2:$AG$81,5)*100,VLOOKUP(I$32,'inv2.計算シート'!$AB$2:$AQ$81,5)*100)) | J39: =IF(J$32="","",IF(OR('1.収穫を予測する'!$C$2="あり",'1.収穫を予測する'!$C$3="あり"),VLOOKUP(J$32,入力方法別計算!$W$2:$AG$81,5)*100,VLOOKUP(J$32,'inv2.計算シート'!$AB$2:$AQ$81,5)*100)) | K39: =IF(K$32="","",IF(OR('1.収穫を予測する'!$C$2="あり",'1.収穫を予測する'!$C$3="あり"),VLOOKUP(K$32,入力方法別計算!$W$2:$AG$81,5)*100,VLOOKUP(K$32,'inv2.計算シート'!$AB$2:$AQ$81,5)*100)) | L39: =IF(L$32="","",IF(OR('1.収穫を予測する'!$C$2="あり",'1.収穫を予測する'!$C$3="あり"),VLOOKUP(L$32,入力方法別計算!$W$2:$AG$81,5)*100,VLOOKUP(L$32,'inv2.計算シート'!$AB$2:$AQ$81,5)*100)) | ... N39: =IF(N$32="","",IF(OR('1.収穫を予測する'!$C$2="あり",'1.収穫を予測する'!$C$3="あり"),VLOOKUP(N$32,入力方法別計算!$W$2:$AG$81,5)*100,VLOOKUP(N$32,'inv2.計算シート'!$AB$2:$AQ$81,5)*100))
C40: 材積(m3/ha) | E40: =IF(E$32="","",IF(OR('1.収穫を予測する'!$C$2="あり",'1.収穫を予測する'!$C$3="あり"),VLOOKUP(E$32,入力方法別計算!$W$2:$AG$81,10),VLOOKUP(E$32,'inv2.計算シート'!$AB$2:$AM$81,11))) | F40: =IF(F$32="","",IF(OR('1.収穫を予測する'!$C$2="あり",'1.収穫を予測する'!$C$3="あり"),VLOOKUP(F$32,入力方法別計算!$W$2:$AG$81,10),VLOOKUP(F$32,'inv2.計算シート'!$AB$2:$AM$81,11))) | G40: =IF(G$32="","",IF(OR('1.収穫を予測する'!$C$2="あり",'1.収穫を予測する'!$C$3="あり"),VLOOKUP(G$32,入力方法別計算!$W$2:$AG$81,10),VLOOKUP(G$32,'inv2.計算シート'!$AB$2:$AM$81,11))) | H40: =IF(H$32="","",IF(OR('1.収穫を予測する'!$C$2="あり",'1.収穫を予測する'!$C$3="あり"),VLOOKUP(H$32,入力方法別計算!$W$2:$AG$81,10),VLOOKUP(H$32,'inv2.計算シート'!$AB$2:$AM$81,11))) | I40: =IF(I$32="","",IF(OR('1.収穫を予測する'!$C$2="あり",'1.収穫を予測する'!$C$3="あり"),VLOOKUP(I$32,入力方法別計算!$W$2:$AG$81,10),VLOOKUP(I$32,'inv2.計算シート'!$AB$2:$AM$81,11))) | J40: =IF(J$32="","",IF(OR('1.収穫を予測する'!$C$2="あり",'1.収穫を予測する'!$C$3="あり"),VLOOKUP(J$32,入力方法別計算!$W$2:$AG$81,10),VLOOKUP(J$32,'inv2.計算シート'!$AB$2:$AM$81,11))) | K40: =IF(K$32="","",IF(OR('1.収穫を予測する'!$C$2="あり",'1.収穫を予測する'!$C$3="あり"),VLOOKUP(K$32,入力方法別計算!$W$2:$AG$81,10),VLOOKUP(K$32,'inv2.計算シート'!$AB$2:$AM$81,11))) | L40: =IF(L$32="","",IF(OR('1.収穫を予測する'!$C$2="あり",'1.収穫を予測する'!$C$3="あり"),VLOOKUP(L$32,入力方法別計算!$W$2:$AG$81,10),VLOOKUP(L$32,'inv2.計算シート'!$AB$2:$AM$81,11))) | ... N40: =IF(N$32="","",IF(OR('1.収穫を予測する'!$C$2="あり",'1.収穫を予測する'!$C$3="あり"),VLOOKUP(N$32,入力方法別計算!$W$2:$AG$81,10),VLOOKUP(N$32,'inv2.計算シート'!$AB$2:$AM$81,11)))

Sheet inv1.組み合わせ番号表
A1: 地位指数リスト参照元 | B1: 組み合わせ番号 | C1: 地位 | D1: 本数 | E1: a | F1: b | G1: c | I1: Cuml. | J1: age | K1: %thinning
A2: 12 | B2: 1 | C2: 12 | D2: 1500 | E2: 0.87905425 | F2: 0.65825283 | G2: 0.12687002 | I2: =IF(K2=0,0,1) -> 0 | J2: =IF(出力前!J12>80,"",出力前!J12) -> 1 | K2: ='1.収穫を予測する'!K13 -> 0
A3: 13 | B3: 2 | C3: 12 | D3: 1750 | E3: 0.92673118 | F3: 0.64779727 | G3: 0.12345745 | I3: =IF(K3=0,I2+0.001,1+INT(I2)) -> 0.001 | J3: =IF(出力前!J13>80,"",出力前!J13) -> 2 | K3: ='1.収穫を予測する'!K14 -> 0
A4: 14 | B4: 3 | C4: 12 | D4: 2000 | E4: 0.97087348 | F4: 0.63840818 | G4: 0.12052762 | I4: =IF(K4=0,I3+0.001,1+INT(I3)) -> 0.002 | J4: =IF(出力前!J14>80,"",出力前!J14) -> 3 | K4: ='1.収穫を予測する'!K15 -> 0
A5: 15 | B5: 4 | C5: 12 | D5: 2250 | E5: 0.99614004 | F5: 0.63821982 | G5: 0.12190731 | I5: =IF(K5=0,I4+0.001,1+INT(I4)) -> 0.003 | J5: =IF(出力前!J15>80,"",出力前!J15) -> 4 | K5: ='1.収穫を予測する'!K16 -> 0
A6: 16 | B6: 5 | C6: 12 | D6: 2500 | E6: 1.0503957 | F6: 0.62221706 | G6: 0.11575428 | I6: =IF(K6=0,I5+0.001,1+INT(I5)) -> 0.004 | J6: =IF(出力前!J16>80,"",出力前!J16) -> 5 | K6: ='1.収穫を予測する'!K17 -> 0
A7: 17 | B7: 6 | C7: 12 | D7: 2750 | E7: 1.0863008 | F7: 0.61520479 | G7: 0.11378527 | I7: =IF(K7=0,I6+0.001,1+INT(I6)) -> 0.005 | J7: =IF(出力前!J17>80,"",出力前!J17) -> 6 | K7: ='1.収穫を予測する'!K18 -> 0
A8: 18 | B8: 7 | C8: 12 | D8: 3000 | E8: 1.1199128 | F8: 0.60886911 | G8: 0.11208104 | I8: =IF(K8=0,I7+0.001,1+INT(I7)) -> 0.006 | J8: =IF(出力前!J18>80,"",出力前!J18) -> 7 | K8: ='1.収穫を予測する'!K19 -> 0
A9: 19 | B9: 8 | C9: 12 | D9: 3250 | E9: 1.1520325 | F9: 0.60291848 | G9: 0.11052141 | I9: =IF(K9=0,I8+0.001,1+INT(I8)) -> 0.007 | J9: =IF(出力前!J19>80,"",出力前!J19) -> 8 | K9: ='1.収穫を予測する'!K20 -> 0
A10: 20 | B10: 9 | C10: 12 | D10: 3500 | E10: 1.181801 | F10: 0.59752094 | G10: 0.10912712 | I10: =IF(K10=0,I9+0.001,1+INT(I9)) -> 0.008 | J10: =IF(出力前!J20>80,"",出力前!J20) -> 9 | K10: ='1.収穫を予測する'!K21 -> 0
A11: 21 | B11: 10 | C11: 12 | D11: 3750 | E11: 1.2104176 | F11: 0.59246478 | G11: 0.10787788 | I11: =IF(K11=0,I10+0.001,1+INT(I10)) -> 0.009 | J11: =IF(出力前!J21>80,"",出力前!J21) -> 10 | K11: ='1.収穫を予測する'!K22 -> 0
A12: 22 | B12: 11 | C12: 12 | D12: 4000 | E12: 1.2369698 | F12: 0.58785124 | G12: 0.10674735 | I12: =IF(K12=0,I11+0.001,1+INT(I11)) -> 0.01 | J12: =IF(出力前!J22>80,"",出力前!J22) -> 11 | K12: ='1.収穫を予測する'!K23 -> 0
A13: 23 | B13: 12 | C13: 12 | D13: 4250 | E13: 1.2622742 | F13: 0.58363892 | G13: 0.10578483 | I13: =IF(K13=0,I12+0.001,1+INT(I12)) -> 0.011 | J13: =IF(出力前!J23>80,"",出力前!J23) -> 12 | K13: ='1.収穫を予測する'!K24 -> 0
A14: 24 | B14: 13 | C14: 13 | D14: 1500 | E14: 0.96627655 | F14: 0.6478616 | G14: 0.12347195 | I14: =IF(K14=0,I13+0.001,1+INT(I13)) -> 0.012 | J14: =IF(出力前!J24>80,"",出力前!J24) -> 13 | K14: ='1.収穫を予測する'!K25 -> 0
A15: 25 | B15: 14 | C15: 13 | D15: 1750 | E15: 1.0209277 | F15: 0.63701852 | G15: 0.12009824 | I15: =IF(K15=0,I14+0.001,1+INT(I14)) -> 0.013 | J15: =IF(出力前!J25>80,"",出力前!J25) -> 14 | K15: ='1.収穫を予測する'!K26 -> 0
B16: 15 | C16: 13 | D16: 2000 | E16: 1.0711833 | F16: 0.6274223 | G16: 0.11724836 | I16: =IF(K16=0,I15+0.001,1+INT(I15)) -> 0.014 | J16: =IF(出力前!J26>80,"",出力前!J26) -> 15 | K16: ='1.収穫を予測する'!K27 -> 0
B17: 16 | C17: 13 | D17: 2250 | E17: 1.1183942 | F17: 0.61862861 | G17: 0.11472715 | I17: =IF(K17=0,I16+0.001,1+INT(I16)) -> 0.015 | J17: =IF(出力前!J27>80,"",出力前!J27) -> 16 | K17: ='1.収穫を予測する'!K28 -> 0
A18: 植栽本数リスト参照元 | B18: 17 | C18: 13 | D18: 2500 | E18: 1.1610339 | F18: 0.61109347 | G18: 0.1126722 | I18: =IF(K18=0,I17+0.001,1+INT(I17)) -> 0.016 | J18: =IF(出力前!J28>80,"",出力前!J28) -> 17 | K18: ='1.収穫を予測する'!K29 -> 0
A19: 1500 | B19: 18 | C19: 13 | D19: 2750 | E19: 1.2015605 | F19: 0.60404151 | G19: 0.11079389 | I19: =IF(K19=0,I18+0.001,1+INT(I18)) -> 0.017 | J19: =IF(出力前!J29>80,"",出力前!J29) -> 18 | K19: ='1.収穫を予測する'!K30 -> 0
A20: 1750 | B20: 19 | C20: 13 | D20: 3000 | E20: 1.2390049 | F20: 0.59780166 | G20: 0.10921363 | I20: =IF(K20=0,I19+0.001,1+INT(I19)) -> 0.018 | J20: =IF(出力前!J30>80,"",出力前!J30) -> 19 | K20: ='1.収穫を予測する'!K31 -> 0
A21: 2000 | B21: 20 | C21: 13 | D21: 3250 | E21: 1.2749924 | F21: 0.59184484 | G21: 0.10772279 | I21: =IF(K21=0,I20+0.001,1+INT(I20)) -> 0.019 | J21: =IF(出力前!J31>80,"",出力前!J31) -> 20 | K21: ='1.収穫を予測する'!K32 -> 0
A22: 2250 | B22: 21 | C22: 13 | D22: 3500 | E22: 1.2504014 | F22: 0.60164781 | G22: 0.11152906 | I22: =IF(K22=0,I21+0.001,1+INT(I21)) -> 0.02 | J22: =IF(出力前!J32>80,"",出力前!J32) -> 21 | K22: ='1.収穫を予測する'!K33 -> 0
A23: 2500 | B23: 22 | C23: 13 | D23: 3750 | E23: 1.3401762 | F23: 0.58154688 | G23: 0.10529541 | I23: =IF(K23=0,I22+0.001,1+INT(I22)) -> 0.021 | J23: =IF(出力前!J33>80,"",出力前!J33) -> 22 | K23: ='1.収穫を予測する'!K34 -> 0
A24: 2750 | B24: 23 | C24: 13 | D24: 4000 | E24: 1.3697896 | F24: 0.57704016 | G24: 0.10428543 | I24: =IF(K24=0,I23+0.001,1+INT(I23)) -> 0.022 | J24: =IF(出力前!J34>80,"",出力前!J34) -> 23 | K24: ='1.収穫を予測する'!K35 -> 0
A25: 3000 | B25: 24 | C25: 13 | D25: 4250 | E25: 1.3975496 | F25: 0.57294261 | G25: 0.10341193 | I25: =IF(K25=0,I24+0.001,1+INT(I24)) -> 0.023 | J25: =IF(出力前!J35>80,"",出力前!J35) -> 24 | K25: ='1.収穫を予測する'!K36 -> 0
A26: 3250 | B26: 25 | C26: 14 | D26: 1500 | E26: 1.0575417 | F26: 0.63807598 | G26: 0.12043551 | I26: =IF(K26=0,I25+0.001,1+INT(I25)) -> 0.024 | J26: =IF(出力前!J36>80,"",出力前!J36) -> 25 | K26: ='1.収穫を予測する'!K37 -> 0
A27: 3500 | B27: 26 | C27: 14 | D27: 1750 | E27: 1.1197497 | F27: 0.62681192 | G27: 0.11706256 | I27: =IF(K27=0,I26+0.001,1+INT(I26)) -> 0.025 | J27: =IF(出力前!J37>80,"",出力前!J37) -> 26 | K27: ='1.収穫を予測する'!K38 -> 0
A28: 3750 | B28: 27 | C28: 14 | D28: 2000 | E28: 1.1762573 | F28: 0.61710076 | G28: 0.11431427 | I28: =IF(K28=0,I27+0.001,1+INT(I27)) -> 0.026 | J28: =IF(出力前!J38>80,"",出力前!J38) -> 27 | K28: ='1.収穫を予測する'!K39 -> 0
A29: 4000 | B29: 28 | C29: 14 | D29: 2250 | E29: 1.2283446 | F29: 0.60846417 | G29: 0.11196485 | I29: =IF(K29=0,I28+0.001,1+INT(I28)) -> 0.027 | J29: =IF(出力前!J39>80,"",出力前!J39) -> 28 | K29: ='1.収穫を予測する'!K40 -> 0
A30: 4250 | B30: 29 | C30: 14 | D30: 2500 | E30: 1.2767592 | F30: 0.60070574 | G30: 0.10993744 | I30: =IF(K30=0,I29+0.001,1+INT(I29)) -> 0.028 | J30: =IF(出力前!J40>80,"",出力前!J40) -> 29 | K30: ='1.収穫を予測する'!K41 -> 0
B31: 30 | C31: 14 | D31: 2750 | E31: 1.3214237 | F31: 0.59381679 | G31: 0.10821558 | I31: =IF(K31=0,I30+0.001,1+INT(I30)) -> 0.029 | J31: =IF(出力前!J41>80,"",出力前!J41) -> 30 | K31: ='1.収穫を予測する'!K42 -> 0
B32: 31 | C32: 14 | D32: 3000 | E32: 1.3637049 | F32: 0.58741275 | G32: 0.10665151 | I32: =IF(K32=0,I31+0.001,1+INT(I31)) -> 0.03 | J32: =IF(出力前!J42>80,"",出力前!J42) -> 31 | K32: ='1.収穫を予測する'!K43 -> 0
B33: 32 | C33: 14 | D33: 3250 | E33: 1.4026044 | F33: 0.58174775 | G33: 0.10533513 | I33: =IF(K33=0,I32+0.001,1+INT(I32)) -> 0.031 | J33: =IF(出力前!J43>80,"",出力前!J43) -> 32 | K33: ='1.収穫を予測する'!K44 -> 0
B34: 33 | C34: 14 | D34: 3500 | E34: 1.4394251 | F34: 0.57650097 | G34: 0.10415692 | I34: =IF(K34=0,I33+0.001,1+INT(I33)) -> 0.032 | J34: =IF(出力前!J44>80,"",出力前!J44) -> 33 | K34: ='1.収穫を予測する'!K45 -> 0
B35: 34 | C35: 14 | D35: 3750 | E35: 1.4734741 | F35: 0.57181655 | G35: 0.10315809 | I35: =IF(K35=0,I34+0.001,1+INT(I34)) -> 0.033 | J35: =IF(出力前!J45>80,"",出力前!J45) -> 34 | K35: ='1.収穫を予測する'!K46 -> 0
B36: 35 | C36: 14 | D36: 4000 | E36: 1.5055999 | F36: 0.56752463 | G36: 0.10229306 | I36: =IF(K36=0,I35+0.001,1+INT(I35)) -> 0.034 | J36: =IF(出力前!J46>80,"",出力前!J46) -> 35 | K36: ='1.収穫を予測する'!K47 -> 0
B37: 36 | C37: 14 | D37: 4250 | E37: 1.5369913 | F37: 0.56332992 | G37: 0.10145424 | I37: =IF(K37=0,I36+0.001,1+INT(I36)) -> 0.035 | J37: =IF(出力前!J47>80,"",出力前!J47) -> 36 | K37: ='1.収穫を予測する'!K48 -> 0
B38: 37 | C38: 15 | D38: 1500 | E38: 1.1537748 | F38: 0.62850648 | G38: 0.11756223 | I38: =IF(K38=0,I37+0.001,1+INT(I37)) -> 0.036 | J38: =IF(出力前!J48>80,"",出力前!J48) -> 37 | K38: ='1.収穫を予測する'!K49 -> 0
B39: 38 | C39: 15 | D39: 1750 | E39: 1.222605 | F39: 0.61730135 | G39: 0.11436997 | I39: =IF(K39=0,I38+0.001,1+INT(I38)) -> 0.037 | J39: =IF(出力前!J49>80,"",出力前!J49) -> 38 | K39: ='1.収穫を予測する'!K50 -> 0
B40: 39 | C40: 15 | D40: 2000 | E40: 1.2855206 | F40: 0.60750227 | G40: 0.11171227 | I40: =IF(K40=0,I39+0.001,1+INT(I39)) -> 0.038 | J40: =IF(出力前!J50>80,"",出力前!J50) -> 39 | K40: ='1.収穫を予測する'!K51 -> 0
B41: 40 | C41: 15 | D41: 2250 | E41: 1.3433771 | F41: 0.59883738 | G41: 0.10946336 | I41: =IF(K41=0,I40+0.001,1+INT(I40)) -> 0.039 | J41: =IF(出力前!J51>80,"",出力前!J51) -> 40 | K41: ='1.収穫を予測する'!K52 -> 0
B42: 41 | C42: 15 | D42: 2500 | E42: 1.3969535 | F42: 0.59109789 | G42: 0.10753895 | I42: =IF(K42=0,I41+0.001,1+INT(I41)) -> 0.04 | J42: =IF(出力前!J52>80,"",出力前!J52) -> 41 | K42: ='1.収穫を予測する'!K53 -> 0
... B92: 91 | C92: 19 | D92: 3000 | E92: 2.0272906 | F92: 0.54986187 | G92: 0.099389465 | I92: =IF(K92=0,I91+0.001,1+INT(I91)) -> 0.09 | J92: =IF(出力前!J102>80,"",出力前!J102) -> 0 | K92: ='1.収穫を予測する'!K103 -> 0
B93: 92 | C93: 19 | D93: 3250 | E93: 2.0794299 | F93: 0.54555468 | G93: 0.09894592
B94: 93 | C94: 19 | D94: 3500 | E94: 2.1221443 | F94: 0.54247875 | G94: 0.09890701
B95: 94 | C95: 19 | D95: 3750 | E95: 2.0382367 | F95: 0.55526612 | G95: 0.10358662
B96: 95 | C96: 19 | D96: 4000 | E96: 2.1950687 | F96: 0.53792514 | G96: 0.099442321
B97: 96 | C97: 19 | D97: 4250 | E97: 2.2221861 | F97: 0.5368485 | G97: 0.10015993
B98: 97 | C98: 20 | D98: 1500 | E98: 1.690363 | F98: 0.58853999 | G98: 0.10692561
B99: 98 | C99: 20 | D99: 1750 | E99: 1.7949015 | F99: 0.57761708 | G99: 0.10441208
B100: 99 | C100: 20 | D100: 2000 | E100: 1.8497976 | F100: 0.57388136 | G100: 0.10416417
B101: 100 | C101: 20 | D101: 2250 | E101: 1.9700015 | F101: 0.56080517 | G101: 0.1010161
B102: 101 | C102: 20 | D102: 2500 | E102: 2.0429624 | F102: 0.5544084 | G102: 0.099965061
B103: 102 | C103: 20 | D103: 2750 | E103: 2.1074669 | F103: 0.54910211 | G103: 0.099270249
B104: 103 | C104: 20 | D104: 3000 | E104: 2.1642139 | F104: 0.54478306 | G104: 0.098910209
... B169: 168 | C169: 25 | D169: 4250 | E169: 2.6363781 | F169: 0.56963306 | G169: 0.13125325

Sheet inv2.計算シート
A1: SI | B1: ='1.収穫を予測する'!G3 -> 25 | C1: ←地位指数が自動的に入る | E1: age | F1: GuideCurve | H1: H | I1: HA | J1: HB | K1: N0 | L1: Y0 | M1: A | N1: Nc | O1: Yc | P1: B | Q1: C | R1: Ry | T1: age | U1: Y0 | V1: N0 | W1: 最初の間伐 | X1: つなぎ | Y1: Ry | Z1: 間伐 | AB1: age | AC1: H | AD1: Y | AE1: N | AF1: 間伐率 | AG1: age | AH1: Ry | AI1: 成長量 | AJ1: 間伐後材積 | AK1: 間伐後本数 | AL1: 間伐材積 | AM1: 間伐本数 | AN1: 間伐後Ry | AO1: 単木平均材積 | AP1: 間伐時の上層高 | AQ1: 間伐の判別 | AR1: 平均直径 | AT1: 体系図_age | AU1: 体系図_N | AW1: 副林木総収穫 | AX1: 主副林木総収穫 | AY1: 総幹材積連年成長量 | AZ1: 主林木 | BA1: 主副 | BB1: 総収量 | BC1: 平均樹高予測 | BE1: Y | BF1: N | BG1: mean.ygr | BH1: crop | BI1: seq.gr | BJ1: meanD | BK1: meanH | BN1: 相対幹距比 | BO1: 伐後 | BP1: Age | BQ1: 形状比 | BR1: idn H | BS1: idn rate | BT1: dcd | BU1: dcd2 | BV1: dcd3 | BX1: 主伐年 | BY1: =VLOOKUP(1,AF2:AG82,2,FALSE) -> 0
A2: Density | B2: ='1.収穫を予測する'!G4 -> 2500 | C2: ←植栽本数が自動的に入る | E2: 1 | F2: =( $B$7/$B$8-( $B$7/$B$8-$B$9^(1-$B$10))*EXP(-(1-$B$10)*$B$8*E2))^(1/(1-$B$10)) -> 0.1176276 | H2: =F2*$B$1/$F$41 -> 0.16734066 | I2: =IF(H2=0,0,$B$21*H2^(-$B$22)) -> 1.516449 | J2: =IF(H2=0,0,$B$23*H2^(-$B$24)) -> 28832036 | K2: =IF(H2=0,$B$2,J2*L2 / ( 1 - I2*L2 )) -> 2500.0026 | L2: =IF(H2=0,0,(( $B$2 + I2*$B$27*$B$2^(1-$B$28) + J2*$B$27*$B$2^(-$B$28) ) - SQRT( ( $B$2 + I2*$B$27*$B$2^(1-$B$28) + J2*$B$27*$B$2^(-$B$28) )^2 - 4*I2*$B$27*$B$2^(2-$B$28) ) ) / ( 2*I2*$B$2 )) -> 8.6697793e-05 | M2: =IF(H2=0,0,EXP( $B$32*K2 + $B$33*L2 + $B$34 ) / ( 1 + EXP( $B$32*K2 + $B$33*L2 + $B$34 ) )) -> 0.77663079 | N2: =IF(H2=0,0,$B$36*K2 + $B$37*L2 + $B$38) -> 2706.1686 | O2: =IF(H2=0,0,L2 / ( 1 / ( 1 - M2 ) * K2 / N2 - M2 / ( 1 - M2 ) * ( ( K2 / N2 ) ^ ( 1 / M2 ) ) )) -> 8.7029071e-05 | P2: =IF(H2=0,0,O2 / N2) -> 3.2159515e-08 | Q2: =IF(H2=0,0, N2 * M2 * ( O2 / N2 ) ^ ( -M2/(1-M2))) -> 2.3651101e+29 | R2: =IF(H2=0,0,($B$41 + $B$42 *(L2/(K2^(1+$B$26)))^($B$43))^(-1)) -> 5.1279424e-05 | T2: 1 | U2: =L2 -> 8.6697793e-05 | V2: =IF(K2>$B$2,$B$2,K2) -> 2500 | W2: =IF(T2='1.収穫を予測する'!$N$2,1,"") | X2: =IF(OR(W2=1, X1=1),1,0) -> 0 | Y2: =IF(H2=0,0,($B$41 + $B$42 *(U2/(V2^(1+$B$26)))^($B$43))^(-1)) -> 5.1279399e-05 | Z2: =IF(OR(X2=1,X1=1),"t","") | AB2: 1 | AC2: =H2 -> 0.16734066 | AD2: =L2 -> 8.6697793e-05 | AE2: =K2 -> 2500.0026 | AF2: ='1.収穫を予測する'!K13*0.01 -> 0 | AG2: 1 | AH2: =IF(H2=0,0,($B$41 + $B$42 *(AD2/(AE2^(1+$B$26)))^($B$43))^(-1)) -> 5.1279424e-05 | AI2: =$B$46*AD2^($B$47) -$B$48*AD2 -> 0.0088544265 | AJ2: =IF(Z2="",U2,AD2*(1-AF2)) -> 8.6697793e-05 | AK2: =IF(Z2="",V2,AE2*(1-AF2)) -> 2500 | AL2: =AD2*AF2 -> 0 | AM2: =AE2*AF2 -> 0 | AN2: =IF(AM2=0,"",($B$41 + $B$42 *(AJ2/(AK2^(1+$B$26)))^($B$43))^(-1)) | AO2: =IF(H2=0,0,AD2/AE2) -> 3.4679082e-08 | AP2: =+AQ2*AC2 -> 0 | AQ2: =IF(AF2=0,0,1) -> 0 | AR2: ='inv3.直径階分布'!HK7 -> 0 | AT2: =AB2 -> 1 | AU2: =AE2 -> 2500.0026 | AW2: =AL2 -> 0 | AX2: =AD2 -> 8.6697793e-05 | AY2: =AX3-AX2 -> 0.0053064777 | AZ2: =AJ2/AB2 -> 8.6697793e-05 | BA2: =AD2/T2 -> 8.6697793e-05 | BB2: =AX2/AB2 -> 8.6697793e-05 | BC2: =EXP($B$52)*H2^($B$51) -> 0.087035454 | BD2: 20 | BE2: =AD21 -> 248.76862 | BF2: =AE21 -> 2142.5417 | BG2: =BA21 -> 12.438431 | BH2: =AX21 -> 248.76862 | BI2: =AY21 -> 28.172154 | BJ2: =AR21 -> 13.85324 | BK2: =H21 -> 14.540028 | BN2: =SQRT(10000/AE2)/AC2*100 -> 1195.1662 | BO2: =SQRT(10000/AK2)/AC2*100 -> 1195.1668 | BP2: =E2 -> 1 | BQ2: =IF(AR2=0,0,BC2/AR2*100) -> 0 | BR2: =IF(H2<9,0,IF(MOD(INT(H2),3)=0,1,0)) -> 0 | BS2: =IF(H2<9,0,IF(BQ2>BQ1,1,0)) -> 0 | BT2: =IF(AND(BR2=1,BS2=1),1,IF(OR(BR2=1, BS2=1),IF(AND(BR1=0, BS1=0),1,0),0)) -> 0 | BU2: =IF(OR(BT2=0,BT1=1),0,1) -> 0 | BV2: =BU2 -> 0 | CB2: =IF(AND(BZ2=0,CA2=0),0,IF(AND(BZ1=1,CA1=1),0,1)) -> 0
A3: num | B3: =(B1-12)*12+(B2-1250)/250 -> 161 | C3: ←組み合わせ番号が自動的に入る | E3: 2 | F3: =( $B$7/$B$8-( $B$7/$B$8-$B$9^(1-$B$10))*EXP(-(1-$B$10)*$B$8*E3))^(1/(1-$B$10)) -> 0.37759357 | H3: =F3*$B$1/$F$41 -> 0.53717628 | I3: =IF(H3=0,0,$B$21*H3^(-$B$22)) -> 0.27504213 | J3: =IF(H3=0,0,$B$23*H3^(-$B$24)) -> 462859.76 | K3: =IF(H3=0,$B$2,J3*L3 / ( 1 - I3*L3 )) -> 2499.9923 | L3: =IF(H3=0,0,(( $B$2 + I3*$B$27*$B$2^(1-$B$28) + J3*$B$27*$B$2^(-$B$28) ) - SQRT( ( $B$2 + I3*$B$27*$B$2^(1-$B$28) + J3*$B$27*$B$2^(-$B$28) )^2 - 4*I3*$B$27*$B$2^(2-$B$28) ) ) / ( 2*I3*$B$2 )) -> 0.0053931755 | M3: =IF(H3=0,0,EXP( $B$32*K3 + $B$33*L3 + $B$34 ) / ( 1 + EXP( $B$32*K3 + $B$33*L3 + $B$34 ) )) -> 0.77662982 | N3: =IF(H3=0,0,$B$36*K3 + $B$37*L3 + $B$38) -> 2706.1588 | O3: =IF(H3=0,0,L3 / ( 1 / ( 1 - M3 ) * K3 / N3 - M3 / ( 1 - M3 ) * ( ( K3 / N3 ) ^ ( 1 / M3 ) ) )) -> 0.0054137835 | P3: =IF(H3=0,0,O3 / N3) -> 2.0005417e-06 | Q3: =IF(H3=0,0, N3 * M3 * ( O3 / N3 ) ^ ( -M3/(1-M3))) -> 1.3701106e+23 | R3: =IF(H3=0,0,($B$41 + $B$42 *(L3/(K3^(1+$B$26)))^($B$43))^(-1)) -> 0.00087776796 | T3: 2 | U3: =L3 -> 0.0053931755 | V3: =IF(K3>$B$2,$B$2,K3) -> 2499.9923 | W3: =IF(T3='1.収穫を予測する'!$N$2,1,"") | X3: =IF(OR(W3=1, X2=1),1,0) -> 0 | Y3: =IF(H3=0,0,($B$41 + $B$42 *(U3/(V3^(1+$B$26)))^($B$43))^(-1)) -> 0.00087776796 | Z3: =IF(OR(X3=1,X2=1),"t","") | AB3: 2 | AC3: =H3 -> 0.53717628 | AD3: =IF(Z2="",L3,AJ2+AI2) -> 0.0053931755 | AE3: =IF(K3>$B$2,$B$2,IF( Z2="",K3,AK2)) -> 2499.9923 | AF3: ='1.収穫を予測する'!K14*0.01 -> 0 | AG3: 2 | AH3: =IF(H3=0,0,($B$41 + $B$42 *(AD3/(AE3^(1+$B$26)))^($B$43))^(-1)) -> 0.00087776796 | AI3: =L3-L2 -> 0.0053064777 | AJ3: =IF(Z3="",U3,AD3*(1-AF3)) -> 0.0053931755 | AK3: =IF(Z3="",V3,AE3*(1-AF3)) -> 2499.9923 | AL3: =AD3*AF3 -> 0 | AM3: =AE3*AF3 -> 0 | AN3: =IF(AM3=0,"",($B$41 + $B$42 *(AJ3/(AK3^(1+$B$26)))^($B$43))^(-1)) | AO3: =IF(H3=0,0,AD3/AE3) -> 2.1572769e-06 | AP3: =+AQ3*AC3 -> 0 | AQ3: =IF(AF3=0,0,1) -> 0 | AR3: ='inv3.直径階分布'!HK8 -> 0 | AT3: =IF(AQ2=1,AB2,AB3) -> 2 | AU3: =AE3 -> 2499.9923 | AW3: =IF(AQ3=0, 0,SUM(AL$2:AL3)) -> 0 | AX3: =AD3+SUM($AL$2:AL2) -> 0.0053931755 | AY3: =AX4-AX3 -> 0.051148624 | AZ3: =AJ3/AB3 -> 0.0026965877 | BA3: =AD3/T3 -> 0.0026965877 | BB3: =AX3/AB3 -> 0.0026965877 | BC3: =EXP($B$52)*H3^($B$51) -> 0.31669004 | BD3: 25 | BE3: =AC26 -> 17.936492 | BF3: =AD26 -> 388.68864 | BG3: =BA26 -> 15.547546 | BH3: =AX26 -> 388.68864 | BI3: =AY26 -> 27.046545 | BJ3: =AR26 -> 17.189663 | BK3: =H26 -> 17.936492 | BN3: =SQRT(10000/AE3)/AC3*100 -> 372.31783 | BO3: =SQRT(10000/AK3)/AC3*100 -> 372.31783 | BP3: =E3 -> 2 | BQ3: =IF(AR3=0,0,BC3/AR3*100) -> 0 | BR3: =IF(H3<9,0,IF(MOD(INT(H3),3)=0,1,0)) -> 0 | BS3: =IF(H3<9,0,IF(BQ3>BQ2,1,0)) -> 0 | BT3: =IF(AND(BR3=1,BS3=1),1,IF(OR(BR3=1, BS3=1),IF(AND(BR2=0, BS2=0),1,0),0)) -> 0 | BU3: =IF(OR(BT3=0,BT2=1),BU2+0.001,INT(BU2)+1) -> 0.001 | BV3: =IF(MOD(BU3,1)=0,BU3,0) -> 0 | BX3: 伐採年1 | BY3: =IF(ISERROR(VLOOKUP(1,'inv1.組み合わせ番号表'!$I$2:$K$92,2,FALSE)),"",VLOOKUP(1,'inv1.組み合わせ番号表'!$I$2:$K$92,2,FALSE)) | BZ3: =IF(OR(BY3=$BY$1,BY3=""),"",1)
A4: first thinning | B4: =VLOOKUP(1,'inv1.組み合わせ番号表'!$I$2:$K$92,2) -> 0 | E4: 3 | F4: =( $B$7/$B$8-( $B$7/$B$8-$B$9^(1-$B$10))*EXP(-(1-$B$10)*$B$8*E4))^(1/(1-$B$10)) -> 0.73389553 | H4: =F4*$B$1/$F$41 -> 1.0440624 | I4: =IF(H4=0,0,$B$21*H4^(-$B$22)) -> 0.10397701 | J4: =IF(H4=0,0,$B$23*H4^(-$B$24)) -> 43953.706 | K4: =IF(H4=0,$B$2,J4*L4 / ( 1 - I4*L4 )) -> 2499.9188 | L4: =IF(H4=0,0,(( $B$2 + I4*$B$27*$B$2^(1-$B$28) + J4*$B$27*$B$2^(-$B$28) ) - SQRT( ( $B$2 + I4*$B$27*$B$2^(1-$B$28) + J4*$B$27*$B$2^(-$B$28) )^2 - 4*I4*$B$27*$B$2^(2-$B$28) ) ) / ( 2*I4*$B$2 )) -> 0.056541799 | M4: =IF(H4=0,0,EXP( $B$32*K4 + $B$33*L4 + $B$34 ) / ( 1 + EXP( $B$32*K4 + $B$33*L4 + $B$34 ) )) -> 0.77662102 | N4: =IF(H4=0,0,$B$36*K4 + $B$37*L4 + $B$38) -> 2706.0922 | O4: =IF(H4=0,0,L4 / ( 1 / ( 1 - M4 ) * K4 / N4 - M4 / ( 1 - M4 ) * ( ( K4 / N4 ) ^ ( 1 / M4 ) ) )) -> 0.05675788 | P4: =IF(H4=0,0,O4 / N4) -> 2.0974111e-05 | Q4: =IF(H4=0,0, N4 * M4 * ( O4 / N4 ) ^ ( -M4/(1-M4))) -> 3.8693715e+19 | R4: =IF(H4=0,0,($B$41 + $B$42 *(L4/(K4^(1+$B$26)))^($B$43))^(-1)) -> 0.0044086008 | T4: 3 | U4: =L4 -> 0.056541799 | V4: =IF(K4>$B$2,$B$2,K4) -> 2499.9188 | W4: =IF(T4='1.収穫を予測する'!$N$2,1,"") | X4: =IF(OR(W4=1, X3=1),1,0) -> 0 | Y4: =IF(H4=0,0,($B$41 + $B$42 *(U4/(V4^(1+$B$26)))^($B$43))^(-1)) -> 0.0044086008 | Z4: =IF(OR(X4=1,X3=1),"t","") | AB4: 3 | AC4: =H4 -> 1.0440624 | AD4: =IF(Z3="",L4,AJ3+AI3) -> 0.056541799 | AE4: =IF(K4>$B$2,$B$2,IF( Z3="",K4,AK3)) -> 2499.9188 | AF4: ='1.収穫を予測する'!K15*0.01 -> 0 | AG4: 3 | AH4: =IF(H4=0,0,($B$41 + $B$42 *(AD4/(AE4^(1+$B$26)))^($B$43))^(-1)) -> 0.0044086008 | AI4: =L4-L3 -> 0.051148624 | AJ4: =IF(Z4="",U4,AD4*(1-AF4)) -> 0.056541799 | AK4: =IF(Z4="",V4,AE4*(1-AF4)) -> 2499.9188 | AL4: =AD4*AF4 -> 0 | AM4: =AE4*AF4 -> 0 | AN4: =IF(AM4=0,"",($B$41 + $B$42 *(AJ4/(AK4^(1+$B$26)))^($B$43))^(-1)) | AO4: =IF(H4=0,0,AD4/AE4) -> 2.2617455e-05 | AP4: =+AQ4*AC4 -> 0 | AQ4: =IF(AF4=0,0,1) -> 0 | AR4: ='inv3.直径階分布'!HK9 -> 0 | AT4: =IF(AQ3=1,AB3,AB4) -> 3 | AU4: =AE4 -> 2499.9188 | AW4: =IF(AQ4=0, 0,SUM(AL$2:AL4)) -> 0 | AX4: =AD4+SUM($AL$2:AL3) -> 0.056541799 | AY4: =AX5-AX4 -> 0.22854541 | AZ4: =AJ4/AB4 -> 0.018847266 | BA4: =AD4/T4 -> 0.018847266 | BB4: =AX4/AB4 -> 0.018847266 | BC4: =EXP($B$52)*H4^($B$51) -> 0.6610798 | BD4: 30 | BE4: =AD31 -> 517.88646 | BF4: =AE31 -> 1755.8433 | BG4: =BA31 -> 17.262882 | BH4: =AX31 -> 517.88646 | BI4: =AY31 -> 23.797333 | BJ4: =AR31 -> 20.094562 | BK4: =H31 -> 20.782206 | BN4: =SQRT(10000/AE4)/AC4*100 -> 191.56254 | BO4: =SQRT(10000/AK4)/AC4*100 -> 191.56254 | BP4: =E4 -> 3 | BQ4: =IF(AR4=0,0,BC4/AR4*100) -> 0 | BR4: =IF(H4<9,0,IF(MOD(INT(H4),3)=0,1,0)) -> 0 | BS4: =IF(H4<9,0,IF(BQ4>BQ3,1,0)) -> 0 | BT4: =IF(AND(BR4=1,BS4=1),1,IF(OR(BR4=1, BS4=1),IF(AND(BR3=0, BS3=0),1,0),0)) -> 0 | BU4: =IF(OR(BT4=0,BT3=1),BU3+0.001,INT(BU3)+1) -> 0.002 | BV4: =IF(MOD(BU4,1)=0,BU4,0) -> 0 | BX4: 伐採年2 | BY4: =IF(ISERROR(VLOOKUP(2,'inv1.組み合わせ番号表'!$I$2:$K$92,2,FALSE)),"",VLOOKUP(2,'inv1.組み合わせ番号表'!$I$2:$K$92,2,FALSE)) | BZ4: =IF(OR(BY4=$BY$1,BY4=""),"",1)
A5: 各種パラメータ | E5: 4 | F5: =( $B$7/$B$8-( $B$7/$B$8-$B$9^(1-$B$10))*EXP(-(1-$B$10)*$B$8*E5))^(1/(1-$B$10)) -> 1.1617777 | H5: =F5*$B$1/$F$41 -> 1.6527808 | I5: =IF(H5=0,0,$B$21*H5^(-$B$22)) -> 0.053079771 | J5: =IF(H5=0,0,$B$23*H5^(-$B$24)) -> 8635.1318 | K5: =IF(H5=0,$B$2,J5*L5 / ( 1 - I5*L5 )) -> 2499.5904 | L5: =IF(H5=0,0,(( $B$2 + I5*$B$27*$B$2^(1-$B$28) + J5*$B$27*$B$2^(-$B$28) ) - SQRT( ( $B$2 + I5*$B$27*$B$2^(1-$B$28) + J5*$B$27*$B$2^(-$B$28) )^2 - 4*I5*$B$27*$B$2^(2-$B$28) ) ) / ( 2*I5*$B$2 )) -> 0.28508721 | M5: =IF(H5=0,0,EXP( $B$32*K5 + $B$33*L5 + $B$34 ) / ( 1 + EXP( $B$32*K5 + $B$33*L5 + $B$34 ) )) -> 0.77658169 | N5: =IF(H5=0,0,$B$36*K5 + $B$37*L5 + $B$38) -> 2705.7948 | O5: =IF(H5=0,0,L5 / ( 1 / ( 1 - M5 ) * K5 / N5 - M5 / ( 1 - M5 ) * ( ( K5 / N5 ) ^ ( 1 / M5 ) ) )) -> 0.28617733 | P5: =IF(H5=0,0,O5 / N5) -> 0.00010576461 | Q5: =IF(H5=0,0, N5 * M5 * ( O5 / N5 ) ^ ( -M5/(1-M5))) -> 1.3852014e+17 | R5: =IF(H5=0,0,($B$41 + $B$42 *(L5/(K5^(1+$B$26)))^($B$43))^(-1)) -> 0.01334055 | T5: 4 | U5: =L5 -> 0.28508721 | V5: =IF(K5>$B$2,$B$2,K5) -> 2499.5904 | W5: =IF(T5='1.収穫を予測する'!$N$2,1,"") | X5: =IF(OR(W5=1, X4=1),1,0) -> 0 | Y5: =IF(H5=0,0,($B$41 + $B$42 *(U5/(V5^(1+$B$26)))^($B$43))^(-1)) -> 0.01334055 | Z5: =IF(OR(X5=1,X4=1),"t","") | AB5: 4 | AC5: =H5 -> 1.6527808 | AD5: =IF(Z4="",L5,AJ4+AI4) -> 0.28508721 | AE5: =IF(K5>$B$2,$B$2,IF( Z4="",K5,AK4)) -> 2499.5904 | AF5: ='1.収穫を予測する'!K16*0.01 -> 0 | AG5: 4 | AH5: =IF(H5=0,0,($B$41 + $B$42 *(AD5/(AE5^(1+$B$26)))^($B$43))^(-1)) -> 0.01334055 | AI5: =L5-L4 -> 0.22854541 | AJ5: =IF(Z5="",U5,AD5*(1-AF5)) -> 0.28508721 | AK5: =IF(Z5="",V5,AE5*(1-AF5)) -> 2499.5904 | AL5: =AD5*AF5 -> 0 | AM5: =AE5*AF5 -> 0 | AN5: =IF(AM5=0,"",($B$41 + $B$42 *(AJ5/(AK5^(1+$B$26)))^($B$43))^(-1)) | AO5: =IF(H5=0,0,AD5/AE5) -> 0.00011405357 | AP5: =+AQ5*AC5 -> 0 | AQ5: =IF(AF5=0,0,1) -> 0 | AR5: ='inv3.直径階分布'!HK10 -> 0 | AT5: =IF(AQ4=1,AB4,AB5) -> 4 | AU5: =AE5 -> 2499.5904 | AW5: =IF(AQ5=0, 0,SUM(AL$2:AL5)) -> 0 | AX5: =AD5+SUM($AL$2:AL4) -> 0.28508721 | AY5: =AX6-AX5 -> 0.67409646 | AZ5: =AJ5/AB5 -> 0.071271803 | BA5: =AD5/T5 -> 0.071271803 | BB5: =AX5/AB5 -> 0.071271803 | BC5: =EXP($B$52)*H5^($B$51) -> 1.0994535 | BD5: 35 | BE5: =AD36 -> 629.24496 | BF5: =AE36 -> 1595.8311 | BG5: =BA36 -> 17.978427 | BH5: =AX36 -> 629.24496 | BI5: =AY36 -> 19.959018 | BJ5: =AR36 -> 22.62529 | BK5: =H36 -> 23.115122 | BN5: =SQRT(10000/AE5)/AC5*100 -> 121.0181 | BO5: =SQRT(10000/AK5)/AC5*100 -> 121.0181 | BP5: =E5 -> 4 | BQ5: =IF(AR5=0,0,BC5/AR5*100) -> 0 | BR5: =IF(H5<9,0,IF(MOD(INT(H5),3)=0,1,0)) -> 0 | BS5: =IF(H5<9,0,IF(BQ5>BQ4,1,0)) -> 0 | BT5: =IF(AND(BR5=1,BS5=1),1,IF(OR(BR5=1, BS5=1),IF(AND(BR4=0, BS4=0),1,0),0)) -> 0 | BU5: =IF(OR(BT5=0,BT4=1),BU4+0.001,INT(BU4)+1) -> 0.003 | BV5: =IF(MOD(BU5,1)=0,BU5,0) -> 0 | BX5: 伐採年3 | BY5: =IF(ISERROR(VLOOKUP(3,'inv1.組み合わせ番号表'!$I$2:$K$92,2,FALSE)),"",VLOOKUP(3,'inv1.組み合わせ番号表'!$I$2:$K$92,2,FALSE)) | BZ5: =IF(OR(BY5=$BY$1,BY5=""),"",1)
A6: SI curve | B6: parameter | C6: resultSI$par | E6: 5 | F6: =( $B$7/$B$8-( $B$7/$B$8-$B$9^(1-$B$10))*EXP(-(1-$B$10)*$B$8*E6))^(1/(1-$B$10)) -> 1.6438077 | H6: =F6*$B$1/$F$41 -> 2.3385317 | I6: =IF(H6=0,0,$B$21*H6^(-$B$22)) -> 0.031937136 | J6: =IF(H6=0,0,$B$23*H6^(-$B$24)) -> 2525.1473 | K6: =IF(H6=0,$B$2,J6*L6 / ( 1 - I6*L6 )) -> 2498.6217 | L6: =IF(H6=0,0,(( $B$2 + I6*$B$27*$B$2^(1-$B$28) + J6*$B$27*$B$2^(-$B$28) ) - SQRT( ( $B$2 + I6*$B$27*$B$2^(1-$B$28) + J6*$B$27*$B$2^(-$B$28) )^2 - 4*I6*$B$27*$B$2^(2-$B$28) ) ) / ( 2*I6*$B$2 )) -> 0.95918367 | M6: =IF(H6=0,0,EXP( $B$32*K6 + $B$33*L6 + $B$34 ) / ( 1 + EXP( $B$32*K6 + $B$33*L6 + $B$34 ) )) -> 0.77646566 | N6: =IF(H6=0,0,$B$36*K6 + $B$37*L6 + $B$38) -> 2704.9177 | O6: =IF(H6=0,0,L6 / ( 1 / ( 1 - M6 ) * K6 / N6 - M6 / ( 1 - M6 ) * ( ( K6 / N6 ) ^ ( 1 / M6 ) ) )) -> 0.96285766 | P6: =IF(H6=0,0,O6 / N6) -> 0.00035596561 | Q6: =IF(H6=0,0, N6 * M6 * ( O6 / N6 ) ^ ( -M6/(1-M6))) -> 2.0010402e+15 | R6: =IF(H6=0,0,($B$41 + $B$42 *(L6/(K6^(1+$B$26)))^($B$43))^(-1)) -> 0.03041221 | T6: 5 | U6: =L6 -> 0.95918367 | V6: =IF(K6>$B$2,$B$2,K6) -> 2498.6217 | W6: =IF(T6='1.収穫を予測する'!$N$2,1,"") | X6: =IF(OR(W6=1, X5=1),1,0) -> 0 | Y6: =IF(H6=0,0,($B$41 + $B$42 *(U6/(V6^(1+$B$26)))^($B$43))^(-1)) -> 0.03041221 | Z6: =IF(OR(X6=1,X5=1),"t","") | AB6: 5 | AC6: =H6 -> 2.3385317 | AD6: =IF(Z5="",L6,AJ5+AI5) -> 0.95918367 | AE6: =IF(K6>$B$2,$B$2,IF( Z5="",K6,AK5)) -> 2498.6217 | AF6: ='1.収穫を予測する'!K17*0.01 -> 0 | AG6: 5 | AH6: =IF(H6=0,0,($B$41 + $B$42 *(AD6/(AE6^(1+$B$26)))^($B$43))^(-1)) -> 0.03041221 | AI6: =L6-L5 -> 0.67409646 | AJ6: =IF(Z6="",U6,AD6*(1-AF6)) -> 0.95918367 | AK6: =IF(Z6="",V6,AE6*(1-AF6)) -> 2498.6217 | AL6: =AD6*AF6 -> 0 | AM6: =AE6*AF6 -> 0 | AN6: =IF(AM6=0,"",($B$41 + $B$42 *(AJ6/(AK6^(1+$B$26)))^($B$43))^(-1)) | AO6: =IF(H6=0,0,AD6/AE6) -> 0.0003838851 | AP6: =+AQ6*AC6 -> 0 | AQ6: =IF(AF6=0,0,1) -> 0 | AR6: ='inv3.直径階分布'!HK11 -> 1.4572951 | AT6: =IF(AQ5=1,AB5,AB6) -> 5 | AU6: =AE6 -> 2498.6217 | AW6: =IF(AQ6=0, 0,SUM(AL$2:AL6)) -> 0 | AX6: =AD6+SUM($AL$2:AL5) -> 0.95918367 | AY6: =AX7-AX6 -> 1.5312071 | AZ6: =AJ6/AB6 -> 0.19183673 | BA6: =AD6/T6 -> 0.19183673 | BB6: =AX6/AB6 -> 0.19183673 | BC6: =EXP($B$52)*H6^($B$51) -> 1.61473 | BD6: 40 | BE6: =AD41 -> 721.50243 | BF6: =AE41 -> 1463.2653 | BG6: =BA41 -> 18.037561 | BH6: =AX41 -> 721.50243 | BI6: =AY41 -> 16.259225 | BJ6: =AR41 -> 24.810193 | BK6: =H41 -> 25 | BN6: =SQRT(10000/AE6)/AC6*100 -> 85.547335 | BO6: =SQRT(10000/AK6)/AC6*100 -> 85.547335 | BP6: =E6 -> 5 | BQ6: =IF(AR6=0,0,BC6/AR6*100) -> 110.80323 | BR6: =IF(H6<9,0,IF(MOD(INT(H6),3)=0,1,0)) -> 0 | BS6: =IF(H6<9,0,IF(BQ6>BQ5,1,0)) -> 0 | BT6: =IF(AND(BR6=1,BS6=1),1,IF(OR(BR6=1, BS6=1),IF(AND(BR5=0, BS5=0),1,0),0)) -> 0 | BU6: =IF(OR(BT6=0,BT5=1),BU5+0.001,INT(BU5)+1) -> 0.004 | BV6: =IF(MOD(BU6,1)=0,BU6,0) -> 0 | BX6: 伐採年4 | BY6: =IF(ISERROR(VLOOKUP(4,'inv1.組み合わせ番号表'!$I$2:$K$92,2,FALSE)),"",VLOOKUP(4,'inv1.組み合わせ番号表'!$I$2:$K$92,2,FALSE)) | BZ6: =IF(OR(BY6=$BY$1,BY6=""),"",1)
A7: a | B7: 0.5251554 | C7: 08地位指数曲線.txt | E7: 6 | F7: =( $B$7/$B$8-( $B$7/$B$8-$B$9^(1-$B$10))*EXP(-(1-$B$10)*$B$8*E7))^(1/(1-$B$10)) -> 2.1666843 | H7: =F7*$B$1/$F$41 -> 3.082392 | I7: =IF(H7=0,0,$B$21*H7^(-$B$22)) -> 0.021316852 | J7: =IF(H7=0,0,$B$23*H7^(-$B$24)) -> 949.20575 | K7: =IF(H7=0,$B$2,J7*L7 / ( 1 - I7*L7 )) -> 2496.4215 | L7: =IF(H7=0,0,(( $B$2 + I7*$B$27*$B$2^(1-$B$28) + J7*$B$27*$B$2^(-$B$28) ) - SQRT( ( $B$2 + I7*$B$27*$B$2^(1-$B$28) + J7*$B$27*$B$2^(-$B$28) )^2 - 4*I7*$B$27*$B$2^(2-$B$28) ) ) / ( 2*I7*$B$2 )) -> 2.4903908 | M7: =IF(H7=0,0,EXP( $B$32*K7 + $B$33*L7 + $B$34 ) / ( 1 + EXP( $B$32*K7 + $B$33*L7 + $B$34 ) )) -> 0.77620194 | N7: =IF(H7=0,0,$B$36*K7 + $B$37*L7 + $B$38) -> 2702.9252 | O7: =IF(H7=0,0,L7 / ( 1 / ( 1 - M7 ) * K7 / N7 - M7 / ( 1 - M7 ) * ( ( K7 / N7 ) ^ ( 1 / M7 ) ) )) -> 2.4999667 | P7: =IF(H7=0,0,O7 / N7) -> 0.00092491157 | Q7: =IF(H7=0,0, N7 * M7 * ( O7 / N7 ) ^ ( -M7/(1-M7))) -> 6.987565e+13 | R7: =IF(H7=0,0,($B$41 + $B$42 *(L7/(K7^(1+$B$26)))^($B$43))^(-1)) -> 0.05763536 | T7: 6 | U7: =L7 -> 2.4903908 | V7: =IF(K7>$B$2,$B$2,K7) -> 2496.4215 | W7: =IF(T7='1.収穫を予測する'!$N$2,1,"") | X7: =IF(OR(W7=1, X6=1),1,0) -> 0 | Y7: =IF(H7=0,0,($B$41 + $B$42 *(U7/(V7^(1+$B$26)))^($B$43))^(-1)) -> 0.05763536 | Z7: =IF(OR(X7=1,X6=1),"t","") | AB7: 6 | AC7: =H7 -> 3.082392 | AD7: =IF(Z6="",L7,AJ6+AI6) -> 2.4903908 | AE7: =IF(K7>$B$2,$B$2,IF( Z6="",K7,AK6)) -> 2496.4215 | AF7: ='1.収穫を予測する'!K18*0.01 -> 0 | AG7: 6 | AH7: =IF(H7=0,0,($B$41 + $B$42 *(AD7/(AE7^(1+$B$26)))^($B$43))^(-1)) -> 0.05763536 | AI7: =L7-L6 -> 1.5312071 | AJ7: =IF(Z7="",U7,AD7*(1-AF7)) -> 2.4903908 | AK7: =IF(Z7="",V7,AE7*(1-AF7)) -> 2496.4215 | AL7: =AD7*AF7 -> 0 | AM7: =AE7*AF7 -> 0 | AN7: =IF(AM7=0,"",($B$41 + $B$42 *(AJ7/(AK7^(1+$B$26)))^($B$43))^(-1)) | AO7: =IF(H7=0,0,AD7/AE7) -> 0.00099758426 | AP7: =+AQ7*AC7 -> 0 | AQ7: =IF(AF7=0,0,1) -> 0 | AR7: ='inv3.直径階分布'!HK12 -> 2.2891766 | AT7: =IF(AQ6=1,AB6,AB7) -> 6 | AU7: =AE7 -> 2496.4215 | AW7: =IF(AQ7=0, 0,SUM(AL$2:AL7)) -> 0 | AX7: =AD7+SUM($AL$2:AL6) -> 2.4903908 | AY7: =AX8-AX7 -> 2.9013695 | AZ7: =AJ7/AB7 -> 0.41506514 | BA7: =AD7/T7 -> 0.41506514 | BB7: =AX7/AB7 -> 0.41506514 | BC7: =EXP($B$52)*H7^($B$51) -> 2.1924619 | BD7: 50 | BE7: =AD51 -> 855.4266 | BF7: =AE51 -> 1270.8282 | BG7: =BA51 -> 17.108532 | BH7: =AX51 -> 855.4266 | BI7: =AY51 -> 10.276085 | BJ7: =AR51 -> 28.250312 | BK7: =H51 -> 27.704472 | BN7: =SQRT(10000/AE7)/AC7*100 -> 64.931161 | BO7: =SQRT(10000/AK7)/AC7*100 -> 64.931161 | BP7: =E7 -> 6 | BQ7: =IF(AR7=0,0,BC7/AR7*100) -> 95.775133 | BR7: =IF(H7<9,0,IF(MOD(INT(H7),3)=0,1,0)) -> 0 | BS7: =IF(H7<9,0,IF(BQ7>BQ6,1,0)) -> 0 | BT7: =IF(AND(BR7=1,BS7=1),1,IF(OR(BR7=1, BS7=1),IF(AND(BR6=0, BS6=0),1,0),0)) -> 0 | BU7: =IF(OR(BT7=0,BT6=1),BU6+0.001,INT(BU6)+1) -> 0.005 | BV7: =IF(MOD(BU7,1)=0,BU7,0) -> 0 | BX7: 伐採年5 | BY7: =IF(ISERROR(VLOOKUP(5,'inv1.組み合わせ番号表'!$I$2:$K$92,2,FALSE)),"",VLOOKUP(5,'inv1.組み合わせ番号表'!$I$2:$K$92,2,FALSE)) | BZ7: =IF(OR(BY7=$BY$1,BY7=""),"",1)
A8: b | B8: 0.088168 | E8: 7 | F8: =( $B$7/$B$8-( $B$7/$B$8-$B$9^(1-$B$10))*EXP(-(1-$B$10)*$B$8*E8))^(1/(1-$B$10)) -> 2.7198595 | H8: =F8*$B$1/$F$41 -> 3.8693562 | I8: =IF(H8=0,0,$B$21*H8^(-$B$22)) -> 0.015281757 | J8: =IF(H8=0,0,$B$23*H8^(-$B$24)) -> 424.14755 | K8: =IF(H8=0,$B$2,J8*L8 / ( 1 - I8*L8 )) -> 2492.2525 | L8: =IF(H8=0,0,(( $B$2 + I8*$B$27*$B$2^(1-$B$28) + J8*$B$27*$B$2^(-$B$28) ) - SQRT( ( $B$2 + I8*$B$27*$B$2^(1-$B$28) + J8*$B$27*$B$2^(-$B$28) )^2 - 4*I8*$B$27*$B$2^(2-$B$28) ) ) / ( 2*I8*$B$2 )) -> 5.3917603 | M8: =IF(H8=0,0,EXP( $B$32*K8 + $B$33*L8 + $B$34 ) / ( 1 + EXP( $B$32*K8 + $B$33*L8 + $B$34 ) )) -> 0.77570163 | N8: =IF(H8=0,0,$B$36*K8 + $B$37*L8 + $B$38) -> 2699.1497 | O8: =IF(H8=0,0,L8 / ( 1 / ( 1 - M8 ) * K8 / N8 - M8 / ( 1 - M8 ) * ( ( K8 / N8 ) ^ ( 1 / M8 ) ) )) -> 5.4126447 | P8: =IF(H8=0,0,O8 / N8) -> 0.0020053148 | Q8: =IF(H8=0,0, N8 * M8 * ( O8 / N8 ) ^ ( -M8/(1-M8))) -> 4.4762142e+12 | R8: =IF(H8=0,0,($B$41 + $B$42 *(L8/(K8^(1+$B$26)))^($B$43))^(-1)) -> 0.095688596 | T8: 7 | U8: =L8 -> 5.3917603 | V8: =IF(K8>$B$2,$B$2,K8) -> 2492.2525 | W8: =IF(T8='1.収穫を予測する'!$N$2,1,"") | X8: =IF(OR(W8=1, X7=1),1,0) -> 0 | Y8: =IF(H8=0,0,($B$41 + $B$42 *(U8/(V8^(1+$B$26)))^($B$43))^(-1)) -> 0.095688596 | Z8: =IF(OR(X8=1,X7=1),"t","") | AB8: 7 | AC8: =H8 -> 3.8693562 | AD8: =IF(Z7="",L8,AJ7+AI7) -> 5.3917603 | AE8: =IF(K8>$B$2,$B$2,IF( Z7="",K8,AK7)) -> 2492.2525 | AF8: ='1.収穫を予測する'!K19*0.01 -> 0 | AG8: 7 | AH8: =IF(H8=0,0,($B$41 + $B$42 *(AD8/(AE8^(1+$B$26)))^($B$43))^(-1)) -> 0.095688596 | AI8: =L8-L7 -> 2.9013695 | AJ8: =IF(Z8="",U8,AD8*(1-AF8)) -> 5.3917603 | AK8: =IF(Z8="",V8,AE8*(1-AF8)) -> 2492.2525 | AL8: =AD8*AF8 -> 0 | AM8: =AE8*AF8 -> 0 | AN8: =IF(AM8=0,"",($B$41 + $B$42 *(AJ8/(AK8^(1+$B$26)))^($B$43))^(-1)) | AO8: =IF(H8=0,0,AD8/AE8) -> 0.0021634085 | AP8: =+AQ8*AC8 -> 0 | AQ8: =IF(AF8=0,0,1) -> 0 | AR8: ='inv3.直径階分布'!HK13 -> 3.0616376 | AT8: =IF(AQ7=1,AB7,AB8) -> 7 | AU8: =AE8 -> 2492.2525 | AW8: =IF(AQ8=0, 0,SUM(AL$2:AL8)) -> 0 | AX8: =AD8+SUM($AL$2:AL7) -> 5.3917603 | AY8: =AX9-AX8 -> 4.8064293 | AZ8: =AJ8/AB8 -> 0.77025148 | BA8: =AD8/T8 -> 0.77025148 | BB8: =AX8/AB8 -> 0.77025148 | BC8: =EXP($B$52)*H8^($B$51) -> 2.8202865 | BD8: 55 | BE8: =AD56 -> 902.18291 | BF8: =AE56 -> 1203.6435 | BG8: =BA56 -> 16.403326 | BH8: =AX56 -> 902.18291 | BI8: =AY56 -> 8.0608772 | BJ8: =AR56 -> 29.533725 | BK8: =H56 -> 28.649812 | BN8: =SQRT(10000/AE8)/AC8*100 -> 51.768463 | BO8: =SQRT(10000/AK8)/AC8*100 -> 51.768463 | BP8: =E8 -> 7 | BQ8: =IF(AR8=0,0,BC8/AR8*100) -> 92.11693 | BR8: =IF(H8<9,0,IF(MOD(INT(H8),3)=0,1,0)) -> 0 | BS8: =IF(H8<9,0,IF(BQ8>BQ7,1,0)) -> 0 | BT8: =IF(AND(BR8=1,BS8=1),1,IF(OR(BR8=1, BS8=1),IF(AND(BR7=0, BS7=0),1,0),0)) -> 0 | BU8: =IF(OR(BT8=0,BT7=1),BU7+0.001,INT(BU7)+1) -> 0.006 | BV8: =IF(MOD(BU8,1)=0,BU8,0) -> 0 | BX8: 伐採年6 | BY8: =IF(ISERROR(VLOOKUP(6,'inv1.組み合わせ番号表'!$I$2:$K$92,2,FALSE)),"",VLOOKUP(6,'inv1.組み合わせ番号表'!$I$2:$K$92,2,FALSE)) | BZ8: =IF(OR(BY8=$BY$1,BY8=""),"",1)
