Workbook
Name データの有無: リストなど!$A$2:$A$3
Name 植栽本数リスト参照元: 'inv1.組み合わせ番号表'!$A$19:$A$30
Name 地位指数リスト参照元: 'inv1.組み合わせ番号表'!$A$2:$A$15
Name 入力方法: リストなど!$B$2:$B$3

Sheet 注意事項
B2: 北海道版トドマツ人工林収穫予測ソフトver.140
B4: 本ソフトウェアの取り扱い

Sheet 1.収穫を予測する
B1: 立木データ | F1: 林分データ | J1: 推定地位指数 | M1: 伐採データ
B2: 胸高 直径 | C2: なし | F2: 所有者名 | G2: 椴松 太郎 | J2: 樹高データ"あり"の場合出力します | M2: 初回 間伐 | N2: ='inv2.計算シート'!B4 -> 0 | O2: 年 | R2: ※ 地位指数（林齢40年生時の平均上層樹高）は，I等地A 22, I等地B 20， II等地 18， III等地16, IV等地A 14, IV等地B 12 を目安として選択してください
B3: 樹高 | C3: なし | F3: 地位指数 | G3: 25 | J3: =IF(C3="なし","",IF(C3="あり",地位指数計算!N8,"")) | M3: 間伐 回数 | N3: ='inv2.計算シート'!BZ23 -> 0 | O3: 回 | R3: ※ 対象林分の地位指数，植栽本数が不明の場合は，地域の標準的な値，または2500本を選択してください
B4: 入力 方法 | C4: 入力方法1 | F4: 植栽本数 | G4: 2500 | H4: 本/ha
B5: 直径階 cm | C5: 2 | F5: 林齢 | G5: 32 | H5: 年
F6: 調査面積 | G6: 0.02 | H6: ha
T7: 地位指数 | U7: =G3 -> 25 | X7: 植栽本数 | Y7: =G4 -> 2500 | Z7: 本/ha
B8: ※直径の大きい順に入力 | J8: ※ 主伐の場合は100を入力 | M8: 収穫予測
B9: 直径と樹高，または直径の データがあるとき | F9: 直径階毎の本数が わかっているとき | P9: 主副林木（間伐前） | U9: 主林木（間伐後） | X9: 副林木 | AC9: 総収穫 | AE9: 幹材積連年成長量 | AF9: 幹材積年平均成長量 | AI9: 形状比
B10: 入力方法1 | F10: 入力方法2 | J10: 間伐 スケジュール | P10: 平均 | R10: /ha | U10: /ha | X10: /ha | AC10: /ha | AE10: /ha | AF10: /ha | AI10: 平均樹高／ 平均直径
B11: 立木 | C11: 胸高直径 | D11: 樹高 | F11: 胸高直径階 | H11: 立木 | J11: 林齢 | K11: 本数 間伐率 | M11: 推奨 間伐回 | N11: 林齢 | O11: 上層高 | P11: 幹材積 | Q11: 胸高 直径 | R11: 立木 本数 | S11: 幹材積 | T11: 収量 比数 | U11: 立木 本数 | V11: 幹材積 | W11: 収量 比数 | X11: 立木 本数 | Y11: 本数 比率 | Z11: 幹材積 | AA11: 材積 比率 | AB11: 胸高 直径 | AC11: 副林木 材積 | AD11: 主副林木 材積 | AE11: 主副合計 | AF11: 主林木 | AG11: 主副 合計 | AH11: 総収量
B12: No. | C12: cm | D12: m | F12: cm以上 | G12: cm未満 | H12: 本数 | J12: 年 | K12: 全層 | N12: 年 | O12: m | P12: m3 | Q12: cm | R12: 本 | S12: m3 | U12: 本 | V12: m3 | X12: 本 | Y12: % | Z12: m3 | AA12: % | AB12: cm | AC12: m3 | AD12: m3 | AE12: m3 | AF12: m3 | AG12: m3 | AH12: m3 | AI12: m/m
B13: 1 | C13: 24 | D13: 15 | F13: 0 | G13: =F13+$C$5 -> 2 | J13: =出力前!J12 -> 1 | M13: =IF(ISERROR(出力前!M12),"",出力前!M12) | N13: =出力前!N12 -> 1 | O13: =出力前!O12 -> 0.16734066 | P13: =IF(ISERROR(出力前!P12),"",出力前!P12) -> 3.4679082e-08 | Q13: =IF(ISERROR(出力前!Q12),"",出力前!Q12) -> 0 | R13: =IF(ISERROR(出力前!R12),"",IF(出力前!R12=0,"",出力前!R12)) -> 2500.0026 | S13: =IF(ISERROR(出力前!S12),"",IF(出力前!R12=0,"",出力前!S12)) -> 8.6697793e-05 | T13: =IF(ISERROR(出力前!T12),"",出力前!T12) -> 5.1279424e-05 | U13: =IF(ISERROR(出力前!U12),"",出力前!U12) | V13: =IF(ISERROR(出力前!V12),"",出力前!V12) | W13: =IF(ISERROR(出力前!W12),"",出力前!W12) | X13: =IF(ISERROR(出力前!X12),"",出力前!X12) | Y13: =IF(ISERROR(出力前!Y12),"",出力前!Y12) | Z13: =IF(ISERROR(出力前!Z12),"",出力前!Z12) | AA13: =IF(ISERROR(出力前!AA12),"",出力前!AA12) | ... AI13: =IF(ISERROR(出力前!AI12),"",出力前!AI12)
B14: 2 | C14: 24 | D14: 15 | F14: =G13 -> 2 | G14: =F14+$C$5 -> 4 | H14: 1 | J14: =出力前!J13 -> 2 | M14: =IF(ISERROR(出力前!M13),"",出力前!M13) | N14: =出力前!N13 -> 2 | O14: =出力前!O13 -> 0.53717628 | P14: =IF(ISERROR(出力前!P13),"",出力前!P13) -> 2.1572769e-06 | Q14: =IF(ISERROR(出力前!Q13),"",出力前!Q13) -> 0 | R14: =IF(ISERROR(出力前!R13),"",IF(出力前!R13=0,"",出力前!R13)) -> 2499.9923 | S14: =IF(ISERROR(出力前!S13),"",IF(出力前!R13=0,"",出力前!S13)) -> 0.0053931755 | T14: =IF(ISERROR(出力前!T13),"",出力前!T13) -> 0.00087776796 | U14: =IF(ISERROR(出力前!U13),"",出力前!U13) | V14: =IF(ISERROR(出力前!V13),"",出力前!V13) | W14: =IF(ISERROR(出力前!W13),"",出力前!W13) | X14: =IF(ISERROR(出力前!X13),"",出力前!X13) | Y14: =IF(ISERROR(出力前!Y13),"",出力前!Y13) | Z14: =IF(ISERROR(出力前!Z13),"",出力前!Z13) | AA14: =IF(ISERROR(出力前!AA13),"",出力前!AA13) | ... AI14: =IF(ISERROR(出力前!AI13),"",出力前!AI13)
B15: 3 | C15: 24 | D15: 15 | F15: =G14 -> 4 | G15: =F15+$C$5 -> 6 | H15: 2 | J15: =出力前!J14 -> 3 | M15: =IF(ISERROR(出力前!M14),"",出力前!M14) | N15: =出力前!N14 -> 3 | O15: =出力前!O14 -> 1.0440624 | P15: =IF(ISERROR(出力前!P14),"",出力前!P14) -> 2.2617455e-05 | Q15: =IF(ISERROR(出力前!Q14),"",出力前!Q14) -> 0 | R15: =IF(ISERROR(出力前!R14),"",IF(出力前!R14=0,"",出力前!R14)) -> 2499.9188 | S15: =IF(ISERROR(出力前!S14),"",IF(出力前!R14=0,"",出力前!S14)) -> 0.056541799 | T15: =IF(ISERROR(出力前!T14),"",出力前!T14) -> 0.0044086008 | U15: =IF(ISERROR(出力前!U14),"",出力前!U14) | V15: =IF(ISERROR(出力前!V14),"",出力前!V14) | W15: =IF(ISERROR(出力前!W14),"",出力前!W14) | X15: =IF(ISERROR(出力前!X14),"",出力前!X14) | Y15: =IF(ISERROR(出力前!Y14),"",出力前!Y14) | Z15: =IF(ISERROR(出力前!Z14),"",出力前!Z14) | AA15: =IF(ISERROR(出力前!AA14),"",出力前!AA14) | ... AI15: =IF(ISERROR(出力前!AI14),"",出力前!AI14)
B16: 4 | C16: 22 | D16: 15 | F16: =G15 -> 6 | G16: =F16+$C$5 -> 8 | H16: 4 | J16: =出力前!J15 -> 4 | M16: =IF(ISERROR(出力前!M15),"",出力前!M15) | N16: =出力前!N15 -> 4 | O16: =出力前!O15 -> 1.6527808 | P16: =IF(ISERROR(出力前!P15),"",出力前!P15) -> 0.00011405357 | Q16: =IF(ISERROR(出力前!Q15),"",出力前!Q15) -> 0 | R16: =IF(ISERROR(出力前!R15),"",IF(出力前!R15=0,"",出力前!R15)) -> 2499.5904 | S16: =IF(ISERROR(出力前!S15),"",IF(出力前!R15=0,"",出力前!S15)) -> 0.28508721 | T16: =IF(ISERROR(出力前!T15),"",出力前!T15) -> 0.01334055 | U16: =IF(ISERROR(出力前!U15),"",出力前!U15) | V16: =IF(ISERROR(出力前!V15),"",出力前!V15) | W16: =IF(ISERROR(出力前!W15),"",出力前!W15) | X16: =IF(ISERROR(出力前!X15),"",出力前!X15) | Y16: =IF(ISERROR(出力前!Y15),"",出力前!Y15) | Z16: =IF(ISERROR(出力前!Z15),"",出力前!Z15) | AA16: =IF(ISERROR(出力前!AA15),"",出力前!AA15) | ... AI16: =IF(ISERROR(出力前!AI15),"",出力前!AI15)
B17: 5 | C17: 22 | F17: =G16 -> 8 | G17: =F17+$C$5 -> 10 | H17: 9 | J17: =出力前!J16 -> 5 | M17: =IF(ISERROR(出力前!M16),"",出力前!M16) | N17: =出力前!N16 -> 5 | O17: =出力前!O16 -> 2.3385317 | P17: =IF(ISERROR(出力前!P16),"",出力前!P16) -> 0.0003838851 | Q17: =IF(ISERROR(出力前!Q16),"",出力前!Q16) -> 1.4572951 | R17: =IF(ISERROR(出力前!R16),"",IF(出力前!R16=0,"",出力前!R16)) -> 2498.6217 | S17: =IF(ISERROR(出力前!S16),"",IF(出力前!R16=0,"",出力前!S16)) -> 0.95918367 | T17: =IF(ISERROR(出力前!T16),"",出力前!T16) -> 0.03041221 | U17: =IF(ISERROR(出力前!U16),"",出力前!U16) | V17: =IF(ISERROR(出力前!V16),"",出力前!V16) | W17: =IF(ISERROR(出力前!W16),"",出力前!W16) | X17: =IF(ISERROR(出力前!X16),"",出力前!X16) | Y17: =IF(ISERROR(出力前!Y16),"",出力前!Y16) | Z17: =IF(ISERROR(出力前!Z16),"",出力前!Z16) | AA17: =IF(ISERROR(出力前!AA16),"",出力前!AA16) | ... AI17: =IF(ISERROR(出力前!AI16),"",出力前!AI16) -> 104.27266
B18: 6 | C18: 22 | D18: 15 | F18: =G17 -> 10 | G18: =F18+$C$5 -> 12 | H18: 9 | J18: =出力前!J17 -> 6 | M18: =IF(ISERROR(出力前!M17),"",出力前!M17) | N18: =出力前!N17 -> 6 | O18: =出力前!O17 -> 3.082392 | P18: =IF(ISERROR(出力前!P17),"",出力前!P17) -> 0.00099758426 | Q18: =IF(ISERROR(出力前!Q17),"",出力前!Q17) -> 2.2891766 | R18: =IF(ISERROR(出力前!R17),"",IF(出力前!R17=0,"",出力前!R17)) -> 2496.4215 | S18: =IF(ISERROR(出力前!S17),"",IF(出力前!R17=0,"",出力前!S17)) -> 2.4903908 | T18: =IF(ISERROR(出力前!T17),"",出力前!T17) -> 0.05763536 | U18: =IF(ISERROR(出力前!U17),"",出力前!U17) | V18: =IF(ISERROR(出力前!V17),"",出力前!V17) | W18: =IF(ISERROR(出力前!W17),"",出力前!W17) | X18: =IF(ISERROR(出力前!X17),"",出力前!X17) | Y18: =IF(ISERROR(出力前!Y17),"",出力前!Y17) | Z18: =IF(ISERROR(出力前!Z17),"",出力前!Z17) | AA18: =IF(ISERROR(出力前!AA17),"",出力前!AA17) | ... AI18: =IF(ISERROR(出力前!AI17),"",出力前!AI17) -> 90.810627
B19: 7 | C19: 22 | D19: 15 | F19: =G18 -> 12 | G19: =F19+$C$5 -> 14 | H19: 3 | J19: =出力前!J18 -> 7 | M19: =IF(ISERROR(出力前!M18),"",出力前!M18) | N19: =出力前!N18 -> 7 | O19: =出力前!O18 -> 3.8693562 | P19: =IF(ISERROR(出力前!P18),"",出力前!P18) -> 0.0021634085 | Q19: =IF(ISERROR(出力前!Q18),"",出力前!Q18) -> 3.0616376 | R19: =IF(ISERROR(出力前!R18),"",IF(出力前!R18=0,"",出力前!R18)) -> 2492.2525 | S19: =IF(ISERROR(出力前!S18),"",IF(出力前!R18=0,"",出力前!S18)) -> 5.3917603 | T19: =IF(ISERROR(出力前!T18),"",出力前!T18) -> 0.095688596 | U19: =IF(ISERROR(出力前!U18),"",出力前!U18) | V19: =IF(ISERROR(出力前!V18),"",出力前!V18) | W19: =IF(ISERROR(出力前!W18),"",出力前!W18) | X19: =IF(ISERROR(出力前!X18),"",出力前!X18) | Y19: =IF(ISERROR(出力前!Y18),"",出力前!Y18) | Z19: =IF(ISERROR(出力前!Z18),"",出力前!Z18) | AA19: =IF(ISERROR(出力前!AA18),"",出力前!AA18) | ... AI19: =IF(ISERROR(出力前!AI18),"",出力前!AI18) -> 87.884475
B20: 8 | C20: 20 | D20: 15 | F20: =G19 -> 14 | G20: =F20+$C$5 -> 16 | H20: 2 | J20: =出力前!J19 -> 8 | M20: =IF(ISERROR(出力前!M19),"",出力前!M19) | N20: =出力前!N19 -> 8 | O20: =出力前!O19 -> 4.6872678 | P20: =IF(ISERROR(出力前!P19),"",出力前!P19) -> 0.0041033277 | Q20: =IF(ISERROR(出力前!Q19),"",出力前!Q19) -> 3.9062208 | R20: =IF(ISERROR(出力前!R19),"",IF(出力前!R19=0,"",出力前!R19)) -> 2485.3461 | S20: =IF(ISERROR(出力前!S19),"",IF(出力前!R19=0,"",出力前!S19)) -> 10.19819 | T20: =IF(ISERROR(出力前!T19),"",出力前!T19) -> 0.14369382 | U20: =IF(ISERROR(出力前!U19),"",出力前!U19) | V20: =IF(ISERROR(出力前!V19),"",出力前!V19) | W20: =IF(ISERROR(出力前!W19),"",出力前!W19) | X20: =IF(ISERROR(出力前!X19),"",出力前!X19) | Y20: =IF(ISERROR(出力前!Y19),"",出力前!Y19) | Z20: =IF(ISERROR(出力前!Z19),"",出力前!Z19) | AA20: =IF(ISERROR(出力前!AA19),"",出力前!AA19) | ... AI20: =IF(ISERROR(出力前!AI19),"",出力前!AI19) -> 85.626064
B21: 9 | C21: 20 | D21: 15 | F21: =G20 -> 16 | G21: =F21+$C$5 -> 18 | H21: 2 | J21: =出力前!J20 -> 9 | M21: =IF(ISERROR(出力前!M20),"",出力前!M20) | N21: =出力前!N20 -> 9 | O21: =出力前!O20 -> 5.5261547 | P21: =IF(ISERROR(出力前!P20),"",出力前!P20) -> 0.0070203204 | Q21: =IF(ISERROR(出力前!Q20),"",出力前!Q20) -> 4.7774971 | R21: =IF(ISERROR(出力前!R20),"",IF(出力前!R20=0,"",出力前!R20)) -> 2475.0329 | S21: =IF(ISERROR(出力前!S20),"",IF(出力前!R20=0,"",出力前!S20)) -> 17.375524 | T21: =IF(ISERROR(出力前!T20),"",出力前!T20) -> 0.19946353 | U21: =IF(ISERROR(出力前!U20),"",出力前!U20) | V21: =IF(ISERROR(出力前!V20),"",出力前!V20) | W21: =IF(ISERROR(出力前!W20),"",出力前!W20) | X21: =IF(ISERROR(出力前!X20),"",出力前!X20) | Y21: =IF(ISERROR(出力前!Y20),"",出力前!Y20) | Z21: =IF(ISERROR(出力前!Z20),"",出力前!Z20) | AA21: =IF(ISERROR(出力前!AA20),"",出力前!AA20) | ... AI21: =IF(ISERROR(出力前!AI20),"",出力前!AI20) -> 84.390823
B22: 10 | C22: 18 | D22: 15 | F22: =G21 -> 18 | G22: =F22+$C$5 -> 20 | H22: 4 | J22: =出力前!J21 -> 10 | M22: =IF(ISERROR(出力前!M21),"",出力前!M21) | N22: =出力前!N21 -> 10 | O22: =出力前!O21 -> 6.3777757 | P22: =IF(ISERROR(出力前!P21),"",出力前!P21) -> 0.011072532 | Q22: =IF(ISERROR(出力前!Q21),"",出力前!Q21) -> 5.638316 | R22: =IF(ISERROR(出力前!R21),"",IF(出力前!R21=0,"",出力前!R21)) -> 2460.8473 | S22: =IF(ISERROR(出力前!S21),"",IF(出力前!R21=0,"",出力前!S21)) -> 27.247811 | T22: =IF(ISERROR(出力前!T21),"",出力前!T21) -> 0.26008802 | U22: =IF(ISERROR(出力前!U21),"",出力前!U21) | V22: =IF(ISERROR(出力前!V21),"",出力前!V21) | W22: =IF(ISERROR(出力前!W21),"",出力前!W21) | X22: =IF(ISERROR(出力前!X21),"",出力前!X21) | Y22: =IF(ISERROR(出力前!Y21),"",出力前!Y21) | Z22: =IF(ISERROR(出力前!Z21),"",出力前!Z21) | AA22: =IF(ISERROR(出力前!AA21),"",出力前!AA21) | ... AI22: =IF(ISERROR(出力前!AI21),"",出力前!AI21) -> 84.134743
B23: 11 | C23: 20 | D23: 14 | F23: =G22 -> 20 | G23: =F23+$C$5 -> 22 | H23: 2 | J23: =出力前!J22 -> 11 | M23: =IF(ISERROR(出力前!M22),"",出力前!M22) | N23: =出力前!N22 -> 11 | O23: =出力前!O22 -> 7.2352937 | P23: =IF(ISERROR(出力前!P22),"",出力前!P22) -> 0.016360388 | Q23: =IF(ISERROR(出力前!Q22),"",出力前!Q22) -> 6.5263806 | R23: =IF(ISERROR(出力前!R22),"",IF(出力前!R22=0,"",出力前!R22)) -> 2442.5788 | S23: =IF(ISERROR(出力前!S22),"",IF(出力前!R22=0,"",出力前!S22)) -> 39.961537 | T23: =IF(ISERROR(出力前!T22),"",出力前!T22) -> 0.32259312 | U23: =IF(ISERROR(出力前!U22),"",出力前!U22) | V23: =IF(ISERROR(出力前!V22),"",出力前!V22) | W23: =IF(ISERROR(出力前!W22),"",出力前!W22) | X23: =IF(ISERROR(出力前!X22),"",出力前!X22) | Y23: =IF(ISERROR(出力前!Y22),"",出力前!Y22) | Z23: =IF(ISERROR(出力前!Z22),"",出力前!Z22) | AA23: =IF(ISERROR(出力前!AA22),"",出力前!AA22) | ... AI23: =IF(ISERROR(出力前!AI22),"",出力前!AI22) -> 83.872129
B24: 12 | C24: 20 | D24: 14 | F24: =G23 -> 22 | G24: =F24+$C$5 -> 24 | H24: 2 | J24: =出力前!J23 -> 12 | M24: =IF(ISERROR(出力前!M23),"",出力前!M23) | N24: =出力前!N23 -> 12 | O24: =出力前!O23 -> 8.0930289 | P24: =IF(ISERROR(出力前!P23),"",出力前!P23) -> 0.022926783 | Q24: =IF(ISERROR(出力前!Q23),"",出力前!Q23) -> 7.4224674 | R24: =IF(ISERROR(出力前!R23),"",IF(出力前!R23=0,"",出力前!R23)) -> 2420.2673 | S24: =IF(ISERROR(出力前!S23),"",IF(出力前!R23=0,"",出力前!S23)) -> 55.488943 | T24: =IF(ISERROR(出力前!T23),"",出力前!T23) -> 0.38443317 | U24: =IF(ISERROR(出力前!U23),"",出力前!U23) | V24: =IF(ISERROR(出力前!V23),"",出力前!V23) | W24: =IF(ISERROR(出力前!W23),"",出力前!W23) | X24: =IF(ISERROR(出力前!X23),"",出力前!X23) | Y24: =IF(ISERROR(出力前!Y23),"",出力前!Y23) | Z24: =IF(ISERROR(出力前!Z23),"",出力前!Z23) | AA24: =IF(ISERROR(出力前!AA23),"",出力前!AA23) | ... AI24: =IF(ISERROR(出力前!AI23),"",出力前!AI23) -> 83.743138
B25: 13 | C25: 20 | D25: 14 | F25: =G24 -> 24 | G25: =F25+$C$5 -> 26 | J25: =出力前!J24 -> 13 | M25: =IF(ISERROR(出力前!M24),"",出力前!M24) | N25: =出力前!N24 -> 13 | O25: =出力前!O24 -> 8.9462666 | P25: =IF(ISERROR(出力前!P24),"",出力前!P24) -> 0.030766284 | Q25: =IF(ISERROR(出力前!Q24),"",出力前!Q24) -> 8.3148272 | R25: =IF(ISERROR(出力前!R24),"",IF(出力前!R24=0,"",出力前!R24)) -> 2394.1581 | S25: =IF(ISERROR(出力前!S24),"",IF(出力前!R24=0,"",出力前!S24)) -> 73.659347 | T25: =IF(ISERROR(出力前!T24),"",出力前!T24) -> 0.44372711 | U25: =IF(ISERROR(出力前!U24),"",出力前!U24) | V25: =IF(ISERROR(出力前!V24),"",出力前!V24) | W25: =IF(ISERROR(出力前!W24),"",出力前!W24) | X25: =IF(ISERROR(出力前!X24),"",出力前!X24) | Y25: =IF(ISERROR(出力前!Y24),"",出力前!Y24) | Z25: =IF(ISERROR(出力前!Z24),"",出力前!Z24) | AA25: =IF(ISERROR(出力前!AA24),"",出力前!AA24) | ... AI25: =IF(ISERROR(出力前!AI24),"",出力前!AI24) -> 83.760159
B26: 14 | C26: 20 | D26: 14 | F26: =G25 -> 26 | G26: =F26+$C$5 -> 28 | J26: =出力前!J25 -> 14 | M26: =IF(ISERROR(出力前!M25),"",出力前!M25) -> 1 | N26: =出力前!N25 -> 14 | O26: =出力前!O25 -> 9.7911039 | P26: =IF(ISERROR(出力前!P25),"",出力前!P25) -> 0.039838159 | Q26: =IF(ISERROR(出力前!Q25),"",出力前!Q25) -> 9.1737202 | R26: =IF(ISERROR(出力前!R25),"",IF(出力前!R25=0,"",出力前!R25)) -> 2364.6389 | S26: =IF(ISERROR(出力前!S25),"",IF(出力前!R25=0,"",出力前!S25)) -> 94.202861 | T26: =IF(ISERROR(出力前!T25),"",出力前!T25) -> 0.49927575 | U26: =IF(ISERROR(出力前!U25),"",出力前!U25) | V26: =IF(ISERROR(出力前!V25),"",出力前!V25) | W26: =IF(ISERROR(出力前!W25),"",出力前!W25) | X26: =IF(ISERROR(出力前!X25),"",出力前!X25) | Y26: =IF(ISERROR(出力前!Y25),"",出力前!Y25) | Z26: =IF(ISERROR(出力前!Z25),"",出力前!Z25) | AA26: =IF(ISERROR(出力前!AA25),"",出力前!AA25) | ... AI26: =IF(ISERROR(出力前!AI25),"",出力前!AI25) -> 84.103271
B27: 15 | C27: 20 | F27: =G26 -> 28 | G27: =F27+$C$5 -> 30 | J27: =出力前!J26 -> 15 | M27: =IF(ISERROR(出力前!M26),"",出力前!M26) | N27: =出力前!N26 -> 15 | O27: =出力前!O26 -> 10.624324 | P27: =IF(ISERROR(出力前!P26),"",出力前!P26) -> 0.05007919 | Q27: =IF(ISERROR(出力前!Q26),"",出力前!Q26) -> 9.9984267 | R27: =IF(ISERROR(出力前!R26),"",IF(出力前!R26=0,"",出力前!R26)) -> 2332.178 | S27: =IF(ISERROR(出力前!S26),"",IF(出力前!R26=0,"",出力前!S26)) -> 116.79359 | T27: =IF(ISERROR(出力前!T26),"",出力前!T26) -> 0.55045277 | U27: =IF(ISERROR(出力前!U26),"",出力前!U26) | V27: =IF(ISERROR(出力前!V26),"",出力前!V26) | W27: =IF(ISERROR(出力前!W26),"",出力前!W26) | X27: =IF(ISERROR(出力前!X26),"",出力前!X26) | Y27: =IF(ISERROR(出力前!Y26),"",出力前!Y26) | Z27: =IF(ISERROR(出力前!Z26),"",出力前!Z26) | AA27: =IF(ISERROR(出力前!AA26),"",出力前!AA26) | ... AI27: =IF(ISERROR(出力前!AI26),"",出力前!AI26) -> 84.659013
B28: 16 | C28: 20 | D28: 14 | F28: =G27 -> 30 | G28: =F28+$C$5 -> 32 | J28: =出力前!J27 -> 16 | M28: =IF(ISERROR(出力前!M27),"",出力前!M27) | N28: =出力前!N27 -> 16 | O28: =出力前!O27 -> 11.443296 | P28: =IF(ISERROR(出力前!P27),"",出力前!P27) -> 0.061414089 | Q28: =IF(ISERROR(出力前!Q27),"",出力前!Q27) -> 10.812177 | R28: =IF(ISERROR(出力前!R27),"",IF(出力前!R27=0,"",出力前!R27)) -> 2297.2735 | S28: =IF(ISERROR(出力前!S27),"",IF(出力前!R27=0,"",出力前!S27)) -> 141.08496 | T28: =IF(ISERROR(出力前!T27),"",出力前!T27) -> 0.59705319 | U28: =IF(ISERROR(出力前!U27),"",出力前!U27) | V28: =IF(ISERROR(出力前!V27),"",出力前!V27) | W28: =IF(ISERROR(出力前!W27),"",出力前!W27) | X28: =IF(ISERROR(出力前!X27),"",出力前!X27) | Y28: =IF(ISERROR(出力前!Y27),"",出力前!Y27) | Z28: =IF(ISERROR(出力前!Z27),"",出力前!Z27) | AA28: =IF(ISERROR(出力前!AA27),"",出力前!AA27) | ... AI28: =IF(ISERROR(出力前!AI27),"",出力前!AI27) -> 85.16962
B29: 17 | C29: 18 | D29: 14 | F29: =G28 -> 32 | G29: =F29+$C$5 -> 34 | J29: =出力前!J28 -> 17 | M29: =IF(ISERROR(出力前!M28),"",出力前!M28) -> 2 | N29: =出力前!N28 -> 17 | O29: =出力前!O28 -> 12.245883 | P29: =IF(ISERROR(出力前!P28),"",出力前!P28) -> 0.073762924 | Q29: =IF(ISERROR(出力前!Q28),"",出力前!Q28) -> 11.612489 | R29: =IF(ISERROR(出力前!R28),"",IF(出力前!R28=0,"",出力前!R28)) -> 2260.4167 | S29: =IF(ISERROR(出力前!S28),"",IF(出力前!R28=0,"",出力前!S28)) -> 166.73495 | T29: =IF(ISERROR(出力前!T28),"",出力前!T28) -> 0.63915053 | U29: =IF(ISERROR(出力前!U28),"",出力前!U28) | V29: =IF(ISERROR(出力前!V28),"",出力前!V28) | W29: =IF(ISERROR(出力前!W28),"",出力前!W28) | X29: =IF(ISERROR(出力前!X28),"",出力前!X28) | Y29: =IF(ISERROR(出力前!Y28),"",出力前!Y28) | Z29: =IF(ISERROR(出力前!Z28),"",出力前!Z28) | AA29: =IF(ISERROR(出力前!AA28),"",出力前!AA28) | ... AI29: =IF(ISERROR(出力前!AI28),"",出力前!AI28) -> 85.639909
B30: 18 | C30: 18 | D30: 14 | F30: =G29 -> 34 | G30: =F30+$C$5 -> 36 | J30: =出力前!J29 -> 18 | M30: =IF(ISERROR(出力前!M29),"",出力前!M29) | N30: =出力前!N29 -> 18 | O30: =出力前!O29 -> 13.030379 | P30: =IF(ISERROR(出力前!P29),"",出力前!P29) -> 0.08704583 | Q30: =IF(ISERROR(出力前!Q29),"",出力前!Q29) -> 12.395608 | R30: =IF(ISERROR(出力前!R29),"",IF(出力前!R29=0,"",出力前!R29)) -> 2222.0699 | S30: =IF(ISERROR(出力前!S29),"",IF(出力前!R29=0,"",出力前!S29)) -> 193.42192 | T30: =IF(ISERROR(出力前!T29),"",出力前!T29) -> 0.67698372 | U30: =IF(ISERROR(出力前!U29),"",出力前!U29) | V30: =IF(ISERROR(出力前!V29),"",出力前!V29) | W30: =IF(ISERROR(出力前!W29),"",出力前!W29) | X30: =IF(ISERROR(出力前!X29),"",出力前!X29) | Y30: =IF(ISERROR(出力前!Y29),"",出力前!Y29) | Z30: =IF(ISERROR(出力前!Z29),"",出力前!Z29) | AA30: =IF(ISERROR(出力前!AA29),"",出力前!AA29) | ... AI30: =IF(ISERROR(出力前!AI29),"",出力前!AI29) -> 86.085966
B31: 19 | C31: 18 | D31: 14 | F31: =G30 -> 36 | G31: =F31+$C$5 -> 38 | J31: =出力前!J30 -> 19 | M31: =IF(ISERROR(出力前!M30),"",出力前!M30) | N31: =出力前!N30 -> 19 | O31: =出力前!O30 -> 13.795438 | P31: =IF(ISERROR(出力前!P30),"",出力前!P30) -> 0.10118564 | Q31: =IF(ISERROR(出力前!Q30),"",出力前!Q30) -> 13.135019 | R31: =IF(ISERROR(出力前!R30),"",IF(出力前!R30=0,"",出力前!R30)) -> 2182.6536 | S31: =IF(ISERROR(出力前!S30),"",IF(出力前!R30=0,"",出力前!S30)) -> 220.85321 | T31: =IF(ISERROR(出力前!T30),"",出力前!T30) -> 0.71087691 | U31: =IF(ISERROR(出力前!U30),"",出力前!U30) | V31: =IF(ISERROR(出力前!V30),"",出力前!V30) | W31: =IF(ISERROR(出力前!W30),"",出力前!W30) | X31: =IF(ISERROR(出力前!X30),"",出力前!X30) | Y31: =IF(ISERROR(出力前!Y30),"",出力前!Y30) | Z31: =IF(ISERROR(出力前!Z30),"",出力前!Z30) | AA31: =IF(ISERROR(出力前!AA30),"",出力前!AA30) | ... AI31: =IF(ISERROR(出力前!AI30),"",出力前!AI30) -> 86.673224
B32: 20 | C32: 18 | D32: 14 | F32: =G31 -> 38 | G32: =F32+$C$5 -> 40 | J32: =出力前!J31 -> 20 | M32: =IF(ISERROR(出力前!M31),"",出力前!M31) | N32: =出力前!N31 -> 20 | O32: =出力前!O31 -> 14.540028 | P32: =IF(ISERROR(出力前!P31),"",出力前!P31) -> 0.11610912 | Q32: =IF(ISERROR(出力前!Q31),"",出力前!Q31) -> 13.85324 | R32: =IF(ISERROR(出力前!R31),"",IF(出力前!R31=0,"",出力前!R31)) -> 2142.5417 | S32: =IF(ISERROR(出力前!S31),"",IF(出力前!R31=0,"",出力前!S31)) -> 248.76862 | T32: =IF(ISERROR(出力前!T31),"",出力前!T31) -> 0.74118693 | U32: =IF(ISERROR(出力前!U31),"",出力前!U31) | V32: =IF(ISERROR(出力前!V31),"",出力前!V31) | W32: =IF(ISERROR(出力前!W31),"",出力前!W31) | X32: =IF(ISERROR(出力前!X31),"",出力前!X31) | Y32: =IF(ISERROR(出力前!Y31),"",出力前!Y31) | Z32: =IF(ISERROR(出力前!Z31),"",出力前!Z31) | AA32: =IF(ISERROR(出力前!AA31),"",出力前!AA31) | ... AI32: =IF(ISERROR(出力前!AI31),"",出力前!AI31) -> 87.23055
B33: 21 | C33: 18 | D33: 14 | F33: =G32 -> 40 | G33: =F33+$C$5 -> 42 | J33: =出力前!J32 -> 21 | M33: =IF(ISERROR(出力前!M32),"",出力前!M32) -> 3 | N33: =出力前!N32 -> 21 | O33: =出力前!O32 -> 15.263384 | P33: =IF(ISERROR(出力前!P32),"",出力前!P32) -> 0.13174727 | Q33: =IF(ISERROR(出力前!Q32),"",出力前!Q32) -> 14.558658 | R33: =IF(ISERROR(出力前!R32),"",IF(出力前!R32=0,"",出力前!R32)) -> 2102.0608 | S33: =IF(ISERROR(出力前!S32),"",IF(出力前!R32=0,"",出力前!S32)) -> 276.94078 | T33: =IF(ISERROR(出力前!T32),"",出力前!T32) -> 0.76827127 | U33: =IF(ISERROR(出力前!U32),"",出力前!U32) | V33: =IF(ISERROR(出力前!V32),"",出力前!V32) | W33: =IF(ISERROR(出力前!W32),"",出力前!W32) | X33: =IF(ISERROR(出力前!X32),"",出力前!X32) | Y33: =IF(ISERROR(出力前!Y32),"",出力前!Y32) | Z33: =IF(ISERROR(出力前!Z32),"",出力前!Z32) | AA33: =IF(ISERROR(出力前!AA32),"",出力前!AA32) | ... AI33: =IF(ISERROR(出力前!AI32),"",出力前!AI32) -> 87.704909
B34: 22 | C34: 16 | D34: 14 | F34: =G33 -> 42 | G34: =F34+$C$5 -> 44 | J34: =出力前!J33 -> 22 | M34: =IF(ISERROR(出力前!M33),"",出力前!M33) | N34: =出力前!N33 -> 22 | O34: =出力前!O33 -> 15.964969 | P34: =IF(ISERROR(出力前!P33),"",出力前!P33) -> 0.14803522 | Q34: =IF(ISERROR(出力前!Q33),"",出力前!Q33) -> 15.251408 | R34: =IF(ISERROR(出力前!R33),"",IF(出力前!R33=0,"",出力前!R33)) -> 2061.4928 | S34: =IF(ISERROR(出力前!S33),"",IF(出力前!R33=0,"",出力前!S33)) -> 305.17354 | T34: =IF(ISERROR(出力前!T33),"",出力前!T33) -> 0.79247012 | U34: =IF(ISERROR(出力前!U33),"",出力前!U33) | V34: =IF(ISERROR(出力前!V33),"",出力前!V33) | W34: =IF(ISERROR(出力前!W33),"",出力前!W33) | X34: =IF(ISERROR(出力前!X33),"",出力前!X33) | Y34: =IF(ISERROR(出力前!Y33),"",出力前!Y33) | Z34: =IF(ISERROR(出力前!Z33),"",出力前!Z33) | AA34: =IF(ISERROR(出力前!AA33),"",出力前!AA33) | ... AI34: =IF(ISERROR(出力前!AI33),"",出力前!AI33) -> 88.101032
B35: 23 | C35: 16 | D35: 14 | F35: =G34 -> 44 | G35: =F35+$C$5 -> 46 | J35: =出力前!J34 -> 23 | M35: =IF(ISERROR(出力前!M34),"",出力前!M34) | N35: =出力前!N34 -> 23 | O35: =出力前!O34 -> 16.644442 | P35: =IF(ISERROR(出力前!P34),"",出力前!P34) -> 0.16491175 | Q35: =IF(ISERROR(出力前!Q34),"",出力前!Q34) -> 15.929532 | R35: =IF(ISERROR(出力前!R34),"",IF(出力前!R34=0,"",出力前!R34)) -> 2021.0782 | S35: =IF(ISERROR(出力前!S34),"",IF(出力前!R34=0,"",出力前!S34)) -> 333.29955 | T35: =IF(ISERROR(出力前!T34),"",出力前!T34) -> 0.81409735 | U35: =IF(ISERROR(出力前!U34),"",出力前!U34) | V35: =IF(ISERROR(出力前!V34),"",出力前!V34) | W35: =IF(ISERROR(出力前!W34),"",出力前!W34) | X35: =IF(ISERROR(出力前!X34),"",出力前!X34) | Y35: =IF(ISERROR(出力前!Y34),"",出力前!Y34) | Z35: =IF(ISERROR(出力前!Z34),"",出力前!Z34) | AA35: =IF(ISERROR(出力前!AA34),"",出力前!AA34) | ... AI35: =IF(ISERROR(出力前!AI34),"",出力前!AI34) -> 88.435542
B36: 24 | C36: 16 | D36: 14 | F36: =G35 -> 46 | G36: =F36+$C$5 -> 48 | J36: =出力前!J35 -> 24 | M36: =IF(ISERROR(出力前!M35),"",出力前!M35) | N36: =出力前!N35 -> 24 | O36: =出力前!O35 -> 17.301628 | P36: =IF(ISERROR(出力前!P35),"",出力前!P35) -> 0.18231887 | Q36: =IF(ISERROR(出力前!Q35),"",出力前!Q35) -> 16.56389 | R36: =IF(ISERROR(出力前!R35),"",IF(出力前!R35=0,"",出力前!R35)) -> 1981.0203 | S36: =IF(ISERROR(出力前!S35),"",IF(出力前!R35=0,"",出力前!S35)) -> 361.17739 | T36: =IF(ISERROR(出力前!T35),"",出力前!T35) -> 0.83343715 | U36: =IF(ISERROR(出力前!U35),"",出力前!U35) | V36: =IF(ISERROR(出力前!V35),"",出力前!V35) | W36: =IF(ISERROR(出力前!W35),"",出力前!W35) | X36: =IF(ISERROR(出力前!X35),"",出力前!X35) | Y36: =IF(ISERROR(出力前!Y35),"",出力前!Y35) | Z36: =IF(ISERROR(出力前!Z35),"",出力前!Z35) | AA36: =IF(ISERROR(出力前!AA35),"",出力前!AA35) | ... AI36: =IF(ISERROR(出力前!AI35),"",出力前!AI35) -> 88.868964
B37: 25 | C37: 16 | D37: 14 | F37: =G36 -> 48 | G37: =F37+$C$5 -> 50 | J37: =出力前!J36 -> 25 | M37: =IF(ISERROR(出力前!M36),"",出力前!M36) | N37: =出力前!N36 -> 25 | O37: =出力前!O36 -> 17.936492 | P37: =IF(ISERROR(出力前!P36),"",出力前!P36) -> 0.2002013 | Q37: =IF(ISERROR(出力前!Q36),"",出力前!Q36) -> 17.189663 | R37: =IF(ISERROR(出力前!R36),"",IF(出力前!R36=0,"",出力前!R36)) -> 1941.4891 | S37: =IF(ISERROR(出力前!S36),"",IF(出力前!R36=0,"",出力前!S36)) -> 388.68864 | T37: =IF(ISERROR(出力前!T36),"",出力前!T36) -> 0.85074371 | U37: =IF(ISERROR(出力前!U36),"",出力前!U36) | V37: =IF(ISERROR(出力前!V36),"",出力前!V36) | W37: =IF(ISERROR(出力前!W36),"",出力前!W36) | X37: =IF(ISERROR(出力前!X36),"",出力前!X36) | Y37: =IF(ISERROR(出力前!Y36),"",出力前!Y36) | Z37: =IF(ISERROR(出力前!Z36),"",出力前!Z36) | AA37: =IF(ISERROR(出力前!AA36),"",出力前!AA36) | ... AI37: =IF(ISERROR(出力前!AI36),"",出力前!AI36) -> 89.207911
B38: 26 | C38: 20 | F38: =G37 -> 50 | G38: =F38+$C$5 -> 52 | J38: =出力前!J37 -> 26 | M38: =IF(ISERROR(出力前!M37),"",出力前!M37) -> 4 | N38: =出力前!N37 -> 26 | O38: =出力前!O37 -> 18.549121 | P38: =IF(ISERROR(出力前!P37),"",出力前!P37) -> 0.21850604 | Q38: =IF(ISERROR(出力前!Q37),"",出力前!Q37) -> 17.803595 | R38: =IF(ISERROR(出力前!R37),"",IF(出力前!R37=0,"",出力前!R37)) -> 1902.6256 | S38: =IF(ISERROR(出力前!S37),"",IF(出力前!R37=0,"",出力前!S37)) -> 415.73518 | T38: =IF(ISERROR(出力前!T37),"",出力前!T37) -> 0.86624277 | U38: =IF(ISERROR(出力前!U37),"",出力前!U37) | V38: =IF(ISERROR(出力前!V37),"",出力前!V37) | W38: =IF(ISERROR(出力前!W37),"",出力前!W37) | X38: =IF(ISERROR(出力前!X37),"",出力前!X37) | Y38: =IF(ISERROR(出力前!Y37),"",出力前!Y37) | Z38: =IF(ISERROR(出力前!Z37),"",出力前!Z37) | AA38: =IF(ISERROR(出力前!AA37),"",出力前!AA37) | ... AI38: =IF(ISERROR(出力前!AI37),"",出力前!AI37) -> 89.47736
B39: 27 | C39: 20 | D39: 13 | F39: =G38 -> 52 | G39: =F39+$C$5 -> 54 | J39: =出力前!J38 -> 27 | M39: =IF(ISERROR(出力前!M38),"",出力前!M38) | N39: =出力前!N38 -> 27 | O39: =出力前!O38 -> 19.139701 | P39: =IF(ISERROR(出力前!P38),"",出力前!P38) -> 0.23718202 | Q39: =IF(ISERROR(出力前!Q38),"",出力前!Q38) -> 18.408679 | R39: =IF(ISERROR(出力前!R38),"",IF(出力前!R38=0,"",出力前!R38)) -> 1864.5454 | S39: =IF(ISERROR(出力前!S38),"",IF(出力前!R38=0,"",出力前!S38)) -> 442.23663 | T39: =IF(ISERROR(出力前!T38),"",出力前!T38) -> 0.88013398 | U39: =IF(ISERROR(出力前!U38),"",出力前!U38) | V39: =IF(ISERROR(出力前!V38),"",出力前!V38) | W39: =IF(ISERROR(出力前!W38),"",出力前!W38) | X39: =IF(ISERROR(出力前!X38),"",出力前!X38) | Y39: =IF(ISERROR(出力前!Y38),"",出力前!Y38) | Z39: =IF(ISERROR(出力前!Z38),"",出力前!Z38) | AA39: =IF(ISERROR(出力前!AA38),"",出力前!AA38) | ... AI39: =IF(ISERROR(出力前!AI38),"",出力前!AI38) -> 89.669189
B40: 28 | C40: 18 | D40: 13 | F40: =G39 -> 54 | G40: =F40+$C$5 -> 56 | J40: =出力前!J39 -> 28 | M40: =IF(ISERROR(出力前!M39),"",出力前!M39) | N40: =出力前!N39 -> 28 | O40: =出力前!O39 -> 19.708505 | P40: =IF(ISERROR(出力前!P39),"",出力前!P39) -> 0.25617981 | Q40: =IF(ISERROR(出力前!Q39),"",出力前!Q39) -> 18.994592 | R40: =IF(ISERROR(出力前!R39),"",IF(出力前!R39=0,"",出力前!R39)) -> 1827.3417 | S40: =IF(ISERROR(出力前!S39),"",IF(出力前!R39=0,"",出力前!S39)) -> 468.12805 | T40: =IF(ISERROR(出力前!T39),"",出力前!T39) -> 0.89259347 | U40: =IF(ISERROR(出力前!U39),"",出力前!U39) | V40: =IF(ISERROR(出力前!V39),"",出力前!V39) | W40: =IF(ISERROR(出力前!W39),"",出力前!W39) | X40: =IF(ISERROR(出力前!X39),"",出力前!X39) | Y40: =IF(ISERROR(出力前!Y39),"",出力前!Y39) | Z40: =IF(ISERROR(出力前!Z39),"",出力前!Z39) | AA40: =IF(ISERROR(出力前!AA39),"",出力前!AA39) | ... AI40: =IF(ISERROR(出力前!AI39),"",出力前!AI39) -> 89.839489
...

Sheet 出力前
B1: 立木データ | F1: 林分データ | J1: 間伐データ
B2: 胸高直径 | C2: ='1.収穫を予測する'!C2 -> なし | F2: 調査地名 | G2: ='1.収穫を予測する'!G2:H2 -> 椴松 太郎 | J2: 最初の間伐年 | K2: ='inv2.計算シート'!B4 -> 0 | L2: 年 | O2: ※ 地位指数（林齢40年生時の平均上層樹高）は，特等地・I等地 ，II等地 ，III等地 を目安として選択してください | AE2: meanH( coef( resLog.t ) )
B3: 樹高 | C3: ='1.収穫を予測する'!C3 -> なし | F3: 地位指数 | G3: ='1.収穫を予測する'!G3 -> 25 | J3: 間伐回数 | K3: ='inv2.計算シート'!BZ23 -> 0 | L3: 回 | O3: ※ 対象林分の地位指数，植栽本数が不明の場合は，地域の標準的な値を選択してください | AE3: coef a | AF3: 1.1346737
B4: 入力方法 | C4: ='1.収穫を予測する'!C4 -> 入力方法1 | F4: 植栽本数 | G4: ='1.収穫を予測する'!G4 -> 2500 | H4: 本/ha | J4: 主伐年 | K4: ='inv2.計算シート'!BY1 -> 0 | L4: 年 | AE4: coef b | AF4: -0.5455106
B5: 直径階cm | C5: ='1.収穫を予測する'!C5 -> 2 | F5: 林齢 | G5: ='1.収穫を予測する'!G5 -> 32 | H5: 年
F6: 調査面積 | G6: ='1.収穫を予測する'!G6 -> 0.02 | H6: ha | T6: 地位指数 | U6: =G3 -> 25 | X6: 植栽本数 | Y6: =G4 -> 2500 | Z6: 本/ha
P7: 1.2 収穫予測
P8: 主副林木（間伐前） | U8: 主林木（間伐後） | X8: 副林木 | AC8: 総収穫 | AE8: 幹材積連年成長量 | AF8: 幹材積年平均成長量 | AI8: 形状比
B9: 入力方法1 | F9: 入力方法2 | J9: 1.1 間伐スケジュール | P9: 平均 | R9: /ha | U9: /ha | X9: /ha | AC9: /ha | AE9: /ha | AF9: /ha
B10: 立木 | C10: 胸高直径 | D10: 樹高 | F10: 胸高直径階 | H10: 立木 | J10: 林齢 | K10: 本数 間伐率 | M10: 推奨 間伐回 | N10: 林齢 | O10: 上層高 | P10: 幹材積 | Q10: 胸高 直径 | R10: 立木 本数 | S10: 幹材積 | T10: 収量 比数 | U10: 立木 本数 | V10: 幹材積 | W10: 収量 比数 | X10: 立木 本数 | Y10: 本数 比率 | Z10: 幹材積 | AA10: 材積 比率 | AB10: 胸高 直径 | AC10: 副林木 材積 | AD10: 主副林木 材積 | AE10: 主副合計 | AF10: 主林木 | AG10: 主副 合計 | AH10: 総収量
B11: No. | C11: cm | D11: m | F11: cm以上 | G11: cm未満 | H11: 本数 | J11: 年 | K11: 全層 | N11: 年 | O11: m | P11: m3 | Q11: cm | R11: 本 | S11: m3 | U11: 本 | V11: m3 | X11: 本 | Y11: % | Z11: m3 | AA11: % | AB11: cm | AC11: m3 | AD11: m3 | AE11: m3 | AF11: m3 | AG11: m3 | AH11: m3
B12: 1 | C12: ='1.収穫を予測する'!C13 -> 24 | D12: ='1.収穫を予測する'!D13 -> 15 | F12: 0 | G12: =F12+$C$5 -> 2 | H12: ='1.収穫を予測する'!H13 -> 0 | J12: =IF(OR($C$2="あり",$C$3="あり"),入力方法別計算!W2,'inv2.計算シート'!E2) -> 1 | K12: =IF('1.収穫を予測する'!K13="","",'1.収穫を予測する'!K13) | M12: =IF(J12>80,"",IF(OR($C$2="あり",$C$3="あり"),IF(入力方法別計算!AP2=0,"",入力方法別計算!AP2),IF('inv2.計算シート'!BV2=0,"",'inv2.計算シート'!BV2))) | N12: =J12 -> 1 | O12: =IF(J12>80,"",IF(OR($C$2="あり",$C$3="あり"),入力方法別計算!X2,'inv2.計算シート'!AC2)) -> 0.16734066 | P12: =IF(J12>80,"",IF(OR($C$2="あり",$C$3="あり"),入力方法別計算!AR2,'inv2.計算シート'!AO2)) -> 3.4679082e-08 | Q12: =IF('1.収穫を予測する'!C2="あり",入力方法別計算!U7,'inv3.直径階分布'!HK7) -> 0 | R12: =IF(J12>80,"",IF(OR($C$2="あり",$C$3="あり"),入力方法別計算!Y2,'inv2.計算シート'!AE2)) -> 2500.0026 | S12: =IF(J12>80,"",IF(OR($C$2="あり",$C$3="あり"),入力方法別計算!Z2,'inv2.計算シート'!AD2)) -> 8.6697793e-05 | T12: =IF(J12>80,"",IF(OR($C$2="あり",$C$3="あり"),入力方法別計算!AJ2,'inv2.計算シート'!AH2)) -> 5.1279424e-05 | U12: =IF(K12="","",IF(OR($C$2="あり",$C$3="あり"),入力方法別計算!AC2,'inv2.計算シート'!AK2)) | V12: =IF(K12="","",IF(OR($C$2="あり",$C$3="あり"),入力方法別計算!AD2,'inv2.計算シート'!AJ2)) | W12: =IF(K12="","",IF(OR($C$2="あり",$C$3="あり"),入力方法別計算!AK2,'inv2.計算シート'!AN2)) | X12: =IF(K12="","",IF(OR($C$2="あり",$C$3="あり"),入力方法別計算!AE2,'inv2.計算シート'!AM2)) | Y12: =IF(K12="","",IF(OR($C$2="あり",$C$3="あり"),入力方法別計算!AA2/0.01,'inv2.計算シート'!AF2/0.01)) | Z12: =IF(K12="","",IF(OR($C$2="あり",$C$3="あり"),入力方法別計算!AF2,'inv2.計算シート'!AL2)) | AA12: =IF(K12="","",IF(OR($C$2="あり",$C$3="あり"),入力方法別計算!AF2/入力方法別計算!Z2*100,'inv2.計算シート'!AL2/'inv2.計算シート'!AD2*100)) | AB12: =IF(K12="","",'inv3.直径階分布'!HK7) | AC12: =IF(K12="","",IF(OR($C$2="あり",$C$3="あり"),入力方法別計算!AU2,'inv2.計算シート'!AW2)) | AD12: =IF(OR($C$2="あり",$C$3="あり"),入力方法別計算!AV2,'inv2.計算シート'!AX2) -> 8.6697793e-05 | AE12: =IF(OR($C$2="あり",$C$3="あり"),入力方法別計算!AW2,'inv2.計算シート'!AY2) -> 0.0053064777 | AF12: =IF($K12="","",IF(OR($C$2="あり",$C$3="あり"),入力方法別計算!AX2,'inv2.計算シート'!AZ2)) | AG12: =IF($K12="","",IF(OR($C$2="あり",$C$3="あり"),入力方法別計算!AY2,'inv2.計算シート'!BA2)) | AH12: =IF(OR($C$2="あり",$C$3="あり"),入力方法別計算!AZ2,'inv2.計算シート'!BB2) -> 8.6697793e-05 | AI12: =IF(N12>80,"",(EXP($AF$4)*O12^$AF$3)/Q12*100) -> #DIV/0!
B13: 2 | C13: ='1.収穫を予測する'!C14 -> 24 | D13: ='1.収穫を予測する'!D14 -> 15 | F13: =G12 -> 2 | G13: =F13+$C$5 -> 4 | H13: ='1.収穫を予測する'!H14 -> 1 | J13: =IF(OR($C$2="あり",$C$3="あり"),入力方法別計算!W3,'inv2.計算シート'!E3) -> 2 | K13: =IF('1.収穫を予測する'!K14="","",'1.収穫を予測する'!K14) | M13: =IF(J13>80,"",IF(OR($C$2="あり",$C$3="あり"),IF(入力方法別計算!AP3=0,"",入力方法別計算!AP3),IF('inv2.計算シート'!BV3=0,"",'inv2.計算シート'!BV3))) | N13: =J13 -> 2 | O13: =IF(J13>80,"",IF(OR($C$2="あり",$C$3="あり"),入力方法別計算!X3,'inv2.計算シート'!AC3)) -> 0.53717628 | P13: =IF(J13>80,"",IF(OR($C$2="あり",$C$3="あり"),入力方法別計算!AR3,'inv2.計算シート'!AO3)) -> 2.1572769e-06 | Q13: =IF(Q$12>'inv3.直径階分布'!HK8,Q$12,'inv3.直径階分布'!HK8) -> 0 | R13: =IF(J13>80,"",IF(OR($C$2="あり",$C$3="あり"),入力方法別計算!Y3,'inv2.計算シート'!AE3)) -> 2499.9923 | S13: =IF(J13>80,"",IF(OR($C$2="あり",$C$3="あり"),入力方法別計算!Z3,'inv2.計算シート'!AD3)) -> 0.0053931755 | T13: =IF(J13>80,"",IF(OR($C$2="あり",$C$3="あり"),入力方法別計算!AJ3,'inv2.計算シート'!AH3)) -> 0.00087776796 | U13: =IF(K13="","",IF(OR($C$2="あり",$C$3="あり"),入力方法別計算!AC3,'inv2.計算シート'!AK3)) | V13: =IF(K13="","",IF(OR($C$2="あり",$C$3="あり"),入力方法別計算!AD3,'inv2.計算シート'!AJ3)) | W13: =IF(K13="","",IF(OR($C$2="あり",$C$3="あり"),入力方法別計算!AK3,'inv2.計算シート'!AN3)) | X13: =IF(K13="","",IF(OR($C$2="あり",$C$3="あり"),入力方法別計算!AE3,'inv2.計算シート'!AM3)) | Y13: =IF(K13="","",IF(OR($C$2="あり",$C$3="あり"),入力方法別計算!AA3/0.01,'inv2.計算シート'!AF3/0.01)) | Z13: =IF(K13="","",IF(OR($C$2="あり",$C$3="あり"),入力方法別計算!AF3,'inv2.計算シート'!AL3)) | AA13: =IF(K13="","",IF(OR($C$2="あり",$C$3="あり"),入力方法別計算!AF3/入力方法別計算!Z3*100,'inv2.計算シート'!AL3/'inv2.計算シート'!AD3*100)) | AB13: =IF(K13="","",'inv3.直径階分布'!HK8) | AC13: =IF(K13="","",IF(OR($C$2="あり",$C$3="あり"),入力方法別計算!AU3,'inv2.計算シート'!AW3)) | AD13: =IF(OR($C$2="あり",$C$3="あり"),入力方法別計算!AV3,'inv2.計算シート'!AX3) -> 0.0053931755 | AE13: =IF(OR($C$2="あり",$C$3="あり"),入力方法別計算!AW3,'inv2.計算シート'!AY3) -> 0.051148624 | AF13: =IF($K13="","",IF(OR($C$2="あり",$C$3="あり"),入力方法別計算!AX3,'inv2.計算シート'!AZ3)) | AG13: =IF($K13="","",IF(OR($C$2="あり",$C$3="あり"),入力方法別計算!AY3,'inv2.計算シート'!BA3)) | AH13: =IF(OR($C$2="あり",$C$3="あり"),入力方法別計算!AZ3,'inv2.計算シート'!BB3) -> 0.0026965877 | AI13: =IF(N13>80,"",(EXP($AF$4)*O13^$AF$3)/Q13*100) -> #DIV/0!
B14: 3 | C14: ='1.収穫を予測する'!C15 -> 24 | D14: ='1.収穫を予測する'!D15 -> 15 | F14: =G13 -> 4 | G14: =F14+$C$5 -> 6 | H14: ='1.収穫を予測する'!H15 -> 2 | J14: =IF(OR($C$2="あり",$C$3="あり"),入力方法別計算!W4,'inv2.計算シート'!E4) -> 3 | K14: =IF('1.収穫を予測する'!K15="","",'1.収穫を予測する'!K15) | M14: =IF(J14>80,"",IF(OR($C$2="あり",$C$3="あり"),IF(入力方法別計算!AP4=0,"",入力方法別計算!AP4),IF('inv2.計算シート'!BV4=0,"",'inv2.計算シート'!BV4))) | N14: =J14 -> 3 | O14: =IF(J14>80,"",IF(OR($C$2="あり",$C$3="あり"),入力方法別計算!X4,'inv2.計算シート'!AC4)) -> 1.0440624 | P14: =IF(J14>80,"",IF(OR($C$2="あり",$C$3="あり"),入力方法別計算!AR4,'inv2.計算シート'!AO4)) -> 2.2617455e-05 | Q14: =IF(Q$12>'inv3.直径階分布'!HK9,Q$12,'inv3.直径階分布'!HK9) -> 0 | R14: =IF(J14>80,"",IF(OR($C$2="あり",$C$3="あり"),入力方法別計算!Y4,'inv2.計算シート'!AE4)) -> 2499.9188 | S14: =IF(J14>80,"",IF(OR($C$2="あり",$C$3="あり"),入力方法別計算!Z4,'inv2.計算シート'!AD4)) -> 0.056541799 | T14: =IF(J14>80,"",IF(OR($C$2="あり",$C$3="あり"),入力方法別計算!AJ4,'inv2.計算シート'!AH4)) -> 0.0044086008 | U14: =IF(K14="","",IF(OR($C$2="あり",$C$3="あり"),入力方法別計算!AC4,'inv2.計算シート'!AK4)) | V14: =IF(K14="","",IF(OR($C$2="あり",$C$3="あり"),入力方法別計算!AD4,'inv2.計算シート'!AJ4)) | W14: =IF(K14="","",IF(OR($C$2="あり",$C$3="あり"),入力方法別計算!AK4,'inv2.計算シート'!AN4)) | X14: =IF(K14="","",IF(OR($C$2="あり",$C$3="あり"),入力方法別計算!AE4,'inv2.計算シート'!AM4)) | Y14: =IF(K14="","",IF(OR($C$2="あり",$C$3="あり"),入力方法別計算!AA4/0.01,'inv2.計算シート'!AF4/0.01)) | Z14: =IF(K14="","",IF(OR($C$2="あり",$C$3="あり"),入力方法別計算!AF4,'inv2.計算シート'!AL4)) | AA14: =IF(K14="","",IF(OR($C$2="あり",$C$3="あり"),入力方法別計算!AF4/入力方法別計算!Z4*100,'inv2.計算シート'!AL4/'inv2.計算シート'!AD4*100)) | AB14: =IF(K14="","",'inv3.直径階分布'!HK9) | AC14: =IF(K14="","",IF(OR($C$2="あり",$C$3="あり"),入力方法別計算!AU4,'inv2.計算シート'!AW4)) | AD14: =IF(OR($C$2="あり",$C$3="あり"),入力方法別計算!AV4,'inv2.計算シート'!AX4) -> 0.056541799 | AE14: =IF(OR($C$2="あり",$C$3="あり"),入力方法別計算!AW4,'inv2.計算シート'!AY4) -> 0.22854541 | AF14: =IF($K14="","",IF(OR($C$2="あり",$C$3="あり"),入力方法別計算!AX4,'inv2.計算シート'!AZ4)) | AG14: =IF($K14="","",IF(OR($C$2="あり",$C$3="あり"),入力方法別計算!AY4,'inv2.計算シート'!BA4)) | AH14: =IF(OR($C$2="あり",$C$3="あり"),入力方法別計算!AZ4,'inv2.計算シート'!BB4) -> 0.018847266 | AI14: =IF(N14>80,"",(EXP($AF$4)*O14^$AF$3)/Q14*100) -> #DIV/0!
B15: 4 | C15: ='1.収穫を予測する'!C16 -> 22 | D15: ='1.収穫を予測する'!D16 -> 15 | F15: =G14 -> 6 | G15: =F15+$C$5 -> 8 | H15: ='1.収穫を予測する'!H16 -> 4 | J15: =IF(OR($C$2="あり",$C$3="あり"),入力方法別計算!W5,'inv2.計算シート'!E5) -> 4 | K15: =IF('1.収穫を予測する'!K16="","",'1.収穫を予測する'!K16) | M15: =IF(J15>80,"",IF(OR($C$2="あり",$C$3="あり"),IF(入力方法別計算!AP5=0,"",入力方法別計算!AP5),IF('inv2.計算シート'!BV5=0,"",'inv2.計算シート'!BV5))) | N15: =J15 -> 4 | O15: =IF(J15>80,"",IF(OR($C$2="あり",$C$3="あり"),入力方法別計算!X5,'inv2.計算シート'!AC5)) -> 1.6527808 | P15: =IF(J15>80,"",IF(OR($C$2="あり",$C$3="あり"),入力方法別計算!AR5,'inv2.計算シート'!AO5)) -> 0.00011405357 | Q15: =IF(Q$12>'inv3.直径階分布'!HK10,Q$12,'inv3.直径階分布'!HK10) -> 0 | R15: =IF(J15>80,"",IF(OR($C$2="あり",$C$3="あり"),入力方法別計算!Y5,'inv2.計算シート'!AE5)) -> 2499.5904 | S15: =IF(J15>80,"",IF(OR($C$2="あり",$C$3="あり"),入力方法別計算!Z5,'inv2.計算シート'!AD5)) -> 0.28508721 | T15: =IF(J15>80,"",IF(OR($C$2="あり",$C$3="あり"),入力方法別計算!AJ5,'inv2.計算シート'!AH5)) -> 0.01334055 | U15: =IF(K15="","",IF(OR($C$2="あり",$C$3="あり"),入力方法別計算!AC5,'inv2.計算シート'!AK5)) | V15: =IF(K15="","",IF(OR($C$2="あり",$C$3="あり"),入力方法別計算!AD5,'inv2.計算シート'!AJ5)) | W15: =IF(K15="","",IF(OR($C$2="あり",$C$3="あり"),入力方法別計算!AK5,'inv2.計算シート'!AN5)) | X15: =IF(K15="","",IF(OR($C$2="あり",$C$3="あり"),入力方法別計算!AE5,'inv2.計算シート'!AM5)) | Y15: =IF(K15="","",IF(OR($C$2="あり",$C$3="あり"),入力方法別計算!AA5/0.01,'inv2.計算シート'!AF5/0.01)) | Z15: =IF(K15="","",IF(OR($C$2="あり",$C$3="あり"),入力方法別計算!AF5,'inv2.計算シート'!AL5)) | AA15: =IF(K15="","",IF(OR($C$2="あり",$C$3="あり"),入力方法別計算!AF5/入力方法別計算!Z5*100,'inv2.計算シート'!AL5/'inv2.計算シート'!AD5*100)) | AB15: =IF(K15="","",'inv3.直径階分布'!HK10) | AC15: =IF(K15="","",IF(OR($C$2="あり",$C$3="あり"),入力方法別計算!AU5,'inv2.計算シート'!AW5)) | AD15: =IF(OR($C$2="あり",$C$3="あり"),入力方法別計算!AV5,'inv2.計算シート'!AX5) -> 0.28508721 | AE15: =IF(OR($C$2="あり",$C$3="あり"),入力方法別計算!AW5,'inv2.計算シート'!AY5) -> 0.67409646 | AF15: =IF($K15="","",IF(OR($C$2="あり",$C$3="あり"),入力方法別計算!AX5,'inv2.計算シート'!AZ5)) | AG15: =IF($K15="","",IF(OR($C$2="あり",$C$3="あり"),入力方法別計算!AY5,'inv2.計算シート'!BA5)) | AH15: =IF(OR($C$2="あり",$C$3="あり"),入力方法別計算!AZ5,'inv2.計算シート'!BB5) -> 0.071271803 | AI15: =IF(N15>80,"",(EXP($AF$4)*O15^$AF$3)/Q15*100) -> #DIV/0!
B16: 5 | C16: ='1.収穫を予測する'!C17 -> 22 | D16: ='1.収穫を予測する'!D17 -> 0 | F16: =G15 -> 8 | G16: =F16+$C$5 -> 10 | H16: ='1.収穫を予測する'!H17 -> 9 | J16: =IF(OR($C$2="あり",$C$3="あり"),入力方法別計算!W6,'inv2.計算シート'!E6) -> 5 | K16: =IF('1.収穫を予測する'!K17="","",'1.収穫を予測する'!K17) | M16: =IF(J16>80,"",IF(OR($C$2="あり",$C$3="あり"),IF(入力方法別計算!AP6=0,"",入力方法別計算!AP6),IF('inv2.計算シート'!BV6=0,"",'inv2.計算シート'!BV6))) | N16: =J16 -> 5 | O16: =IF(J16>80,"",IF(OR($C$2="あり",$C$3="あり"),入力方法別計算!X6,'inv2.計算シート'!AC6)) -> 2.3385317 | P16: =IF(J16>80,"",IF(OR($C$2="あり",$C$3="あり"),入力方法別計算!AR6,'inv2.計算シート'!AO6)) -> 0.0003838851 | Q16: =IF(Q$12>'inv3.直径階分布'!HK11,Q$12,'inv3.直径階分布'!HK11) -> 1.4572951 | R16: =IF(J16>80,"",IF(OR($C$2="あり",$C$3="あり"),入力方法別計算!Y6,'inv2.計算シート'!AE6)) -> 2498.6217 | S16: =IF(J16>80,"",IF(OR($C$2="あり",$C$3="あり"),入力方法別計算!Z6,'inv2.計算シート'!AD6)) -> 0.95918367 | T16: =IF(J16>80,"",IF(OR($C$2="あり",$C$3="あり"),入力方法別計算!AJ6,'inv2.計算シート'!AH6)) -> 0.03041221 | U16: =IF(K16="","",IF(OR($C$2="あり",$C$3="あり"),入力方法別計算!AC6,'inv2.計算シート'!AK6)) | V16: =IF(K16="","",IF(OR($C$2="あり",$C$3="あり"),入力方法別計算!AD6,'inv2.計算シート'!AJ6)) | W16: =IF(K16="","",IF(OR($C$2="あり",$C$3="あり"),入力方法別計算!AK6,'inv2.計算シート'!AN6)) | X16: =IF(K16="","",IF(OR($C$2="あり",$C$3="あり"),入力方法別計算!AE6,'inv2.計算シート'!AM6)) | Y16: =IF(K16="","",IF(OR($C$2="あり",$C$3="あり"),入力方法別計算!AA6/0.01,'inv2.計算シート'!AF6/0.01)) | Z16: =IF(K16="","",IF(OR($C$2="あり",$C$3="あり"),入力方法別計算!AF6,'inv2.計算シート'!AL6)) | AA16: =IF(K16="","",IF(OR($C$2="あり",$C$3="あり"),入力方法別計算!AF6/入力方法別計算!Z6*100,'inv2.計算シート'!AL6/'inv2.計算シート'!AD6*100)) | AB16: =IF(K16="","",'inv3.直径階分布'!HK11) | AC16: =IF(K16="","",IF(OR($C$2="あり",$C$3="あり"),入力方法別計算!AU6,'inv2.計算シート'!AW6)) | AD16: =IF(OR($C$2="あり",$C$3="あり"),入力方法別計算!AV6,'inv2.計算シート'!AX6) -> 0.95918367 | AE16: =IF(OR($C$2="あり",$C$3="あり"),入力方法別計算!AW6,'inv2.計算シート'!AY6) -> 1.5312071 | AF16: =IF($K16="","",IF(OR($C$2="あり",$C$3="あり"),入力方法別計算!AX6,'inv2.計算シート'!AZ6)) | AG16: =IF($K16="","",IF(OR($C$2="あり",$C$3="あり"),入力方法別計算!AY6,'inv2.計算シート'!BA6)) | AH16: =IF(OR($C$2="あり",$C$3="あり"),入力方法別計算!AZ6,'inv2.計算シート'!BB6) -> 0.19183673 | AI16: =IF(N16>80,"",(EXP($AF$4)*O16^$AF$3)/Q16*100) -> 104.27266
B17: 6 | C17: ='1.収穫を予測する'!C18 -> 22 | D17: ='1.収穫を予測する'!D18 -> 15 | F17: =G16 -> 10 | G17: =F17+$C$5 -> 12 | H17: ='1.収穫を予測する'!H18 -> 9 | J17: =IF(OR($C$2="あり",$C$3="あり"),入力方法別計算!W7,'inv2.計算シート'!E7) -> 6 | K17: =IF('1.収穫を予測する'!K18="","",'1.収穫を予測する'!K18) | M17: =IF(J17>80,"",IF(OR($C$2="あり",$C$3="あり"),IF(入力方法別計算!AP7=0,"",入力方法別計算!AP7),IF('inv2.計算シート'!BV7=0,"",'inv2.計算シート'!BV7))) | N17: =J17 -> 6 | O17: =IF(J17>80,"",IF(OR($C$2="あり",$C$3="あり"),入力方法別計算!X7,'inv2.計算シート'!AC7)) -> 3.082392 | P17: =IF(J17>80,"",IF(OR($C$2="あり",$C$3="あり"),入力方法別計算!AR7,'inv2.計算シート'!AO7)) -> 0.00099758426 | Q17: =IF(Q$12>'inv3.直径階分布'!HK12,Q$12,'inv3.直径階分布'!HK12) -> 2.2891766 | R17: =IF(J17>80,"",IF(OR($C$2="あり",$C$3="あり"),入力方法別計算!Y7,'inv2.計算シート'!AE7)) -> 2496.4215 | S17: =IF(J17>80,"",IF(OR($C$2="あり",$C$3="あり"),入力方法別計算!Z7,'inv2.計算シート'!AD7)) -> 2.4903908 | T17: =IF(J17>80,"",IF(OR($C$2="あり",$C$3="あり"),入力方法別計算!AJ7,'inv2.計算シート'!AH7)) -> 0.05763536 | U17: =IF(K17="","",IF(OR($C$2="あり",$C$3="あり"),入力方法別計算!AC7,'inv2.計算シート'!AK7)) | V17: =IF(K17="","",IF(OR($C$2="あり",$C$3="あり"),入力方法別計算!AD7,'inv2.計算シート'!AJ7)) | W17: =IF(K17="","",IF(OR($C$2="あり",$C$3="あり"),入力方法別計算!AK7,'inv2.計算シート'!AN7)) | X17: =IF(K17="","",IF(OR($C$2="あり",$C$3="あり"),入力方法別計算!AE7,'inv2.計算シート'!AM7)) | Y17: =IF(K17="","",IF(OR($C$2="あり",$C$3="あり"),入力方法別計算!AA7/0.01,'inv2.計算シート'!AF7/0.01)) | Z17: =IF(K17="","",IF(OR($C$2="あり",$C$3="あり"),入力方法別計算!AF7,'inv2.計算シート'!AL7)) | AA17: =IF(K17="","",IF(OR($C$2="あり",$C$3="あり"),入力方法別計算!AF7/入力方法別計算!Z7*100,'inv2.計算シート'!AL7/'inv2.計算シート'!AD7*100)) | AB17: =IF(K17="","",'inv3.直径階分布'!HK12) | AC17: =IF(K17="","",IF(OR($C$2="あり",$C$3="あり"),入力方法別計算!AU7,'inv2.計算シート'!AW7)) | AD17: =IF(OR($C$2="あり",$C$3="あり"),入力方法別計算!AV7,'inv2.計算シート'!AX7) -> 2.4903908 | AE17: =IF(OR($C$2="あり",$C$3="あり"),入力方法別計算!AW7,'inv2.計算シート'!AY7) -> 2.9013695 | AF17: =IF($K17="","",IF(OR($C$2="あり",$C$3="あり"),入力方法別計算!AX7,'inv2.計算シート'!AZ7)) | AG17: =IF($K17="","",IF(OR($C$2="あり",$C$3="あり"),入力方法別計算!AY7,'inv2.計算シート'!BA7)) | AH17: =IF(OR($C$2="あり",$C$3="あり"),入力方法別計算!AZ7,'inv2.計算シート'!BB7) -> 0.41506514 | AI17: =IF(N17>80,"",(EXP($AF$4)*O17^$AF$3)/Q17*100) -> 90.810627
B18: 7 | C18: ='1.収穫を予測する'!C19 -> 22 | D18: ='1.収穫を予測する'!D19 -> 15 | F18: =G17 -> 12 | G18: =F18+$C$5 -> 14 | H18: ='1.収穫を予測する'!H19 -> 3 | J18: =IF(OR($C$2="あり",$C$3="あり"),入力方法別計算!W8,'inv2.計算シート'!E8) -> 7 | K18: =IF('1.収穫を予測する'!K19="","",'1.収穫を予測する'!K19) | M18: =IF(J18>80,"",IF(OR($C$2="あり",$C$3="あり"),IF(入力方法別計算!AP8=0,"",入力方法別計算!AP8),IF('inv2.計算シート'!BV8=0,"",'inv2.計算シート'!BV8))) | N18: =J18 -> 7 | O18: =IF(J18>80,"",IF(OR($C$2="あり",$C$3="あり"),入力方法別計算!X8,'inv2.計算シート'!AC8)) -> 3.8693562 | P18: =IF(J18>80,"",IF(OR($C$2="あり",$C$3="あり"),入力方法別計算!AR8,'inv2.計算シート'!AO8)) -> 0.0021634085 | Q18: =IF(Q$12>'inv3.直径階分布'!HK13,Q$12,'inv3.直径階分布'!HK13) -> 3.0616376 | R18: =IF(J18>80,"",IF(OR($C$2="あり",$C$3="あり"),入力方法別計算!Y8,'inv2.計算シート'!AE8)) -> 2492.2525 | S18: =IF(J18>80,"",IF(OR($C$2="あり",$C$3="あり"),入力方法別計算!Z8,'inv2.計算シート'!AD8)) -> 5.3917603 | T18: =IF(J18>80,"",IF(OR($C$2="あり",$C$3="あり"),入力方法別計算!AJ8,'inv2.計算シート'!AH8)) -> 0.095688596 | U18: =IF(K18="","",IF(OR($C$2="あり",$C$3="あり"),入力方法別計算!AC8,'inv2.計算シート'!AK8)) | V18: =IF(K18="","",IF(OR($C$2="あり",$C$3="あり"),入力方法別計算!AD8,'inv2.計算シート'!AJ8)) | W18: =IF(K18="","",IF(OR($C$2="あり",$C$3="あり"),入力方法別計算!AK8,'inv2.計算シート'!AN8)) | X18: =IF(K18="","",IF(OR($C$2="あり",$C$3="あり"),入力方法別計算!AE8,'inv2.計算シート'!AM8)) | Y18: =IF(K18="","",IF(OR($C$2="あり",$C$3="あり"),入力方法別計算!AA8/0.01,'inv2.計算シート'!AF8/0.01)) | Z18: =IF(K18="","",IF(OR($C$2="あり",$C$3="あり"),入力方法別計算!AF8,'inv2.計算シート'!AL8)) | AA18: =IF(K18="","",IF(OR($C$2="あり",$C$3="あり"),入力方法別計算!AF8/入力方法別計算!Z8*100,'inv2.計算シート'!AL8/'inv2.計算シート'!AD8*100)) | AB18: =IF(K18="","",'inv3.直径階分布'!HK13) | AC18: =IF(K18="","",IF(OR($C$2="あり",$C$3="あり"),入力方法別計算!AU8,'inv2.計算シート'!AW8)) | AD18: =IF(OR($C$2="あり",$C$3="あり"),入力方法別計算!AV8,'inv2.計算シート'!AX8) -> 5.3917603 | AE18: =IF(OR($C$2="あり",$C$3="あり"),入力方法別計算!AW8,'inv2.計算シート'!AY8) -> 4.8064293 | AF18: =IF($K18="","",IF(OR($C$2="あり",$C$3="あり"),入力方法別計算!AX8,'inv2.計算シート'!AZ8)) | AG18: =IF($K18="","",IF(OR($C$2="あり",$C$3="あり"),入力方法別計算!AY8,'inv2.計算シート'!BA8)) | AH18: =IF(OR($C$2="あり",$C$3="あり"),入力方法別計算!AZ8,'inv2.計算シート'!BB8) -> 0.77025148 | AI18: =IF(N18>80,"",(EXP($AF$4)*O18^$AF$3)/Q18*100) -> 87.884475
B19: 8 | C19: ='1.収穫を予測する'!C20 -> 20 | D19: ='1.収穫を予測する'!D20 -> 15 | F19: =G18 -> 14 | G19: =F19+$C$5 -> 16 | H19: ='1.収穫を予測する'!H20 -> 2 | J19: =IF(OR($C$2="あり",$C$3="あり"),入力方法別計算!W9,'inv2.計算シート'!E9) -> 8 | K19: =IF('1.収穫を予測する'!K20="","",'1.収穫を予測する'!K20) | M19: =IF(J19>80,"",IF(OR($C$2="あり",$C$3="あり"),IF(入力方法別計算!AP9=0,"",入力方法別計算!AP9),IF('inv2.計算シート'!BV9=0,"",'inv2.計算シート'!BV9))) | N19: =J19 -> 8 | O19: =IF(J19>80,"",IF(OR($C$2="あり",$C$3="あり"),入力方法別計算!X9,'inv2.計算シート'!AC9)) -> 4.6872678 | P19: =IF(J19>80,"",IF(OR($C$2="あり",$C$3="あり"),入力方法別計算!AR9,'inv2.計算シート'!AO9)) -> 0.0041033277 | Q19: =IF(Q$12>'inv3.直径階分布'!HK14,Q$12,'inv3.直径階分布'!HK14) -> 3.9062208 | R19: =IF(J19>80,"",IF(OR($C$2="あり",$C$3="あり"),入力方法別計算!Y9,'inv2.計算シート'!AE9)) -> 2485.3461 | S19: =IF(J19>80,"",IF(OR($C$2="あり",$C$3="あり"),入力方法別計算!Z9,'inv2.計算シート'!AD9)) -> 10.19819 | T19: =IF(J19>80,"",IF(OR($C$2="あり",$C$3="あり"),入力方法別計算!AJ9,'inv2.計算シート'!AH9)) -> 0.14369382 | U19: =IF(K19="","",IF(OR($C$2="あり",$C$3="あり"),入力方法別計算!AC9,'inv2.計算シート'!AK9)) | V19: =IF(K19="","",IF(OR($C$2="あり",$C$3="あり"),入力方法別計算!AD9,'inv2.計算シート'!AJ9)) | W19: =IF(K19="","",IF(OR($C$2="あり",$C$3="あり"),入力方法別計算!AK9,'inv2.計算シート'!AN9)) | X19: =IF(K19="","",IF(OR($C$2="あり",$C$3="あり"),入力方法別計算!AE9,'inv2.計算シート'!AM9)) | Y19: =IF(K19="","",IF(OR($C$2="あり",$C$3="あり"),入力方法別計算!AA9/0.01,'inv2.計算シート'!AF9/0.01)) | Z19: =IF(K19="","",IF(OR($C$2="あり",$C$3="あり"),入力方法別計算!AF9,'inv2.計算シート'!AL9)) | AA19: =IF(K19="","",IF(OR($C$2="あり",$C$3="あり"),入力方法別計算!AF9/入力方法別計算!Z9*100,'inv2.計算シート'!AL9/'inv2.計算シート'!AD9*100)) | AB19: =IF(K19="","",'inv3.直径階分布'!HK14) | AC19: =IF(K19="","",IF(OR($C$2="あり",$C$3="あり"),入力方法別計算!AU9,'inv2.計算シート'!AW9)) | AD19: =IF(OR($C$2="あり",$C$3="あり"),入力方法別計算!AV9,'inv2.計算シート'!AX9) -> 10.19819 | AE19: =IF(OR($C$2="あり",$C$3="あり"),入力方法別計算!AW9,'inv2.計算シート'!AY9) -> 7.1773345 | AF19: =IF($K19="","",IF(OR($C$2="あり",$C$3="あり"),入力方法別計算!AX9,'inv2.計算シート'!AZ9)) | AG19: =IF($K19="","",IF(OR($C$2="あり",$C$3="あり"),入力方法別計算!AY9,'inv2.計算シート'!BA9)) | AH19: =IF(OR($C$2="あり",$C$3="あり"),入力方法別計算!AZ9,'inv2.計算シート'!BB9) -> 1.2747737 | AI19: =IF(N19>80,"",(EXP($AF$4)*O19^$AF$3)/Q19*100) -> 85.626064
B20: 9 | C20: ='1.収穫を予測する'!C21 -> 20 | D20: ='1.収穫を予測する'!D21 -> 15 | F20: =G19 -> 16 | G20: =F20+$C$5 -> 18 | H20: ='1.収穫を予測する'!H21 -> 2 | J20: =IF(OR($C$2="あり",$C$3="あり"),入力方法別計算!W10,'inv2.計算シート'!E10) -> 9 | K20: =IF('1.収穫を予測する'!K21="","",'1.収穫を予測する'!K21) | M20: =IF(J20>80,"",IF(OR($C$2="あり",$C$3="あり"),IF(入力方法別計算!AP10=0,"",入力方法別計算!AP10),IF('inv2.計算シート'!BV10=0,"",'inv2.計算シート'!BV10))) | N20: =J20 -> 9 | O20: =IF(J20>80,"",IF(OR($C$2="あり",$C$3="あり"),入力方法別計算!X10,'inv2.計算シート'!AC10)) -> 5.5261547 | P20: =IF(J20>80,"",IF(OR($C$2="あり",$C$3="あり"),入力方法別計算!AR10,'inv2.計算シート'!AO10)) -> 0.0070203204 | Q20: =IF(Q$12>'inv3.直径階分布'!HK15,Q$12,'inv3.直径階分布'!HK15) -> 4.7774971 | R20: =IF(J20>80,"",IF(OR($C$2="あり",$C$3="あり"),入力方法別計算!Y10,'inv2.計算シート'!AE10)) -> 2475.0329 | S20: =IF(J20>80,"",IF(OR($C$2="あり",$C$3="あり"),入力方法別計算!Z10,'inv2.計算シート'!AD10)) -> 17.375524 | T20: =IF(J20>80,"",IF(OR($C$2="あり",$C$3="あり"),入力方法別計算!AJ10,'inv2.計算シート'!AH10)) -> 0.19946353 | U20: =IF(K20="","",IF(OR($C$2="あり",$C$3="あり"),入力方法別計算!AC10,'inv2.計算シート'!AK10)) | V20: =IF(K20="","",IF(OR($C$2="あり",$C$3="あり"),入力方法別計算!AD10,'inv2.計算シート'!AJ10)) | W20: =IF(K20="","",IF(OR($C$2="あり",$C$3="あり"),入力方法別計算!AK10,'inv2.計算シート'!AN10)) | X20: =IF(K20="","",IF(OR($C$2="あり",$C$3="あり"),入力方法別計算!AE10,'inv2.計算シート'!AM10)) | Y20: =IF(K20="","",IF(OR($C$2="あり",$C$3="あり"),入力方法別計算!AA10/0.01,'inv2.計算シート'!AF10/0.01)) | Z20: =IF(K20="","",IF(OR($C$2="あり",$C$3="あり"),入力方法別計算!AF10,'inv2.計算シート'!AL10)) | AA20: =IF(K20="","",IF(OR($C$2="あり",$C$3="あり"),入力方法別計算!AF10/入力方法別計算!Z10*100,'inv2.計算シート'!AL10/'inv2.計算シート'!AD10*100)) | AB20: =IF(K20="","",'inv3.直径階分布'!HK15) | AC20: =IF(K20="","",IF(OR($C$2="あり",$C$3="あり"),入力方法別計算!AU10,'inv2.計算シート'!AW10)) | AD20: =IF(OR($C$2="あり",$C$3="あり"),入力方法別計算!AV10,'inv2.計算シート'!AX10) -> 17.375524 | AE20: =IF(OR($C$2="あり",$C$3="あり"),入力方法別計算!AW10,'inv2.計算シート'!AY10) -> 9.8722867 | AF20: =IF($K20="","",IF(OR($C$2="あり",$C$3="あり"),入力方法別計算!AX10,'inv2.計算シート'!AZ10)) | AG20: =IF($K20="","",IF(OR($C$2="あり",$C$3="あり"),入力方法別計算!AY10,'inv2.計算シート'!BA10)) | AH20: =IF(OR($C$2="あり",$C$3="あり"),入力方法別計算!AZ10,'inv2.計算シート'!BB10) -> 1.9306138 | AI20: =IF(N20>80,"",(EXP($AF$4)*O20^$AF$3)/Q20*100) -> 84.390823
B21: 10 | C21: ='1.収穫を予測する'!C22 -> 18 | D21: ='1.収穫を予測する'!D22 -> 15 | F21: =G20 -> 18 | G21: =F21+$C$5 -> 20 | H21: ='1.収穫を予測する'!H22 -> 4 | J21: =IF(OR($C$2="あり",$C$3="あり"),入力方法別計算!W11,'inv2.計算シート'!E11) -> 10 | K21: =IF('1.収穫を予測する'!K22="","",'1.収穫を予測する'!K22) | M21: =IF(J21>80,"",IF(OR($C$2="あり",$C$3="あり"),IF(入力方法別計算!AP11=0,"",入力方法別計算!AP11),IF('inv2.計算シート'!BV11=0,"",'inv2.計算シート'!BV11))) | N21: =J21 -> 10 | O21: =IF(J21>80,"",IF(OR($C$2="あり",$C$3="あり"),入力方法別計算!X11,'inv2.計算シート'!AC11)) -> 6.3777757 | P21: =IF(J21>80,"",IF(OR($C$2="あり",$C$3="あり"),入力方法別計算!AR11,'inv2.計算シート'!AO11)) -> 0.011072532 | Q21: =IF(Q$12>'inv3.直径階分布'!HK16,Q$12,'inv3.直径階分布'!HK16) -> 5.638316 | R21: =IF(J21>80,"",IF(OR($C$2="あり",$C$3="あり"),入力方法別計算!Y11,'inv2.計算シート'!AE11)) -> 2460.8473 | S21: =IF(J21>80,"",IF(OR($C$2="あり",$C$3="あり"),入力方法別計算!Z11,'inv2.計算シート'!AD11)) -> 27.247811 | T21: =IF(J21>80,"",IF(OR($C$2="あり",$C$3="あり"),入力方法別計算!AJ11,'inv2.計算シート'!AH11)) -> 0.26008802 | U21: =IF(K21="","",IF(OR($C$2="あり",$C$3="あり"),入力方法別計算!AC11,'inv2.計算シート'!AK11)) | V21: =IF(K21="","",IF(OR($C$2="あり",$C$3="あり"),入力方法別計算!AD11,'inv2.計算シート'!AJ11)) | W21: =IF(K21="","",IF(OR($C$2="あり",$C$3="あり"),入力方法別計算!AK11,'inv2.計算シート'!AN11)) | X21: =IF(K21="","",IF(OR($C$2="あり",$C$3="あり"),入力方法別計算!AE11,'inv2.計算シート'!AM11)) | Y21: =IF(K21="","",IF(OR($C$2="あり",$C$3="あり"),入力方法別計算!AA11/0.01,'inv2.計算シート'!AF11/0.01)) | Z21: =IF(K21="","",IF(OR($C$2="あり",$C$3="あり"),入力方法別計算!AF11,'inv2.計算シート'!AL11)) | AA21: =IF(K21="","",IF(OR($C$2="あり",$C$3="あり"),入力方法別計算!AF11/入力方法別計算!Z11*100,'inv2.計算シート'!AL11/'inv2.計算シート'!AD11*100)) | AB21: =IF(K21="","",'inv3.直径階分布'!HK16) | AC21: =IF(K21="","",IF(OR($C$2="あり",$C$3="あり"),入力方法別計算!AU11,'inv2.計算シート'!AW11)) | AD21: =IF(OR($C$2="あり",$C$3="あり"),入力方法別計算!AV11,'inv2.計算シート'!AX11) -> 27.247811 | AE21: =IF(OR($C$2="あり",$C$3="あり"),入力方法別計算!AW11,'inv2.計算シート'!AY11) -> 12.713726 | AF21: =IF($K21="","",IF(OR($C$2="あり",$C$3="あり"),入力方法別計算!AX11,'inv2.計算シート'!AZ11)) | AG21: =IF($K21="","",IF(OR($C$2="あり",$C$3="あり"),入力方法別計算!AY11,'inv2.計算シート'!BA11)) | AH21: =IF(OR($C$2="あり",$C$3="あり"),入力方法別計算!AZ11,'inv2.計算シート'!BB11) -> 2.7247811 | AI21: =IF(N21>80,"",(EXP($AF$4)*O21^$AF$3)/Q21*100) -> 84.134743
B22: 11 | C22: ='1.収穫を予測する'!C23 -> 20 | D22: ='1.収穫を予測する'!D23 -> 14 | F22: =G21 -> 20 | G22: =F22+$C$5 -> 22 | H22: ='1.収穫を予測する'!H23 -> 2 | J22: =IF(OR($C$2="あり",$C$3="あり"),入力方法別計算!W12,'inv2.計算シート'!E12) -> 11 | K22: =IF('1.収穫を予測する'!K23="","",'1.収穫を予測する'!K23) | M22: =IF(J22>80,"",IF(OR($C$2="あり",$C$3="あり"),IF(入力方法別計算!AP12=0,"",入力方法別計算!AP12),IF('inv2.計算シート'!BV12=0,"",'inv2.計算シート'!BV12))) | N22: =J22 -> 11 | O22: =IF(J22>80,"",IF(OR($C$2="あり",$C$3="あり"),入力方法別計算!X12,'inv2.計算シート'!AC12)) -> 7.2352937 | P22: =IF(J22>80,"",IF(OR($C$2="あり",$C$3="あり"),入力方法別計算!AR12,'inv2.計算シート'!AO12)) -> 0.016360388 | Q22: =IF(Q$12>'inv3.直径階分布'!HK17,Q$12,'inv3.直径階分布'!HK17) -> 6.5263806 | R22: =IF(J22>80,"",IF(OR($C$2="あり",$C$3="あり"),入力方法別計算!Y12,'inv2.計算シート'!AE12)) -> 2442.5788 | S22: =IF(J22>80,"",IF(OR($C$2="あり",$C$3="あり"),入力方法別計算!Z12,'inv2.計算シート'!AD12)) -> 39.961537 | T22: =IF(J22>80,"",IF(OR($C$2="あり",$C$3="あり"),入力方法別計算!AJ12,'inv2.計算シート'!AH12)) -> 0.32259312 | U22: =IF(K22="","",IF(OR($C$2="あり",$C$3="あり"),入力方法別計算!AC12,'inv2.計算シート'!AK12)) | V22: =IF(K22="","",IF(OR($C$2="あり",$C$3="あり"),入力方法別計算!AD12,'inv2.計算シート'!AJ12)) | W22: =IF(K22="","",IF(OR($C$2="あり",$C$3="あり"),入力方法別計算!AK12,'inv2.計算シート'!AN12)) | X22: =IF(K22="","",IF(OR($C$2="あり",$C$3="あり"),入力方法別計算!AE12,'inv2.計算シート'!AM12)) | Y22: =IF(K22="","",IF(OR($C$2="あり",$C$3="あり"),入力方法別計算!AA12/0.01,'inv2.計算シート'!AF12/0.01)) | Z22: =IF(K22="","",IF(OR($C$2="あり",$C$3="あり"),入力方法別計算!AF12,'inv2.計算シート'!AL12)) | AA22: =IF(K22="","",IF(OR($C$2="あり",$C$3="あり"),入力方法別計算!AF12/入力方法別計算!Z12*100,'inv2.計算シート'!AL12/'inv2.計算シート'!AD12*100)) | AB22: =IF(K22="","",'inv3.直径階分布'!HK17) | AC22: =IF(K22="","",IF(OR($C$2="あり",$C$3="あり"),入力方法別計算!AU12,'inv2.計算シート'!AW12)) | AD22: =IF(OR($C$2="あり",$C$3="あり"),入力方法別計算!AV12,'inv2.計算シート'!AX12) -> 39.961537 | AE22: =IF(OR($C$2="あり",$C$3="あり"),入力方法別計算!AW12,'inv2.計算シート'!AY12) -> 15.527406 | AF22: =IF($K22="","",IF(OR($C$2="あり",$C$3="あり"),入力方法別計算!AX12,'inv2.計算シート'!AZ12)) | AG22: =IF($K22="","",IF(OR($C$2="あり",$C$3="あり"),入力方法別計算!AY12,'inv2.計算シート'!BA12)) | AH22: =IF(OR($C$2="あり",$C$3="あり"),入力方法別計算!AZ12,'inv2.計算シート'!BB12) -> 3.632867 | AI22: =IF(N22>80,"",(EXP($AF$4)*O22^$AF$3)/Q22*100) -> 83.872129
B23: 12 | C23: ='1.収穫を予測する'!C24 -> 20 | D23: ='1.収穫を予測する'!D24 -> 14 | F23: =G22 -> 22 | G23: =F23+$C$5 -> 24 | H23: ='1.収穫を予測する'!H24 -> 2 | J23: =IF(OR($C$2="あり",$C$3="あり"),入力方法別計算!W13,'inv2.計算シート'!E13) -> 12 | K23: =IF('1.収穫を予測する'!K24="","",'1.収穫を予測する'!K24) | M23: =IF(J23>80,"",IF(OR($C$2="あり",$C$3="あり"),IF(入力方法別計算!AP13=0,"",入力方法別計算!AP13),IF('inv2.計算シート'!BV13=0,"",'inv2.計算シート'!BV13))) | N23: =J23 -> 12 | O23: =IF(J23>80,"",IF(OR($C$2="あり",$C$3="あり"),入力方法別計算!X13,'inv2.計算シート'!AC13)) -> 8.0930289 | P23: =IF(J23>80,"",IF(OR($C$2="あり",$C$3="あり"),入力方法別計算!AR13,'inv2.計算シート'!AO13)) -> 0.022926783 | Q23: =IF(Q$12>'inv3.直径階分布'!HK18,Q$12,'inv3.直径階分布'!HK18) -> 7.4224674 | R23: =IF(J23>80,"",IF(OR($C$2="あり",$C$3="あり"),入力方法別計算!Y13,'inv2.計算シート'!AE13)) -> 2420.2673 | S23: =IF(J23>80,"",IF(OR($C$2="あり",$C$3="あり"),入力方法別計算!Z13,'inv2.計算シート'!AD13)) -> 55.488943 | T23: =IF(J23>80,"",IF(OR($C$2="あり",$C$3="あり"),入力方法別計算!AJ13,'inv2.計算シート'!AH13)) -> 0.38443317 | U23: =IF(K23="","",IF(OR($C$2="あり",$C$3="あり"),入力方法別計算!AC13,'inv2.計算シート'!AK13)) | V23: =IF(K23="","",IF(OR($C$2="あり",$C$3="あり"),入力方法別計算!AD13,'inv2.計算シート'!AJ13)) | W23: =IF(K23="","",IF(OR($C$2="あり",$C$3="あり"),入力方法別計算!AK13,'inv2.計算シート'!AN13)) | X23: =IF(K23="","",IF(OR($C$2="あり",$C$3="あり"),入力方法別計算!AE13,'inv2.計算シート'!AM13)) | Y23: =IF(K23="","",IF(OR($C$2="あり",$C$3="あり"),入力方法別計算!AA13/0.01,'inv2.計算シート'!AF13/0.01)) | Z23: =IF(K23="","",IF(OR($C$2="あり",$C$3="あり"),入力方法別計算!AF13,'inv2.計算シート'!AL13)) | AA23: =IF(K23="","",IF(OR($C$2="あり",$C$3="あり"),入力方法別計算!AF13/入力方法別計算!Z13*100,'inv2.計算シート'!AL13/'inv2.計算シート'!AD13*100)) | AB23: =IF(K23="","",'inv3.直径階分布'!HK18) | AC23: =IF(K23="","",IF(OR($C$2="あり",$C$3="あり"),入力方法別計算!AU13,'inv2.計算シート'!AW13)) | AD23: =IF(OR($C$2="あり",$C$3="あり"),入力方法別計算!AV13,'inv2.計算シート'!AX13) -> 55.488943 | AE23: =IF(OR($C$2="あり",$C$3="あり"),入力方法別計算!AW13,'inv2.計算シート'!AY13) -> 18.170404 | AF23: =IF($K23="","",IF(OR($C$2="あり",$C$3="あり"),入力方法別計算!AX13,'inv2.計算シート'!AZ13)) | AG23: =IF($K23="","",IF(OR($C$2="あり",$C$3="あり"),入力方法別計算!AY13,'inv2.計算シート'!BA13)) | AH23: =IF(OR($C$2="あり",$C$3="あり"),入力方法別計算!AZ13,'inv2.計算シート'!BB13) -> 4.6240786 | AI23: =IF(N23>80,"",(EXP($AF$4)*O23^$AF$3)/Q23*100) -> 83.743138
B24: 13 | C24: ='1.収穫を予測する'!C25 -> 20 | D24: ='1.収穫を予測する'!D25 -> 14 | F24: =G23 -> 24 | G24: =F24+$C$5 -> 26 | H24: ='1.収穫を予測する'!H25 -> 0 | J24: =IF(OR($C$2="あり",$C$3="あり"),入力方法別計算!W14,'inv2.計算シート'!E14) -> 13 | K24: =IF('1.収穫を予測する'!K25="","",'1.収穫を予測する'!K25) | M24: =IF(J24>80,"",IF(OR($C$2="あり",$C$3="あり"),IF(入力方法別計算!AP14=0,"",入力方法別計算!AP14),IF('inv2.計算シート'!BV14=0,"",'inv2.計算シート'!BV14))) | N24: =J24 -> 13 | O24: =IF(J24>80,"",IF(OR($C$2="あり",$C$3="あり"),入力方法別計算!X14,'inv2.計算シート'!AC14)) -> 8.9462666 | P24: =IF(J24>80,"",IF(OR($C$2="あり",$C$3="あり"),入力方法別計算!AR14,'inv2.計算シート'!AO14)) -> 0.030766284 | Q24: =IF(Q$12>'inv3.直径階分布'!HK19,Q$12,'inv3.直径階分布'!HK19) -> 8.3148272 | R24: =IF(J24>80,"",IF(OR($C$2="あり",$C$3="あり"),入力方法別計算!Y14,'inv2.計算シート'!AE14)) -> 2394.1581 | S24: =IF(J24>80,"",IF(OR($C$2="あり",$C$3="あり"),入力方法別計算!Z14,'inv2.計算シート'!AD14)) -> 73.659347 | T24: =IF(J24>80,"",IF(OR($C$2="あり",$C$3="あり"),入力方法別計算!AJ14,'inv2.計算シート'!AH14)) -> 0.44372711 | U24: =IF(K24="","",IF(OR($C$2="あり",$C$3="あり"),入力方法別計算!AC14,'inv2.計算シート'!AK14)) | V24: =IF(K24="","",IF(OR($C$2="あり",$C$3="あり"),入力方法別計算!AD14,'inv2.計算シート'!AJ14)) | W24: =IF(K24="","",IF(OR($C$2="あり",$C$3="あり"),入力方法別計算!AK14,'inv2.計算シート'!AN14)) | X24: =IF(K24="","",IF(OR($C$2="あり",$C$3="あり"),入力方法別計算!AE14,'inv2.計算シート'!AM14)) | Y24: =IF(K24="","",IF(OR($C$2="あり",$C$3="あり"),入力方法別計算!AA14/0.01,'inv2.計算シート'!AF14/0.01)) | Z24: =IF(K24="","",IF(OR($C$2="あり",$C$3="あり"),入力方法別計算!AF14,'inv2.計算シート'!AL14)) | AA24: =IF(K24="","",IF(OR($C$2="あり",$C$3="あり"),入力方法別計算!AF14/入力方法別計算!Z14*100,'inv2.計算シート'!AL14/'inv2.計算シート'!AD14*100)) | AB24: =IF(K24="","",'inv3.直径階分布'!HK19) | AC24: =IF(K24="","",IF(OR($C$2="あり",$C$3="あり"),入力方法別計算!AU14,'inv2.計算シート'!AW14)) | AD24: =IF(OR($C$2="あり",$C$3="あり"),入力方法別計算!AV14,'inv2.計算シート'!AX14) -> 73.659347 | AE24: =IF(OR($C$2="あり",$C$3="あり"),入力方法別計算!AW14,'inv2.計算シート'!AY14) -> 20.543514 | AF24: =IF($K24="","",IF(OR($C$2="あり",$C$3="あり"),入力方法別計算!AX14,'inv2.計算シート'!AZ14)) | AG24: =IF($K24="","",IF(OR($C$2="あり",$C$3="あり"),入力方法別計算!AY14,'inv2.計算シート'!BA14)) | AH24: =IF(OR($C$2="あり",$C$3="あり"),入力方法別計算!AZ14,'inv2.計算シート'!BB14) -> 5.6661036 | AI24: =IF(N24>80,"",(EXP($AF$4)*O24^$AF$3)/Q24*100) -> 83.760159
... B91: 80 | C91: ='1.収穫を予測する'!C92 -> 0 | D91: ='1.収穫を予測する'!D92 -> 0 | F91: =G90 -> 158 | G91: =F91+$C$5 -> 160 | H91: ='1.収穫を予測する'!H92 -> 0 | J91: =IF(OR($C$2="あり",$C$3="あり"),入力方法別計算!W81,'inv2.計算シート'!E81) -> 80 | K91: =IF('1.収穫を予測する'!K92="","",'1.収穫を予測する'!K92) | M91: =IF(J91>80,"",IF(OR($C$2="あり",$C$3="あり"),IF(入力方法別計算!AP81=0,"",入力方法別計算!AP81),IF('inv2.計算シート'!BV81=0,"",'inv2.計算シート'!BV81))) | N91: =J91 -> 80 | O91: =IF(J91>80,"",IF(OR($C$2="あり",$C$3="あり"),入力方法別計算!X81,'inv2.計算シート'!AC81)) -> 31.068134 | P91: =IF(J91>80,"",IF(OR($C$2="あり",$C$3="あり"),入力方法別計算!AR81,'inv2.計算シート'!AO81)) -> 0.98667004 | Q91: =IF(Q$12>'inv3.直径階分布'!HK86,Q$12,'inv3.直径階分布'!HK86) -> 33.154998 | R91: =IF(J91>80,"",IF(OR($C$2="あり",$C$3="あり"),入力方法別計算!Y81,'inv2.計算シート'!AE81)) -> 1034.0163 | S91: =IF(J91>80,"",IF(OR($C$2="あり",$C$3="あり"),入力方法別計算!Z81,'inv2.計算シート'!AD81)) -> 1020.2329 | T91: =IF(J91>80,"",IF(OR($C$2="あり",$C$3="あり"),入力方法別計算!AJ81,'inv2.計算シート'!AH81)) -> 1.001515 | U91: =IF(K91="","",IF(OR($C$2="あり",$C$3="あり"),入力方法別計算!AC81,'inv2.計算シート'!AK81)) | V91: =IF(K91="","",IF(OR($C$2="あり",$C$3="あり"),入力方法別計算!AD81,'inv2.計算シート'!AJ81)) | W91: =IF(K91="","",IF(OR($C$2="あり",$C$3="あり"),入力方法別計算!AK81,'inv2.計算シート'!AN81)) | X91: =IF(K91="","",IF(OR($C$2="あり",$C$3="あり"),入力方法別計算!AE81,'inv2.計算シート'!AM81)) | Y91: =IF(K91="","",IF(OR($C$2="あり",$C$3="あり"),入力方法別計算!AA81/0.01,'inv2.計算シート'!AF81/0.01)) | Z91: =IF(K91="","",IF(OR($C$2="あり",$C$3="あり"),入力方法別計算!AF81,'inv2.計算シート'!AL81)) | AA91: =IF(K91="","",IF(OR($C$2="あり",$C$3="あり"),入力方法別計算!AF81/入力方法別計算!Z81*100,'inv2.計算シート'!AL81/'inv2.計算シート'!AD81*100)) | AB91: =IF(K91="","",'inv3.直径階分布'!HK86) | AC91: =IF(K91="","",IF(OR($C$2="あり",$C$3="あり"),入力方法別計算!AU81,'inv2.計算シート'!AW81)) | AD91: =IF(OR($C$2="あり",$C$3="あり"),入力方法別計算!AV81,'inv2.計算シート'!AX81) -> 1020.2329 | AE91: =IF(OR($C$2="あり",$C$3="あり"),入力方法別計算!AW81,'inv2.計算シート'!AY81) -> 0 | AF91: =IF($K91="","",IF(OR($C$2="あり",$C$3="あり"),入力方法別計算!AX81,'inv2.計算シート'!AZ81)) | AG91: =IF($K91="","",IF(OR($C$2="あり",$C$3="あり"),入力方法別計算!AY81,'inv2.計算シート'!BA81)) | AH91: =IF(OR($C$2="あり",$C$3="あり"),入力方法別計算!AZ81,'inv2.計算シート'!BB81) -> 12.752911 | AI91: =IF(N91>80,"",(EXP($AF$4)*O91^$AF$3)/Q91*100) -> 86.263987
B92: 81 | C92: ='1.収穫を予測する'!C93 -> 0 | D92: ='1.収穫を予測する'!D93 -> 0 | F92: =G91 -> 160 | G92: =F92+$C$5 -> 162 | H92: ='1.収穫を予測する'!H93 -> 0
B93: 82 | C93: ='1.収穫を予測する'!C94 -> 0 | D93: ='1.収穫を予測する'!D94 -> 0 | F93: =G92 -> 162 | G93: =F93+$C$5 -> 164 | H93: ='1.収穫を予測する'!H94 -> 0
B94: 83 | C94: ='1.収穫を予測する'!C95 -> 0 | D94: ='1.収穫を予測する'!D95 -> 0 | F94: =G93 -> 164 | G94: =F94+$C$5 -> 166 | H94: ='1.収穫を予測する'!H95 -> 0
B95: 84 | C95: ='1.収穫を予測する'!C96 -> 0 | D95: ='1.収穫を予測する'!D96 -> 0 | F95: =G94 -> 166 | G95: =F95+$C$5 -> 168 | H95: ='1.収穫を予測する'!H96 -> 0
B96: 85 | C96: ='1.収穫を予測する'!C97 -> 0 | D96: ='1.収穫を予測する'!D97 -> 0 | F96: =G95 -> 168 | G96: =F96+$C$5 -> 170 | H96: ='1.収穫を予測する'!H97 -> 0
B97: 86 | C97: ='1.収穫を予測する'!C98 -> 0 | D97: ='1.収穫を予測する'!D98 -> 0 | F97: =G96 -> 170 | G97: =F97+$C$5 -> 172 | H97: ='1.収穫を予測する'!H98 -> 0
B98: 87 | C98: ='1.収穫を予測する'!C99 -> 0 | D98: ='1.収穫を予測する'!D99 -> 0 | F98: =G97 -> 172 | G98: =F98+$C$5 -> 174 | H98: ='1.収穫を予測する'!H99 -> 0
B99: 88 | C99: ='1.収穫を予測する'!C100 -> 0 | D99: ='1.収穫を予測する'!D100 -> 0 | F99: =G98 -> 174 | G99: =F99+$C$5 -> 176 | H99: ='1.収穫を予測する'!H100 -> 0
B100: 89 | C100: ='1.収穫を予測する'!C101 -> 0 | D100: ='1.収穫を予測する'!D101 -> 0 | F100: =G99 -> 176 | G100: =F100+$C$5 -> 178 | H100: ='1.収穫を予測する'!H101 -> 0
B101: 90 | C101: ='1.収穫を予測する'!C102 -> 0 | D101: ='1.収穫を予測する'!D102 -> 0 | F101: =G100 -> 178 | G101: =F101+$C$5 -> 180 | H101: ='1.収穫を予測する'!H102 -> 0
B102: 91 | C102: ='1.収穫を予測する'!C103 -> 0 | D102: ='1.収穫を予測する'!D103 -> 0 | F102: =G101 -> 180 | G102: =F102+$C$5 -> 182 | H102: ='1.収穫を予測する'!H103 -> 0
B103: 92 | C103: ='1.収穫を予測する'!C104 -> 0 | D103: ='1.収穫を予測する'!D104 -> 0 | F103: =G102 -> 182 | G103: =F103+$C$5 -> 184 | H103: ='1.収穫を予測する'!H104 -> 0
... B111: 100 | C111: ='1.収穫を予測する'!C112 -> 0 | D111: ='1.収穫を予測する'!D112 -> 0 | F111: =G110 -> 198 | G111: =F111+$C$5 -> 200 | H111: ='1.収穫を予測する'!H112 -> 0
B112: 101 | C112: ='1.収穫を予測する'!C113 -> 0 | D112: ='1.収穫を予測する'!D113 -> 0
B113: 102 | C113: ='1.収穫を予測する'!C114 -> 0 | D113: ='1.収穫を予測する'!D114 -> 0
...

Sheet 2.径級分布
J1: 最小値 | L1: 間隔
B2: 地位指数 | D2: ='1.収穫を予測する'!G3 -> 25 | I2: 直径階 | J2: 0 | K2: cm | L2: 2 | M2: cm
B4: 2.1 間伐前径級分布
B5: cm以上 | C5: ='inv3.直径階分布'!N2 -> 0 | D5: ='inv3.直径階分布'!O2 -> 2 | E5: ='inv3.直径階分布'!P2 -> 4 | F5: ='inv3.直径階分布'!Q2 -> 6 | G5: ='inv3.直径階分布'!R2 -> 8 | H5: ='inv3.直径階分布'!S2 -> 10 | I5: ='inv3.直径階分布'!T2 -> 12 | J5: ='inv3.直径階分布'!U2 -> 14 | ... AB5: ='inv3.直径階分布'!AM2 -> 50
B6: cm未満 | C6: ='inv3.直径階分布'!O2 -> 2 | D6: ='inv3.直径階分布'!P2 -> 4 | E6: ='inv3.直径階分布'!Q2 -> 6 | F6: ='inv3.直径階分布'!R2 -> 8 | G6: ='inv3.直径階分布'!S2 -> 10 | H6: ='inv3.直径階分布'!T2 -> 12 | I6: ='inv3.直径階分布'!U2 -> 14 | J6: ='inv3.直径階分布'!V2 -> 16 | ... AB6: ='inv3.直径階分布'!AN2 -> 52
