Workbook

Sheet parameter
A1: Coefficients: | B1: Estimate
A2: D09:rh3 | B2: 0.665759
A3: D09:rh2 | B3: -1.5389
A4: D09:rh | B4: 1.920926
A5: D09:rh3:Ht | B5: 0
A6: D09:rh3:dbh | B6: 0
A7: D09:Ht:rh2 | B7: -0.017192
A8: D09:dbh:rh2 | B8: 0.007478
A9: D09:Ht:rh | B9: 0.015884
A10: D09:dbh:rh | B10: -0.006335
A12: D-b | B12: =細り計算!$D$3-(0.000431*細り計算!$D$3^3-0.03171*細り計算!$D$3^2+1.073582*細り計算!$D$3)/10 -> 18.776436
A13: D0.9 | B13: =$B$12/((parameter!$B$2+parameter!$B$5*細り計算!D$4+parameter!$B$6*細り計算!$D$3)*((細り計算!D$4-1.3)/(細り計算!D$4))^3+(parameter!$B$3+parameter!$B$7*細り計算!D$4+parameter!$B$8*細り計算!$D$3)*((細り計算!D$4-1.3)/(細り計算!D$4))^2+(parameter!$B$4+parameter!$B$9*細り計算!D$4+parameter!$B$10*細り計算!$D$3)*((細り計算!D$4-1.3)/(細り計算!D$4))) -> 18.650821

Sheet 細り計算
C1: 「北海道カラマツ細り表」自動計算シートVer.2.0
B3: 胸高直径 (cm) | D3: 20 | E3: ← 8～56の値を入力
B4: 樹高 (m) | D4: 22 | E4: ← 6～35の値を入力
B6: 玉番 | C6: 材長(m) | D6: 地上高(m) | E6: 末口直径(cm) | G6: 胸高直径(皮付き)，樹高を入力し，追い上げと玉番ごとの材長を入力すると，玉番ごとの末口の地上高と皮なし直径の推定値を計算します。 途中に追い上げが入る場合は，追い上げの材長を入力してください。 材長には，伸びも加えた値を入力してください。 胸高直径と樹高の値は，入力セルの横に記載した範囲外でも予測は可能ですが，精度は保証されません。 (c) 2010-2015 地方独立行政法人 北海道立総合研究機構 森林研究本部林業試験場 無断転載・配布を禁ずる。
B7: 追上げ | C7: 0.3 | D7: =C7 -> 0.3
B8: １番玉 | C8: 3.7 | D8: =IF(C8>0,IF(D7="","",IF(D7+C8>=$D$4,"",D7+C8)),"") -> 4 | E8: =IF(D8="","",parameter!B$13*((parameter!$B$2+parameter!$B$5*D$4+parameter!$B$6*$D$3)*((D$4-$D8)/(D$4))^3+(parameter!$B$3+parameter!$B$7*D$4+parameter!$B$8*$D$3)*((D$4-$D8)/(D$4))^2+(parameter!$B$4+parameter!$B$9*D$4+parameter!$B$10*$D$3)*((D$4-$D8)/(D$4)))) -> 17.44433
B9: ２ 〃 | C9: 3.7 | D9: =IF(C9>0,IF(D8="","",IF(D8+C9>=$D$4,"",D8+C9)),"") -> 7.7 | E9: =IF(D9="","",parameter!B$13*((parameter!$B$2+parameter!$B$5*D$4+parameter!$B$6*$D$3)*((D$4-$D9)/(D$4))^3+(parameter!$B$3+parameter!$B$7*D$4+parameter!$B$8*$D$3)*((D$4-$D9)/(D$4))^2+(parameter!$B$4+parameter!$B$9*D$4+parameter!$B$10*$D$3)*((D$4-$D9)/(D$4)))) -> 15.469483
B10: ３ 〃 | C10: 0.5 | D10: =IF(C10>0,IF(D9="","",IF(D9+C10>=$D$4,"",D9+C10)),"") -> 8.2 | E10: =IF(D10="","",parameter!B$13*((parameter!$B$2+parameter!$B$5*D$4+parameter!$B$6*$D$3)*((D$4-$D10)/(D$4))^3+(parameter!$B$3+parameter!$B$7*D$4+parameter!$B$8*$D$3)*((D$4-$D10)/(D$4))^2+(parameter!$B$4+parameter!$B$9*D$4+parameter!$B$10*$D$3)*((D$4-$D10)/(D$4)))) -> 15.172468
B11: ４ 〃 | C11: 2 | D11: =IF(C11>0,IF(D10="","",IF(D10+C11>=$D$4,"",D10+C11)),"") -> 10.2 | E11: =IF(D11="","",parameter!B$13*((parameter!$B$2+parameter!$B$5*D$4+parameter!$B$6*$D$3)*((D$4-$D11)/(D$4))^3+(parameter!$B$3+parameter!$B$7*D$4+parameter!$B$8*$D$3)*((D$4-$D11)/(D$4))^2+(parameter!$B$4+parameter!$B$9*D$4+parameter!$B$10*$D$3)*((D$4-$D11)/(D$4)))) -> 13.876489
B12: ５ 〃 | C12: 3.7 | D12: =IF(C12>0,IF(D11="","",IF(D11+C12>=$D$4,"",D11+C12)),"") -> 13.9 | E12: =IF(D12="","",parameter!B$13*((parameter!$B$2+parameter!$B$5*D$4+parameter!$B$6*$D$3)*((D$4-$D12)/(D$4))^3+(parameter!$B$3+parameter!$B$7*D$4+parameter!$B$8*$D$3)*((D$4-$D12)/(D$4))^2+(parameter!$B$4+parameter!$B$9*D$4+parameter!$B$10*$D$3)*((D$4-$D12)/(D$4)))) -> 10.871239
B13: ６ 〃 | C13: 2 | D13: =IF(C13>0,IF(D12="","",IF(D12+C13>=$D$4,"",D12+C13)),"") -> 15.9 | E13: =IF(D13="","",parameter!B$13*((parameter!$B$2+parameter!$B$5*D$4+parameter!$B$6*$D$3)*((D$4-$D13)/(D$4))^3+(parameter!$B$3+parameter!$B$7*D$4+parameter!$B$8*$D$3)*((D$4-$D13)/(D$4))^2+(parameter!$B$4+parameter!$B$9*D$4+parameter!$B$10*$D$3)*((D$4-$D13)/(D$4)))) -> 8.8159364
B14: ７ 〃 | C14: 2 | D14: =IF(C14>0,IF(D13="","",IF(D13+C14>=$D$4,"",D13+C14)),"") -> 17.9 | E14: =IF(D14="","",parameter!B$13*((parameter!$B$2+parameter!$B$5*D$4+parameter!$B$6*$D$3)*((D$4-$D14)/(D$4))^3+(parameter!$B$3+parameter!$B$7*D$4+parameter!$B$8*$D$3)*((D$4-$D14)/(D$4))^2+(parameter!$B$4+parameter!$B$9*D$4+parameter!$B$10*$D$3)*((D$4-$D14)/(D$4)))) -> 6.386454
B15: ８ 〃 | C15: 2 | D15: =IF(C15>0,IF(D14="","",IF(D14+C15>=$D$4,"",D14+C15)),"") -> 19.9 | E15: =IF(D15="","",parameter!B$13*((parameter!$B$2+parameter!$B$5*D$4+parameter!$B$6*$D$3)*((D$4-$D15)/(D$4))^3+(parameter!$B$3+parameter!$B$7*D$4+parameter!$B$8*$D$3)*((D$4-$D15)/(D$4))^2+(parameter!$B$4+parameter!$B$9*D$4+parameter!$B$10*$D$3)*((D$4-$D15)/(D$4)))) -> 3.5268177
B16: ９ 〃 | D16: =IF(C16>0,IF(D15="","",IF(D15+C16>=$D$4,"",D15+C16)),"") | E16: =IF(D16="","",parameter!B$13*((parameter!$B$2+parameter!$B$5*D$4+parameter!$B$6*$D$3)*((D$4-$D16)/(D$4))^3+(parameter!$B$3+parameter!$B$7*D$4+parameter!$B$8*$D$3)*((D$4-$D16)/(D$4))^2+(parameter!$B$4+parameter!$B$9*D$4+parameter!$B$10*$D$3)*((D$4-$D16)/(D$4))))
B17: 10 〃 | D17: =IF(C17>0,IF(D16="","",IF(D16+C17>=$D$4,"",D16+C17)),"") | E17: =IF(D17="","",parameter!B$13*((parameter!$B$2+parameter!$B$5*D$4+parameter!$B$6*$D$3)*((D$4-$D17)/(D$4))^3+(parameter!$B$3+parameter!$B$7*D$4+parameter!$B$8*$D$3)*((D$4-$D17)/(D$4))^2+(parameter!$B$4+parameter!$B$9*D$4+parameter!$B$10*$D$3)*((D$4-$D17)/(D$4))))
B18: 11 〃 | D18: =IF(C18>0,IF(D17="","",IF(D17+C18>=$D$4,"",D17+C18)),"") | E18: =IF(D18="","",parameter!B$13*((parameter!$B$2+parameter!$B$5*D$4+parameter!$B$6*$D$3)*((D$4-$D18)/(D$4))^3+(parameter!$B$3+parameter!$B$7*D$4+parameter!$B$8*$D$3)*((D$4-$D18)/(D$4))^2+(parameter!$B$4+parameter!$B$9*D$4+parameter!$B$10*$D$3)*((D$4-$D18)/(D$4))))
B19: 12 〃 | D19: =IF(C19>0,IF(D18="","",IF(D18+C19>=$D$4,"",D18+C19)),"") | E19: =IF(D19="","",parameter!B$13*((parameter!$B$2+parameter!$B$5*D$4+parameter!$B$6*$D$3)*((D$4-$D19)/(D$4))^3+(parameter!$B$3+parameter!$B$7*D$4+parameter!$B$8*$D$3)*((D$4-$D19)/(D$4))^2+(parameter!$B$4+parameter!$B$9*D$4+parameter!$B$10*$D$3)*((D$4-$D19)/(D$4))))
B20: 13 〃 | D20: =IF(C20>0,IF(D19="","",IF(D19+C20>=$D$4,"",D19+C20)),"") | E20: =IF(D20="","",parameter!B$13*((parameter!$B$2+parameter!$B$5*D$4+parameter!$B$6*$D$3)*((D$4-$D20)/(D$4))^3+(parameter!$B$3+parameter!$B$7*D$4+parameter!$B$8*$D$3)*((D$4-$D20)/(D$4))^2+(parameter!$B$4+parameter!$B$9*D$4+parameter!$B$10*$D$3)*((D$4-$D20)/(D$4))))
B21: 14 〃 | D21: =IF(C21>0,IF(D20="","",IF(D20+C21>=$D$4,"",D20+C21)),"") | E21: =IF(D21="","",parameter!B$13*((parameter!$B$2+parameter!$B$5*D$4+parameter!$B$6*$D$3)*((D$4-$D21)/(D$4))^3+(parameter!$B$3+parameter!$B$7*D$4+parameter!$B$8*$D$3)*((D$4-$D21)/(D$4))^2+(parameter!$B$4+parameter!$B$9*D$4+parameter!$B$10*$D$3)*((D$4-$D21)/(D$4))))
B22: 15 〃 | D22: =IF(C22>0,IF(D21="","",IF(D21+C22>=$D$4,"",D21+C22)),"") | E22: =IF(D22="","",parameter!B$13*((parameter!$B$2+parameter!$B$5*D$4+parameter!$B$6*$D$3)*((D$4-$D22)/(D$4))^3+(parameter!$B$3+parameter!$B$7*D$4+parameter!$B$8*$D$3)*((D$4-$D22)/(D$4))^2+(parameter!$B$4+parameter!$B$9*D$4+parameter!$B$10*$D$3)*((D$4-$D22)/(D$4))))
B23: 16 〃 | D23: =IF(C23>0,IF(D22="","",IF(D22+C23>=$D$4,"",D22+C23)),"") | E23: =IF(D23="","",parameter!B$13*((parameter!$B$2+parameter!$B$5*D$4+parameter!$B$6*$D$3)*((D$4-$D23)/(D$4))^3+(parameter!$B$3+parameter!$B$7*D$4+parameter!$B$8*$D$3)*((D$4-$D23)/(D$4))^2+(parameter!$B$4+parameter!$B$9*D$4+parameter!$B$10*$D$3)*((D$4-$D23)/(D$4))))
B24: 17 〃 | D24: =IF(C24>0,IF(D23="","",IF(D23+C24>=$D$4,"",D23+C24)),"") | E24: =IF(D24="","",parameter!B$13*((parameter!$B$2+parameter!$B$5*D$4+parameter!$B$6*$D$3)*((D$4-$D24)/(D$4))^3+(parameter!$B$3+parameter!$B$7*D$4+parameter!$B$8*$D$3)*((D$4-$D24)/(D$4))^2+(parameter!$B$4+parameter!$B$9*D$4+parameter!$B$10*$D$3)*((D$4-$D24)/(D$4))))
B25: 18 〃 | D25: =IF(C25>0,IF(D24="","",IF(D24+C25>=$D$4,"",D24+C25)),"") | E25: =IF(D25="","",parameter!B$13*((parameter!$B$2+parameter!$B$5*D$4+parameter!$B$6*$D$3)*((D$4-$D25)/(D$4))^3+(parameter!$B$3+parameter!$B$7*D$4+parameter!$B$8*$D$3)*((D$4-$D25)/(D$4))^2+(parameter!$B$4+parameter!$B$9*D$4+parameter!$B$10*$D$3)*((D$4-$D25)/(D$4))))
B26: 19 〃 | D26: =IF(C26>0,IF(D25="","",IF(D25+C26>=$D$4,"",D25+C26)),"") | E26: =IF(D26="","",parameter!B$13*((parameter!$B$2+parameter!$B$5*D$4+parameter!$B$6*$D$3)*((D$4-$D26)/(D$4))^3+(parameter!$B$3+parameter!$B$7*D$4+parameter!$B$8*$D$3)*((D$4-$D26)/(D$4))^2+(parameter!$B$4+parameter!$B$9*D$4+parameter!$B$10*$D$3)*((D$4-$D26)/(D$4))))
B27: 20 〃 | D27: =IF(C27>0,IF(D26="","",IF(D26+C27>=$D$4,"",D26+C27)),"") | E27: =IF(D27="","",parameter!B$13*((parameter!$B$2+parameter!$B$5*D$4+parameter!$B$6*$D$3)*((D$4-$D27)/(D$4))^3+(parameter!$B$3+parameter!$B$7*D$4+parameter!$B$8*$D$3)*((D$4-$D27)/(D$4))^2+(parameter!$B$4+parameter!$B$9*D$4+parameter!$B$10*$D$3)*((D$4-$D27)/(D$4))))
