Workbook

Sheet 入力シート
B2: 林齢 | D2: 28 | E2: 年
B3: 標準地面積 | D3: 0.04 | E3: ha
B4: 主伐予定林齢１ | D4: 60 | E4: 年 | L4: 主伐予定林齢２ | M4: 80 | N4: 年
B5: 育成目標径級１ | D5: 34 | E5: cm | L5: 育成目標径級２ | M5: 42 | N5: cm
B6: 地位指数 | D6: =IF(OR(計算シート!$C$5="",計算シート!$C$5<1),"",計算シート!$C$5) -> 26.781277
L8: 主伐予定林齢１における立木ごとの 胸高直径の推定値と将来木の候補 | U8: 主伐予定林齢２における立木ごとの 胸高直径の推定値と将来木の候補
D9: =COUNT($D$12:$D$309) -> 37 | E9: 本/標準地 | H9: =SUM(H12:H311) -> 7.1165117 | I9: m3/標準地 | M9: =COUNTIF($M$12:$M$309,"〇") -> 9 | N9: 本/標準地 | Q9: =SUM(Q12:Q311) -> 12.487235 | R9: m3/標準地 | V9: =COUNTIF($V$12:$V$309,"〇") -> 6 | W9: 本/標準地 | Z9: =SUM(Z12:Z311) -> 12.923263 | AA9: m3/標準地 | AC9: 将来木施業による80年生時の育成目標径級と 仕立て本数の目安
D10: =D9*1/D3 -> 925 | E10: 本/ha | H10: =H9*1/D3 -> 177.91279 | I10: m3/ha | K10: 主伐予定林齢１ （年） | M10: =M9*1/D3 -> 225 | N10: 本/ha | Q10: =Q9*1/D3 -> 312.18087 | R10: m3/ha | T10: 主伐予定林齢２ （年） | V10: =V9*1/D3 -> 150 | W10: 本/ha | Z10: =Z9*1/D3 -> 323.08157 | AA10: m3/ha
B11: ID | C11: 個体番号 | D11: 胸高直径 cm | E11: 樹高 m | F11: 枝下高 m | G11: 著しい欠点木には"1"を入力 | H11: 単材積(m3) | J11: 樹冠長 m | K11: =IF(D4="","",D4) -> 60 | L11: 胸高直径 cm | M11: 将来木候補 | N11: 優先的に間伐 する範囲(m) | O11: 樹高(m) | P11: 単材積(m3) | Q11: 単材積(m3) | T11: =IF(M4="","",M4) -> 80 | U11: 胸高直径 cm | V11: 将来木候補 | W11: 優先的に間伐 する範囲(m) | X11: 樹高(m) | Y11: 単材積(m3) | Z11: 単材積(m3) | AC11: 地位指数 | AD11: 育成目標径級 (cm) | AE11: 本数（/ha)
B12: 1 | C12: 29 | D12: 22.3 | E12: 22.8 | F12: 16.1 | H12: =IF(D12="","",((D12^2)*PI()/40000)*F12*(((0.435719+0.515867/F12+2.481278/(F12^2))+(0.439004+0.916461/D12-0.073809/D12^2))/2)) -> 0.3009795 | J12: =IF(OR(E12<1,$D$2=""),"",E12-F12) -> 6.7 | L12: =IF($K$11="","",HLOOKUP(K$11,計算シート!$AE$1235:$CR$1535,$B12+1)) -> 37.452085 | M12: =IF(L12="","",IF(AND(L12>=$D$5,$G12=""),"〇","")) -> 〇 | N12: =IF(M12="","",0.0775*L12+0.2546) -> 3.1571366 | O12: =IF(OR($D12<1,$D$3=""),"",HLOOKUP(入力シート!$K$11,計算シート!$AE$15:$CR$317,$B12+3)) -> 30.458771 | P12: =IF(O12="","",((L12^2)*PI()/40000)*O12*(((0.435719+0.515867/O12+2.481278/(O12^2))+(0.439004+0.916461/L12-0.073809/L12^2))/2)) -> 1.5414251 | Q12: =IF(M12="〇",P12,"") -> 1.5414251 | U12: =IF($T$11="","",HLOOKUP(T$11,計算シート!$AE$1235:$CR$1535,$B12+1)) -> 44.666542 | V12: =IF(U12="","",IF(AND(U12>=$M$5,$G12=""),"〇","")) -> 〇 | W12: =IF(V12="","",0.0775*U12+0.2546) -> 3.716257 | X12: =IF(OR($D12<1,$D$3=""),"",HLOOKUP(入力シート!$T$11,計算シート!$AE$15:$CR$317,$B12+3)) -> 31.830539 | Y12: =IF(X12="","",((U12^2)*PI()/40000)*X12*(((0.435719+0.515867/X12+2.481278/(X12^2))+(0.439004+0.916461/U12-0.073809/U12^2))/2)) -> 2.2790191 | Z12: =IF(V12="〇",Y12,"") -> 2.2790191 | AC12: 18-20未満 | AD12: 34 | AE12: 325-350
B13: 2 | C13: 19 | D13: 23.8 | E13: 22.7 | F13: 14.5 | H13: =IF(D13="","",((D13^2)*PI()/40000)*F13*(((0.435719+0.515867/F13+2.481278/(F13^2))+(0.439004+0.916461/D13-0.073809/D13^2))/2)) -> 0.30979132 | J13: =IF(OR(E13<1,$D$2=""),"",E13-F13) -> 8.2 | L13: =IF($K$11="","",HLOOKUP(K$11,計算シート!$AE$1235:$CR$1535,$B13+1)) -> 39.200729 | M13: =IF(L13="","",IF(AND(L13>=$D$5,$G13=""),"〇","")) -> 〇 | N13: =IF(M13="","",0.0775*L13+0.2546) -> 3.2926565 | O13: =IF(OR($D13<1,$D$3=""),"",HLOOKUP(入力シート!$K$11,計算シート!$AE$15:$CR$317,$B13+3)) -> 30.301095 | P13: =IF(O13="","",((L13^2)*PI()/40000)*O13*(((0.435719+0.515867/O13+2.481278/(O13^2))+(0.439004+0.916461/L13-0.073809/L13^2))/2)) -> 1.6782068 | Q13: =IF(M13="〇",P13,"") -> 1.6782068 | U13: =IF($T$11="","",HLOOKUP(T$11,計算シート!$AE$1235:$CR$1535,$B13+1)) -> 46.583829 | V13: =IF(U13="","",IF(AND(U13>=$M$5,$G13=""),"〇","")) -> 〇 | W13: =IF(V13="","",0.0775*U13+0.2546) -> 3.8648467 | X13: =IF(OR($D13<1,$D$3=""),"",HLOOKUP(入力シート!$T$11,計算シート!$AE$15:$CR$317,$B13+3)) -> 31.662532 | Y13: =IF(X13="","",((U13^2)*PI()/40000)*X13*(((0.435719+0.515867/X13+2.481278/(X13^2))+(0.439004+0.916461/U13-0.073809/U13^2))/2)) -> 2.4638175 | Z13: =IF(V13="〇",Y13,"") -> 2.4638175 | AC13: 20-22 〃 | AD13: 36 | AE13: 300-325
B14: 3 | C14: 15 | D14: 21.5 | E14: 22.7 | F14: 15 | G14: 1 | H14: =IF(D14="","",((D14^2)*PI()/40000)*F14*(((0.435719+0.515867/F14+2.481278/(F14^2))+(0.439004+0.916461/D14-0.073809/D14^2))/2)) -> 0.26210647 | J14: =IF(OR(E14<1,$D$2=""),"",E14-F14) -> 7.7 | L14: =IF($K$11="","",HLOOKUP(K$11,計算シート!$AE$1235:$CR$1535,$B14+1)) -> 36.310311 | M14: =IF(L14="","",IF(AND(L14>=$D$5,$G14=""),"〇","")) | N14: =IF(M14="","",0.0775*L14+0.2546) | O14: =IF(OR($D14<1,$D$3=""),"",HLOOKUP(入力シート!$K$11,計算シート!$AE$15:$CR$317,$B14+3)) -> 30.235399 | P14: =IF(O14="","",((L14^2)*PI()/40000)*O14*(((0.435719+0.515867/O14+2.481278/(O14^2))+(0.439004+0.916461/L14-0.073809/L14^2))/2)) -> 1.439705 | Q14: =IF(M14="〇",P14,"") | U14: =IF($T$11="","",HLOOKUP(T$11,計算シート!$AE$1235:$CR$1535,$B14+1)) -> 43.402131 | V14: =IF(U14="","",IF(AND(U14>=$M$5,$G14=""),"〇","")) | W14: =IF(V14="","",0.0775*U14+0.2546) | X14: =IF(OR($D14<1,$D$3=""),"",HLOOKUP(入力シート!$T$11,計算シート!$AE$15:$CR$317,$B14+3)) -> 31.585069 | Y14: =IF(X14="","",((U14^2)*PI()/40000)*X14*(((0.435719+0.515867/X14+2.481278/(X14^2))+(0.439004+0.916461/U14-0.073809/U14^2))/2)) -> 2.1369981 | Z14: =IF(V14="〇",Y14,"") | AC14: 22-24 〃 | AD14: 38 | AE14: 275-300
B15: 4 | C15: 16 | D15: 21.2 | E15: 22.5 | F15: 12.1 | H15: =IF(D15="","",((D15^2)*PI()/40000)*F15*(((0.435719+0.515867/F15+2.481278/(F15^2))+(0.439004+0.916461/D15-0.073809/D15^2))/2)) -> 0.20872555 | J15: =IF(OR(E15<1,$D$2=""),"",E15-F15) -> 10.4 | L15: =IF($K$11="","",HLOOKUP(K$11,計算シート!$AE$1235:$CR$1535,$B15+1)) -> 35.970601 | M15: =IF(L15="","",IF(AND(L15>=$D$5,$G15=""),"〇","")) -> 〇 | N15: =IF(M15="","",0.0775*L15+0.2546) -> 3.0423216 | O15: =IF(OR($D15<1,$D$3=""),"",HLOOKUP(入力シート!$K$11,計算シート!$AE$15:$CR$317,$B15+3)) -> 29.981787 | P15: =IF(O15="","",((L15^2)*PI()/40000)*O15*(((0.435719+0.515867/O15+2.481278/(O15^2))+(0.439004+0.916461/L15-0.073809/L15^2))/2)) -> 1.4016923 | Q15: =IF(M15="〇",P15,"") -> 1.4016923 | U15: =IF($T$11="","",HLOOKUP(T$11,計算シート!$AE$1235:$CR$1535,$B15+1)) -> 43.100875 | V15: =IF(U15="","",IF(AND(U15>=$M$5,$G15=""),"〇","")) -> 〇 | W15: =IF(V15="","",0.0775*U15+0.2546) -> 3.5949178 | X15: =IF(OR($D15<1,$D$3=""),"",HLOOKUP(入力シート!$T$11,計算シート!$AE$15:$CR$317,$B15+3)) -> 31.321854 | Y15: =IF(X15="","",((U15^2)*PI()/40000)*X15*(((0.435719+0.515867/X15+2.481278/(X15^2))+(0.439004+0.916461/U15-0.073809/U15^2))/2)) -> 2.0906183 | Z15: =IF(V15="〇",Y15,"") -> 2.0906183 | AC15: 24-26 〃 | AD15: 40 | AE15: 250-275
B16: 5 | C16: 10 | D16: 20.4 | E16: 22.1 | F16: 15.9 | H16: =IF(D16="","",((D16^2)*PI()/40000)*F16*(((0.435719+0.515867/F16+2.481278/(F16^2))+(0.439004+0.916461/D16-0.073809/D16^2))/2)) -> 0.24990231 | J16: =IF(OR(E16<1,$D$2=""),"",E16-F16) -> 6.2 | L16: =IF($K$11="","",HLOOKUP(K$11,計算シート!$AE$1235:$CR$1535,$B16+1)) -> 34.53483 | M16: =IF(L16="","",IF(AND(L16>=$D$5,$G16=""),"〇","")) -> 〇 | N16: =IF(M16="","",0.0775*L16+0.2546) -> 2.9310493 | O16: =IF(OR($D16<1,$D$3=""),"",HLOOKUP(入力シート!$K$11,計算シート!$AE$15:$CR$317,$B16+3)) -> 29.529661 | P16: =IF(O16="","",((L16^2)*PI()/40000)*O16*(((0.435719+0.515867/O16+2.481278/(O16^2))+(0.439004+0.916461/L16-0.073809/L16^2))/2)) -> 1.2744847 | Q16: =IF(M16="〇",P16,"") -> 1.2744847 | U16: =IF($T$11="","",HLOOKUP(T$11,計算シート!$AE$1235:$CR$1535,$B16+1)) -> 41.26513 | V16: =IF(U16="","",IF(AND(U16>=$M$5,$G16=""),"〇","")) | W16: =IF(V16="","",0.0775*U16+0.2546) | X16: =IF(OR($D16<1,$D$3=""),"",HLOOKUP(入力シート!$T$11,計算シート!$AE$15:$CR$317,$B16+3)) -> 30.860391 | Y16: =IF(X16="","",((U16^2)*PI()/40000)*X16*(((0.435719+0.515867/X16+2.481278/(X16^2))+(0.439004+0.916461/U16-0.073809/U16^2))/2)) -> 1.8907013 | Z16: =IF(V16="〇",Y16,"") | AC16: 26-28 〃 | AD16: 42 | AE16: 225-250
B17: 6 | C17: 21 | D17: 23 | E17: 21.9 | F17: 12.1 | H17: =IF(D17="","",((D17^2)*PI()/40000)*F17*(((0.435719+0.515867/F17+2.481278/(F17^2))+(0.439004+0.916461/D17-0.073809/D17^2))/2)) -> 0.24483001 | J17: =IF(OR(E17<1,$D$2=""),"",E17-F17) -> 9.8 | L17: =IF($K$11="","",HLOOKUP(K$11,計算シート!$AE$1235:$CR$1535,$B17+1)) -> 37.967936 | M17: =IF(L17="","",IF(AND(L17>=$D$5,$G17=""),"〇","")) -> 〇 | N17: =IF(M17="","",0.0775*L17+0.2546) -> 3.197115 | O17: =IF(OR($D17<1,$D$3=""),"",HLOOKUP(入力シート!$K$11,計算シート!$AE$15:$CR$317,$B17+3)) -> 29.281394 | P17: =IF(O17="","",((L17^2)*PI()/40000)*O17*(((0.435719+0.515867/O17+2.481278/(O17^2))+(0.439004+0.916461/L17-0.073809/L17^2))/2)) -> 1.5238872 | Q17: =IF(M17="〇",P17,"") -> 1.5238872 | U17: =IF($T$11="","",HLOOKUP(T$11,計算シート!$AE$1235:$CR$1535,$B17+1)) -> 45.189679 | V17: =IF(U17="","",IF(AND(U17>=$M$5,$G17=""),"〇","")) -> 〇 | W17: =IF(V17="","",0.0775*U17+0.2546) -> 3.7568001 | X17: =IF(OR($D17<1,$D$3=""),"",HLOOKUP(入力シート!$T$11,計算シート!$AE$15:$CR$317,$B17+3)) -> 30.60348 | Y17: =IF(X17="","",((U17^2)*PI()/40000)*X17*(((0.435719+0.515867/X17+2.481278/(X17^2))+(0.439004+0.916461/U17-0.073809/U17^2))/2)) -> 2.2442958 | Z17: =IF(V17="〇",Y17,"") -> 2.2442958 | AC17: 28-30 〃 | AD17: 44 | AE17: 200-225
B18: 7 | C18: 20 | D18: 20.5 | E18: 21.8 | F18: 14.6 | G18: 1 | H18: =IF(D18="","",((D18^2)*PI()/40000)*F18*(((0.435719+0.515867/F18+2.481278/(F18^2))+(0.439004+0.916461/D18-0.073809/D18^2))/2)) -> 0.23280883 | J18: =IF(OR(E18<1,$D$2=""),"",E18-F18) -> 7.2 | L18: =IF($K$11="","",HLOOKUP(K$11,計算シート!$AE$1235:$CR$1535,$B18+1)) -> 34.550731 | M18: =IF(L18="","",IF(AND(L18>=$D$5,$G18=""),"〇","")) | N18: =IF(M18="","",0.0775*L18+0.2546) | O18: =IF(OR($D18<1,$D$3=""),"",HLOOKUP(入力シート!$K$11,計算シート!$AE$15:$CR$317,$B18+3)) -> 29.12004 | P18: =IF(O18="","",((L18^2)*PI()/40000)*O18*(((0.435719+0.515867/O18+2.481278/(O18^2))+(0.439004+0.916461/L18-0.073809/L18^2))/2)) -> 1.2583922 | Q18: =IF(M18="〇",P18,"") | U18: =IF($T$11="","",HLOOKUP(T$11,計算シート!$AE$1235:$CR$1535,$B18+1)) -> 41.280707 | V18: =IF(U18="","",IF(AND(U18>=$M$5,$G18=""),"〇","")) | W18: =IF(V18="","",0.0775*U18+0.2546) | X18: =IF(OR($D18<1,$D$3=""),"",HLOOKUP(入力シート!$T$11,計算シート!$AE$15:$CR$317,$B18+3)) -> 30.431137 | Y18: =IF(X18="","",((U18^2)*PI()/40000)*X18*(((0.435719+0.515867/X18+2.481278/(X18^2))+(0.439004+0.916461/U18-0.073809/U18^2))/2)) -> 1.8664242 | Z18: =IF(V18="〇",Y18,"") | AC18: 30-32 〃 | AD18: 46 | AE18: 175-200
B19: 8 | C19: 4 | D19: 21.2 | E19: 21.6 | F19: 13.5 | H19: =IF(D19="","",((D19^2)*PI()/40000)*F19*(((0.435719+0.515867/F19+2.481278/(F19^2))+(0.439004+0.916461/D19-0.073809/D19^2))/2)) -> 0.23102808 | J19: =IF(OR(E19<1,$D$2=""),"",E19-F19) -> 8.1 | L19: =IF($K$11="","",HLOOKUP(K$11,計算シート!$AE$1235:$CR$1535,$B19+1)) -> 35.412623 | M19: =IF(L19="","",IF(AND(L19>=$D$5,$G19=""),"〇","")) -> 〇 | N19: =IF(M19="","",0.0775*L19+0.2546) -> 2.9990783 | O19: =IF(OR($D19<1,$D$3=""),"",HLOOKUP(入力シート!$K$11,計算シート!$AE$15:$CR$317,$B19+3)) -> 28.871299 | P19: =IF(O19="","",((L19^2)*PI()/40000)*O19*(((0.435719+0.515867/O19+2.481278/(O19^2))+(0.439004+0.916461/L19-0.073809/L19^2))/2)) -> 1.3100415 | Q19: =IF(M19="〇",P19,"") -> 1.3100415 | U19: =IF($T$11="","",HLOOKUP(T$11,計算シート!$AE$1235:$CR$1535,$B19+1)) -> 42.245366 | V19: =IF(U19="","",IF(AND(U19>=$M$5,$G19=""),"〇","")) -> 〇 | W19: =IF(V19="","",0.0775*U19+0.2546) -> 3.5286158 | X19: =IF(OR($D19<1,$D$3=""),"",HLOOKUP(入力シート!$T$11,計算シート!$AE$15:$CR$317,$B19+3)) -> 30.173666 | Y19: =IF(X19="","",((U19^2)*PI()/40000)*X19*(((0.435719+0.515867/X19+2.481278/(X19^2))+(0.439004+0.916461/U19-0.073809/U19^2))/2)) -> 1.9374707 | Z19: =IF(V19="〇",Y19,"") -> 1.9374707
B20: 9 | C20: 2 | D20: 20.6 | E20: 21.5 | F20: 14.9 | H20: =IF(D20="","",((D20^2)*PI()/40000)*F20*(((0.435719+0.515867/F20+2.481278/(F20^2))+(0.439004+0.916461/D20-0.073809/D20^2))/2)) -> 0.23957088 | J20: =IF(OR(E20<1,$D$2=""),"",E20-F20) -> 6.6 | L20: =IF($K$11="","",HLOOKUP(K$11,計算シート!$AE$1235:$CR$1535,$B20+1)) -> 34.493735 | M20: =IF(L20="","",IF(AND(L20>=$D$5,$G20=""),"〇","")) -> 〇 | N20: =IF(M20="","",0.0775*L20+0.2546) -> 2.9278644 | O20: =IF(OR($D20<1,$D$3=""),"",HLOOKUP(入力シート!$K$11,計算シート!$AE$15:$CR$317,$B20+3)) -> 28.719173 | P20: =IF(O20="","",((L20^2)*PI()/40000)*O20*(((0.435719+0.515867/O20+2.481278/(O20^2))+(0.439004+0.916461/L20-0.073809/L20^2))/2)) -> 1.2374786 | Q20: =IF(M20="〇",P20,"") -> 1.2374786 | U20: =IF($T$11="","",HLOOKUP(T$11,計算シート!$AE$1235:$CR$1535,$B20+1)) -> 41.138935 | V20: =IF(U20="","",IF(AND(U20>=$M$5,$G20=""),"〇","")) | W20: =IF(V20="","",0.0775*U20+0.2546) | X20: =IF(OR($D20<1,$D$3=""),"",HLOOKUP(入力シート!$T$11,計算シート!$AE$15:$CR$317,$B20+3)) -> 30.012203 | Y20: =IF(X20="","",((U20^2)*PI()/40000)*X20*(((0.435719+0.515867/X20+2.481278/(X20^2))+(0.439004+0.916461/U20-0.073809/U20^2))/2)) -> 1.8288824 | Z20: =IF(V20="〇",Y20,"")
B21: 10 | C21: 27 | D21: 22.5 | E21: 21.4 | F21: 13.5 | G21: 1 | H21: =IF(D21="","",((D21^2)*PI()/40000)*F21*(((0.435719+0.515867/F21+2.481278/(F21^2))+(0.439004+0.916461/D21-0.073809/D21^2))/2)) -> 0.25956503 | J21: =IF(OR(E21<1,$D$2=""),"",E21-F21) -> 7.9 | L21: =IF($K$11="","",HLOOKUP(K$11,計算シート!$AE$1235:$CR$1535,$B21+1)) -> 36.903371 | M21: =IF(L21="","",IF(AND(L21>=$D$5,$G21=""),"〇","")) | N21: =IF(M21="","",0.0775*L21+0.2546) | O21: =IF(OR($D21<1,$D$3=""),"",HLOOKUP(入力シート!$K$11,計算シート!$AE$15:$CR$317,$B21+3)) -> 28.569955 | P21: =IF(O21="","",((L21^2)*PI()/40000)*O21*(((0.435719+0.515867/O21+2.481278/(O21^2))+(0.439004+0.916461/L21-0.073809/L21^2))/2)) -> 1.4066046 | Q21: =IF(M21="〇",P21,"") | U21: =IF($T$11="","",HLOOKUP(T$11,計算シート!$AE$1235:$CR$1535,$B21+1)) -> 43.830281 | V21: =IF(U21="","",IF(AND(U21>=$M$5,$G21=""),"〇","")) | W21: =IF(V21="","",0.0775*U21+0.2546) | X21: =IF(OR($D21<1,$D$3=""),"",HLOOKUP(入力シート!$T$11,計算シート!$AE$15:$CR$317,$B21+3)) -> 29.85417 | Y21: =IF(X21="","",((U21^2)*PI()/40000)*X21*(((0.435719+0.515867/X21+2.481278/(X21^2))+(0.439004+0.916461/U21-0.073809/U21^2))/2)) -> 2.0622742 | Z21: =IF(V21="〇",Y21,"")
B22: 11 | C22: 31 | D22: 21.5 | E22: 21.2 | F22: 13.1 | H22: =IF(D22="","",((D22^2)*PI()/40000)*F22*(((0.435719+0.515867/F22+2.481278/(F22^2))+(0.439004+0.916461/D22-0.073809/D22^2))/2)) -> 0.23090832 | J22: =IF(OR(E22<1,$D$2=""),"",E22-F22) -> 8.1 | L22: =IF($K$11="","",HLOOKUP(K$11,計算シート!$AE$1235:$CR$1535,$B22+1)) -> 35.559392 | M22: =IF(L22="","",IF(AND(L22>=$D$5,$G22=""),"〇","")) -> 〇 | N22: =IF(M22="","",0.0775*L22+0.2546) -> 3.0104529 | O22: =IF(OR($D22<1,$D$3=""),"",HLOOKUP(入力シート!$K$11,計算シート!$AE$15:$CR$317,$B22+3)) -> 28.31124 | P22: =IF(O22="","",((L22^2)*PI()/40000)*O22*(((0.435719+0.515867/O22+2.481278/(O22^2))+(0.439004+0.916461/L22-0.073809/L22^2))/2)) -> 1.2958137 | Q22: =IF(M22="〇",P22,"") -> 1.2958137 | U22: =IF($T$11="","",HLOOKUP(T$11,計算シート!$AE$1235:$CR$1535,$B22+1)) -> 42.328965 | V22: =IF(U22="","",IF(AND(U22>=$M$5,$G22=""),"〇","")) -> 〇 | W22: =IF(V22="","",0.0775*U22+0.2546) -> 3.5350948 | X22: =IF(OR($D22<1,$D$3=""),"",HLOOKUP(入力シート!$T$11,計算シート!$AE$15:$CR$317,$B22+3)) -> 29.584938 | Y22: =IF(X22="","",((U22^2)*PI()/40000)*X22*(((0.435719+0.515867/X22+2.481278/(X22^2))+(0.439004+0.916461/U22-0.073809/U22^2))/2)) -> 1.9080414 | Z22: =IF(V22="〇",Y22,"") -> 1.9080414
B23: 12 | C23: 3 | D23: 19 | E23: 20.9 | F23: 13.5 | H23: =IF(D23="","",((D23^2)*PI()/40000)*F23*(((0.435719+0.515867/F23+2.481278/(F23^2))+(0.439004+0.916461/D23-0.073809/D23^2))/2)) -> 0.18651705 | J23: =IF(OR(E23<1,$D$2=""),"",E23-F23) -> 7.4 | L23: =IF($K$11="","",HLOOKUP(K$11,計算シート!$AE$1235:$CR$1535,$B23+1)) -> 32.065534 | M23: =IF(L23="","",IF(AND(L23>=$D$5,$G23=""),"〇","")) | N23: =IF(M23="","",0.0775*L23+0.2546) | O23: =IF(OR($D23<1,$D$3=""),"",HLOOKUP(入力シート!$K$11,計算シート!$AE$15:$CR$317,$B23+3)) -> 27.957628 | P23: =IF(O23="","",((L23^2)*PI()/40000)*O23*(((0.435719+0.515867/O23+2.481278/(O23^2))+(0.439004+0.916461/L23-0.073809/L23^2))/2)) -> 1.0440285 | Q23: =IF(M23="〇",P23,"") | U23: =IF($T$11="","",HLOOKUP(T$11,計算シート!$AE$1235:$CR$1535,$B23+1)) -> 38.345792 | V23: =IF(U23="","",IF(AND(U23>=$M$5,$G23=""),"〇","")) | W23: =IF(V23="","",0.0775*U23+0.2546) | X23: =IF(OR($D23<1,$D$3=""),"",HLOOKUP(入力シート!$T$11,計算シート!$AE$15:$CR$317,$B23+3)) -> 29.221723 | Y23: =IF(X23="","",((U23^2)*PI()/40000)*X23*(((0.435719+0.515867/X23+2.481278/(X23^2))+(0.439004+0.916461/U23-0.073809/U23^2))/2)) -> 1.550883 | Z23: =IF(V23="〇",Y23,"")
B24: 13 | C24: 28 | D24: 18.3 | E24: 20.7 | F24: 14.4 | H24: =IF(D24="","",((D24^2)*PI()/40000)*F24*(((0.435719+0.515867/F24+2.481278/(F24^2))+(0.439004+0.916461/D24-0.073809/D24^2))/2)) -> 0.18414387 | J24: =IF(OR(E24<1,$D$2=""),"",E24-F24) -> 6.3 | L24: =IF($K$11="","",HLOOKUP(K$11,計算シート!$AE$1235:$CR$1535,$B24+1)) -> 30.968625 | M24: =IF(L24="","",IF(AND(L24>=$D$5,$G24=""),"〇","")) | N24: =IF(M24="","",0.0775*L24+0.2546) | O24: =IF(OR($D24<1,$D$3=""),"",HLOOKUP(入力シート!$K$11,計算シート!$AE$15:$CR$317,$B24+3)) -> 27.715759 | P24: =IF(O24="","",((L24^2)*PI()/40000)*O24*(((0.435719+0.515867/O24+2.481278/(O24^2))+(0.439004+0.916461/L24-0.073809/L24^2))/2)) -> 0.96667397 | Q24: =IF(M24="〇",P24,"") | U24: =IF($T$11="","",HLOOKUP(T$11,計算シート!$AE$1235:$CR$1535,$B24+1)) -> 37.034156 | V24: =IF(U24="","",IF(AND(U24>=$M$5,$G24=""),"〇","")) | W24: =IF(V24="","",0.0775*U24+0.2546) | X24: =IF(OR($D24<1,$D$3=""),"",HLOOKUP(入力シート!$T$11,計算シート!$AE$15:$CR$317,$B24+3)) -> 28.972355 | Y24: =IF(X24="","",((U24^2)*PI()/40000)*X24*(((0.435719+0.515867/X24+2.481278/(X24^2))+(0.439004+0.916461/U24-0.073809/U24^2))/2)) -> 1.4358861 | Z24: =IF(V24="〇",Y24,"")
B25: 14 | C25: 37 | D25: 19.3 | E25: 20.6 | F25: 13.8 | H25: =IF(D25="","",((D25^2)*PI()/40000)*F25*(((0.435719+0.515867/F25+2.481278/(F25^2))+(0.439004+0.916461/D25-0.073809/D25^2))/2)) -> 0.19629435 | J25: =IF(OR(E25<1,$D$2=""),"",E25-F25) -> 6.8 | L25: =IF($K$11="","",HLOOKUP(K$11,計算シート!$AE$1235:$CR$1535,$B25+1)) -> 32.325328 | M25: =IF(L25="","",IF(AND(L25>=$D$5,$G25=""),"〇","")) | N25: =IF(M25="","",0.0775*L25+0.2546) | O25: =IF(OR($D25<1,$D$3=""),"",HLOOKUP(入力シート!$K$11,計算シート!$AE$15:$CR$317,$B25+3)) -> 27.576918 | P25: =IF(O25="","",((L25^2)*PI()/40000)*O25*(((0.435719+0.515867/O25+2.481278/(O25^2))+(0.439004+0.916461/L25-0.073809/L25^2))/2)) -> 1.0466957 | Q25: =IF(M25="〇",P25,"") | U25: =IF($T$11="","",HLOOKUP(T$11,計算シート!$AE$1235:$CR$1535,$B25+1)) -> 38.577878 | V25: =IF(U25="","",IF(AND(U25>=$M$5,$G25=""),"〇","")) | W25: =IF(V25="","",0.0775*U25+0.2546) | X25: =IF(OR($D25<1,$D$3=""),"",HLOOKUP(入力シート!$T$11,計算シート!$AE$15:$CR$317,$B25+3)) -> 28.826557 | Y25: =IF(X25="","",((U25^2)*PI()/40000)*X25*(((0.435719+0.515867/X25+2.481278/(X25^2))+(0.439004+0.916461/U25-0.073809/U25^2))/2)) -> 1.5487875 | Z25: =IF(V25="〇",Y25,"")
B26: 15 | C26: 12 | D26: 20.2 | E26: 20.4 | F26: 12.5 | H26: =IF(D26="","",((D26^2)*PI()/40000)*F26*(((0.435719+0.515867/F26+2.481278/(F26^2))+(0.439004+0.916461/D26-0.073809/D26^2))/2)) -> 0.19570157 | J26: =IF(OR(E26<1,$D$2=""),"",E26-F26) -> 7.9 | L26: =IF($K$11="","",HLOOKUP(K$11,計算シート!$AE$1235:$CR$1535,$B26+1)) -> 33.430401 | M26: =IF(L26="","",IF(AND(L26>=$D$5,$G26=""),"〇","")) | N26: =IF(M26="","",0.0775*L26+0.2546) | O26: =IF(OR($D26<1,$D$3=""),"",HLOOKUP(入力シート!$K$11,計算シート!$AE$15:$CR$317,$B26+3)) -> 27.333716 | P26: =IF(O26="","",((L26^2)*PI()/40000)*O26*(((0.435719+0.515867/O26+2.481278/(O26^2))+(0.439004+0.916461/L26-0.073809/L26^2))/2)) -> 1.1087617 | Q26: =IF(M26="〇",P26,"") | U26: =IF($T$11="","",HLOOKUP(T$11,計算シート!$AE$1235:$CR$1535,$B26+1)) -> 39.808211 | V26: =IF(U26="","",IF(AND(U26>=$M$5,$G26=""),"〇","")) | W26: =IF(V26="","",0.0775*U26+0.2546) | X26: =IF(OR($D26<1,$D$3=""),"",HLOOKUP(入力シート!$T$11,計算シート!$AE$15:$CR$317,$B26+3)) -> 28.575618 | Y26: =IF(X26="","",((U26^2)*PI()/40000)*X26*(((0.435719+0.515867/X26+2.481278/(X26^2))+(0.439004+0.916461/U26-0.073809/U26^2))/2)) -> 1.633868 | Z26: =IF(V26="〇",Y26,"")
B27: 16 | C27: 9 | D27: 19 | E27: 20.4 | F27: 12.8 | H27: =IF(D27="","",((D27^2)*PI()/40000)*F27*(((0.435719+0.515867/F27+2.481278/(F27^2))+(0.439004+0.916461/D27-0.073809/D27^2))/2)) -> 0.17750259 | J27: =IF(OR(E27<1,$D$2=""),"",E27-F27) -> 7.6 | L27: =IF($K$11="","",HLOOKUP(K$11,計算シート!$AE$1235:$CR$1535,$B27+1)) -> 31.78168 | M27: =IF(L27="","",IF(AND(L27>=$D$5,$G27=""),"〇","")) | N27: =IF(M27="","",0.0775*L27+0.2546) | O27: =IF(OR($D27<1,$D$3=""),"",HLOOKUP(入力シート!$K$11,計算シート!$AE$15:$CR$317,$B27+3)) -> 27.286391 | P27: =IF(O27="","",((L27^2)*PI()/40000)*O27*(((0.435719+0.515867/O27+2.481278/(O27^2))+(0.439004+0.916461/L27-0.073809/L27^2))/2)) -> 1.0019392 | Q27: =IF(M27="〇",P27,"") | U27: =IF($T$11="","",HLOOKUP(T$11,計算シート!$AE$1235:$CR$1535,$B27+1)) -> 37.940585 | V27: =IF(U27="","",IF(AND(U27>=$M$5,$G27=""),"〇","")) | W27: =IF(V27="","",0.0775*U27+0.2546) | X27: =IF(OR($D27<1,$D$3=""),"",HLOOKUP(入力シート!$T$11,計算シート!$AE$15:$CR$317,$B27+3)) -> 28.519817 | Y27: =IF(X27="","",((U27^2)*PI()/40000)*X27*(((0.435719+0.515867/X27+2.481278/(X27^2))+(0.439004+0.916461/U27-0.073809/U27^2))/2)) -> 1.4831538 | Z27: =IF(V27="〇",Y27,"")
B28: 17 | C28: 13 | D28: 20.3 | E28: 20.3 | F28: 13.1 | H28: =IF(D28="","",((D28^2)*PI()/40000)*F28*(((0.435719+0.515867/F28+2.481278/(F28^2))+(0.439004+0.916461/D28-0.073809/D28^2))/2)) -> 0.20638189 | J28: =IF(OR(E28<1,$D$2=""),"",E28-F28) -> 7.2 | L28: =IF($K$11="","",HLOOKUP(K$11,計算シート!$AE$1235:$CR$1535,$B28+1)) -> 33.402454 | M28: =IF(L28="","",IF(AND(L28>=$D$5,$G28=""),"〇","")) | N28: =IF(M28="","",0.0775*L28+0.2546) | O28: =IF(OR($D28<1,$D$3=""),"",HLOOKUP(入力シート!$K$11,計算シート!$AE$15:$CR$317,$B28+3)) -> 27.144522 | P28: =IF(O28="","",((L28^2)*PI()/40000)*O28*(((0.435719+0.515867/O28+2.481278/(O28^2))+(0.439004+0.916461/L28-0.073809/L28^2))/2)) -> 1.0994859 | Q28: =IF(M28="〇",P28,"") | U28: =IF($T$11="","",HLOOKUP(T$11,計算シート!$AE$1235:$CR$1535,$B28+1)) -> 39.710575 | V28: =IF(U28="","",IF(AND(U28>=$M$5,$G28=""),"〇","")) | W28: =IF(V28="","",0.0775*U28+0.2546) | X28: =IF(OR($D28<1,$D$3=""),"",HLOOKUP(入力シート!$T$11,計算シート!$AE$15:$CR$317,$B28+3)) -> 28.370448 | Y28: =IF(X28="","",((U28^2)*PI()/40000)*X28*(((0.435719+0.515867/X28+2.481278/(X28^2))+(0.439004+0.916461/U28-0.073809/U28^2))/2)) -> 1.6145956 | Z28: =IF(V28="〇",Y28,"")
B29: 18 | C29: 36 | D29: 22 | E29: 20 | F29: 13.6 | H29: =IF(D29="","",((D29^2)*PI()/40000)*F29*(((0.435719+0.515867/F29+2.481278/(F29^2))+(0.439004+0.916461/D29-0.073809/D29^2))/2)) -> 0.25010855 | J29: =IF(OR(E29<1,$D$2=""),"",E29-F29) -> 6.4 | L29: =IF($K$11="","",HLOOKUP(K$11,計算シート!$AE$1235:$CR$1535,$B29+1)) -> 35.498592 | M29: =IF(L29="","",IF(AND(L29>=$D$5,$G29=""),"〇","")) -> 〇 | N29: =IF(M29="","",0.0775*L29+0.2546) -> 3.0057409 | O29: =IF(OR($D29<1,$D$3=""),"",HLOOKUP(入力シート!$K$11,計算シート!$AE$15:$CR$317,$B29+3)) -> 26.796728 | P29: =IF(O29="","",((L29^2)*PI()/40000)*O29*(((0.435719+0.515867/O29+2.481278/(O29^2))+(0.439004+0.916461/L29-0.073809/L29^2))/2)) -> 1.2242046 | Q29: =IF(M29="〇",P29,"") -> 1.2242046 | U29: =IF($T$11="","",HLOOKUP(T$11,計算シート!$AE$1235:$CR$1535,$B29+1)) -> 41.981602 | V29: =IF(U29="","",IF(AND(U29>=$M$5,$G29=""),"〇","")) | W29: =IF(V29="","",0.0775*U29+0.2546) | X29: =IF(OR($D29<1,$D$3=""),"",HLOOKUP(入力シート!$T$11,計算シート!$AE$15:$CR$317,$B29+3)) -> 28.014093 | Y29: =IF(X29="","",((U29^2)*PI()/40000)*X29*(((0.435719+0.515867/X29+2.481278/(X29^2))+(0.439004+0.916461/U29-0.073809/U29^2))/2)) -> 1.7800759 | Z29: =IF(V29="〇",Y29,"")
B30: 19 | C30: 5 | D30: 18.3 | E30: 20 | F30: 11.7 | H30: =IF(D30="","",((D30^2)*PI()/40000)*F30*(((0.435719+0.515867/F30+2.481278/(F30^2))+(0.439004+0.916461/D30-0.073809/D30^2))/2)) -> 0.15183676 | J30: =IF(OR(E30<1,$D$2=""),"",E30-F30) -> 8.3 | L30: =IF($K$11="","",HLOOKUP(K$11,計算シート!$AE$1235:$CR$1535,$B30+1)) -> 30.668279 | M30: =IF(L30="","",IF(AND(L30>=$D$5,$G30=""),"〇","")) | N30: =IF(M30="","",0.0775*L30+0.2546) | O30: =IF(OR($D30<1,$D$3=""),"",HLOOKUP(入力シート!$K$11,計算シート!$AE$15:$CR$317,$B30+3)) -> 26.740593 | P30: =IF(O30="","",((L30^2)*PI()/40000)*O30*(((0.435719+0.515867/O30+2.481278/(O30^2))+(0.439004+0.916461/L30-0.073809/L30^2))/2)) -> 0.91585112 | Q30: =IF(M30="〇",P30,"") | U30: =IF($T$11="","",HLOOKUP(T$11,計算シート!$AE$1235:$CR$1535,$B30+1)) -> 36.648274 | V30: =IF(U30="","",IF(AND(U30>=$M$5,$G30=""),"〇","")) | W30: =IF(V30="","",0.0775*U30+0.2546) | X30: =IF(OR($D30<1,$D$3=""),"",HLOOKUP(入力シート!$T$11,計算シート!$AE$15:$CR$317,$B30+3)) -> 27.947904 | Y30: =IF(X30="","",((U30^2)*PI()/40000)*X30*(((0.435719+0.515867/X30+2.481278/(X30^2))+(0.439004+0.916461/U30-0.073809/U30^2))/2)) -> 1.3580692 | Z30: =IF(V30="〇",Y30,"")
B31: 20 | C31: 7 | D31: 14.8 | E31: 20 | F31: 13 | H31: =IF(D31="","",((D31^2)*PI()/40000)*F31*(((0.435719+0.515867/F31+2.481278/(F31^2))+(0.439004+0.916461/D31-0.073809/D31^2))/2)) -> 0.11077892 | J31: =IF(OR(E31<1,$D$2=""),"",E31-F31) -> 7 | L31: =IF($K$11="","",HLOOKUP(K$11,計算シート!$AE$1235:$CR$1535,$B31+1)) -> 26.530581 | M31: =IF(L31="","",IF(AND(L31>=$D$5,$G31=""),"〇","")) | N31: =IF(M31="","",0.0775*L31+0.2546) | O31: =IF(OR($D31<1,$D$3=""),"",HLOOKUP(入力シート!$K$11,計算シート!$AE$15:$CR$317,$B31+3)) -> 26.701752 | P31: =IF(O31="","",((L31^2)*PI()/40000)*O31*(((0.435719+0.515867/O31+2.481278/(O31^2))+(0.439004+0.916461/L31-0.073809/L31^2))/2)) -> 0.68784585 | Q31: =IF(M31="〇",P31,"") | U31: =IF($T$11="","",HLOOKUP(T$11,計算シート!$AE$1235:$CR$1535,$B31+1)) -> 32.18338 | V31: =IF(U31="","",IF(AND(U31>=$M$5,$G31=""),"〇","")) | W31: =IF(V31="","",0.0775*U31+0.2546) | X31: =IF(OR($D31<1,$D$3=""),"",HLOOKUP(入力シート!$T$11,計算シート!$AE$15:$CR$317,$B31+3)) -> 27.902107 | Y31: =IF(X31="","",((U31^2)*PI()/40000)*X31*(((0.435719+0.515867/X31+2.481278/(X31^2))+(0.439004+0.916461/U31-0.073809/U31^2))/2)) -> 1.0495658 | Z31: =IF(V31="〇",Y31,"")
B32: 21 | C32: 14 | D32: 18 | E32: 19.9 | F32: 12.6 | H32: =IF(D32="","",((D32^2)*PI()/40000)*F32*(((0.435719+0.515867/F32+2.481278/(F32^2))+(0.439004+0.916461/D32-0.073809/D32^2))/2)) -> 0.15742669 | J32: =IF(OR(E32<1,$D$2=""),"",E32-F32) -> 7.3 | L32: =IF($K$11="","",HLOOKUP(K$11,計算シート!$AE$1235:$CR$1535,$B32+1)) -> 30.016148 | M32: =IF(L32="","",IF(AND(L32>=$D$5,$G32=""),"〇","")) | N32: =IF(M32="","",0.0775*L32+0.2546) | O32: =IF(OR($D32<1,$D$3=""),"",HLOOKUP(入力シート!$K$11,計算シート!$AE$15:$CR$317,$B32+3)) -> 26.576347 | P32: =IF(O32="","",((L32^2)*PI()/40000)*O32*(((0.435719+0.515867/O32+2.481278/(O32^2))+(0.439004+0.916461/L32-0.073809/L32^2))/2)) -> 0.87268709 | Q32: =IF(M32="〇",P32,"") | U32: =IF($T$11="","",HLOOKUP(T$11,計算シート!$AE$1235:$CR$1535,$B32+1)) -> 35.813767 | V32: =IF(U32="","",IF(AND(U32>=$M$5,$G32=""),"〇","")) | W32: =IF(V32="","",0.0775*U32+0.2546) | X32: =IF(OR($D32<1,$D$3=""),"",HLOOKUP(入力シート!$T$11,計算シート!$AE$15:$CR$317,$B32+3)) -> 27.772152 | Y32: =IF(X32="","",((U32^2)*PI()/40000)*X32*(((0.435719+0.515867/X32+2.481278/(X32^2))+(0.439004+0.916461/U32-0.073809/U32^2))/2)) -> 1.2898004 | Z32: =IF(V32="〇",Y32,"")
B33: 22 | C33: 26 | D33: 18.5 | E33: 19.8 | F33: 14.8 | H33: =IF(D33="","",((D33^2)*PI()/40000)*F33*(((0.435719+0.515867/F33+2.481278/(F33^2))+(0.439004+0.916461/D33-0.073809/D33^2))/2)) -> 0.19299212 | J33: =IF(OR(E33<1,$D$2=""),"",E33-F33) -> 5 | L33: =IF($K$11="","",HLOOKUP(K$11,計算シート!$AE$1235:$CR$1535,$B33+1)) -> 30.548299 | M33: =IF(L33="","",IF(AND(L33>=$D$5,$G33=""),"〇","")) | N33: =IF(M33="","",0.0775*L33+0.2546) | O33: =IF(OR($D33<1,$D$3=""),"",HLOOKUP(入力シート!$K$11,計算シート!$AE$15:$CR$317,$B33+3)) -> 26.43877 | P33: =IF(O33="","",((L33^2)*PI()/40000)*O33*(((0.435719+0.515867/O33+2.481278/(O33^2))+(0.439004+0.916461/L33-0.073809/L33^2))/2)) -> 0.89884631 | Q33: =IF(M33="〇",P33,"") | U33: =IF($T$11="","",HLOOKUP(T$11,計算シート!$AE$1235:$CR$1535,$B33+1)) -> 36.306509 | V33: =IF(U33="","",IF(AND(U33>=$M$5,$G33=""),"〇","")) | W33: =IF(V33="","",0.0775*U33+0.2546) | X33: =IF(OR($D33<1,$D$3=""),"",HLOOKUP(入力シート!$T$11,計算シート!$AE$15:$CR$317,$B33+3)) -> 27.627844 | Y33: =IF(X33="","",((U33^2)*PI()/40000)*X33*(((0.435719+0.515867/X33+2.481278/(X33^2))+(0.439004+0.916461/U33-0.073809/U33^2))/2)) -> 1.3183407 | Z33: =IF(V33="〇",Y33,"")
... B48: 37 | C48: 11 | D48: 15.5 | E48: 17.4 | F48: 11.7 | H48: =IF(D48="","",((D48^2)*PI()/40000)*F48*(((0.435719+0.515867/F48+2.481278/(F48^2))+(0.439004+0.916461/D48-0.073809/D48^2))/2)) -> 0.10991669 | J48: =IF(OR(E48<1,$D$2=""),"",E48-F48) -> 5.7 | L48: =IF($K$11="","",HLOOKUP(K$11,計算シート!$AE$1235:$CR$1535,$B48+1)) -> 26.247776 | M48: =IF(L48="","",IF(AND(L48>=$D$5,$G48=""),"〇","")) | N48: =IF(M48="","",0.0775*L48+0.2546) | O48: =IF(OR($D48<1,$D$3=""),"",HLOOKUP(入力シート!$K$11,計算シート!$AE$15:$CR$317,$B48+3)) -> 23.460951 | P48: =IF(O48="","",((L48^2)*PI()/40000)*O48*(((0.435719+0.515867/O48+2.481278/(O48^2))+(0.439004+0.916461/L48-0.073809/L48^2))/2)) -> 0.59412706 | Q48: =IF(M48="〇",P48,"") | U48: =IF($T$11="","",HLOOKUP(T$11,計算シート!$AE$1235:$CR$1535,$B48+1)) -> 31.445414 | V48: =IF(U48="","",IF(AND(U48>=$M$5,$G48=""),"〇","")) | W48: =IF(V48="","",0.0775*U48+0.2546) | X48: =IF(OR($D48<1,$D$3=""),"",HLOOKUP(入力シート!$T$11,計算シート!$AE$15:$CR$317,$B48+3)) -> 24.546531 | Y48: =IF(X48="","",((U48^2)*PI()/40000)*X48*(((0.435719+0.515867/X48+2.481278/(X48^2))+(0.439004+0.916461/U48-0.073809/U48^2))/2)) -> 0.88541353 | Z48: =IF(V48="〇",Y48,"")
B49: 38 | H49: =IF(D49="","",((D49^2)*PI()/40000)*F49*(((0.435719+0.515867/F49+2.481278/(F49^2))+(0.439004+0.916461/D49-0.073809/D49^2))/2)) | J49: =IF(OR(E49<1,$D$2=""),"",E49-F49) | L49: =IF($K$11="","",HLOOKUP(K$11,計算シート!$AE$1235:$CR$1535,$B49+1)) | M49: =IF(L49="","",IF(AND(L49>=$D$5,$G49=""),"〇","")) | N49: =IF(M49="","",0.0775*L49+0.2546) | O49: =IF(OR($D49<1,$D$3=""),"",HLOOKUP(入力シート!$K$11,計算シート!$AE$15:$CR$317,$B49+3)) | P49: =IF(O49="","",((L49^2)*PI()/40000)*O49*(((0.435719+0.515867/O49+2.481278/(O49^2))+(0.439004+0.916461/L49-0.073809/L49^2))/2)) | Q49: =IF(M49="〇",P49,"") | U49: =IF($T$11="","",HLOOKUP(T$11,計算シート!$AE$1235:$CR$1535,$B49+1)) | V49: =IF(U49="","",IF(AND(U49>=$M$5,$G49=""),"〇","")) | W49: =IF(V49="","",0.0775*U49+0.2546) | X49: =IF(OR($D49<1,$D$3=""),"",HLOOKUP(入力シート!$T$11,計算シート!$AE$15:$CR$317,$B49+3)) | Y49: =IF(X49="","",((U49^2)*PI()/40000)*X49*(((0.435719+0.515867/X49+2.481278/(X49^2))+(0.439004+0.916461/U49-0.073809/U49^2))/2)) | Z49: =IF(V49="〇",Y49,"")
B50: 39 | H50: =IF(D50="","",((D50^2)*PI()/40000)*F50*(((0.435719+0.515867/F50+2.481278/(F50^2))+(0.439004+0.916461/D50-0.073809/D50^2))/2)) | J50: =IF(OR(E50<1,$D$2=""),"",E50-F50) | L50: =IF($K$11="","",HLOOKUP(K$11,計算シート!$AE$1235:$CR$1535,$B50+1)) | M50: =IF(L50="","",IF(AND(L50>=$D$5,$G50=""),"〇","")) | N50: =IF(M50="","",0.0775*L50+0.2546) | O50: =IF(OR($D50<1,$D$3=""),"",HLOOKUP(入力シート!$K$11,計算シート!$AE$15:$CR$317,$B50+3)) | P50: =IF(O50="","",((L50^2)*PI()/40000)*O50*(((0.435719+0.515867/O50+2.481278/(O50^2))+(0.439004+0.916461/L50-0.073809/L50^2))/2)) | Q50: =IF(M50="〇",P50,"") | U50: =IF($T$11="","",HLOOKUP(T$11,計算シート!$AE$1235:$CR$1535,$B50+1)) | V50: =IF(U50="","",IF(AND(U50>=$M$5,$G50=""),"〇","")) | W50: =IF(V50="","",0.0775*U50+0.2546) | X50: =IF(OR($D50<1,$D$3=""),"",HLOOKUP(入力シート!$T$11,計算シート!$AE$15:$CR$317,$B50+3)) | Y50: =IF(X50="","",((U50^2)*PI()/40000)*X50*(((0.435719+0.515867/X50+2.481278/(X50^2))+(0.439004+0.916461/U50-0.073809/U50^2))/2)) | Z50: =IF(V50="〇",Y50,"")
B51: 40 | H51: =IF(D51="","",((D51^2)*PI()/40000)*F51*(((0.435719+0.515867/F51+2.481278/(F51^2))+(0.439004+0.916461/D51-0.073809/D51^2))/2)) | J51: =IF(OR(E51<1,$D$2=""),"",E51-F51) | L51: =IF($K$11="","",HLOOKUP(K$11,計算シート!$AE$1235:$CR$1535,$B51+1)) | M51: =IF(L51="","",IF(AND(L51>=$D$5,$G51=""),"〇","")) | N51: =IF(M51="","",0.0775*L51+0.2546) | O51: =IF(OR($D51<1,$D$3=""),"",HLOOKUP(入力シート!$K$11,計算シート!$AE$15:$CR$317,$B51+3)) | P51: =IF(O51="","",((L51^2)*PI()/40000)*O51*(((0.435719+0.515867/O51+2.481278/(O51^2))+(0.439004+0.916461/L51-0.073809/L51^2))/2)) | Q51: =IF(M51="〇",P51,"") | U51: =IF($T$11="","",HLOOKUP(T$11,計算シート!$AE$1235:$CR$1535,$B51+1)) | V51: =IF(U51="","",IF(AND(U51>=$M$5,$G51=""),"〇","")) | W51: =IF(V51="","",0.0775*U51+0.2546) | X51: =IF(OR($D51<1,$D$3=""),"",HLOOKUP(入力シート!$T$11,計算シート!$AE$15:$CR$317,$B51+3)) | Y51: =IF(X51="","",((U51^2)*PI()/40000)*X51*(((0.435719+0.515867/X51+2.481278/(X51^2))+(0.439004+0.916461/U51-0.073809/U51^2))/2)) | Z51: =IF(V51="〇",Y51,"")
B52: 41 | H52: =IF(D52="","",((D52^2)*PI()/40000)*F52*(((0.435719+0.515867/F52+2.481278/(F52^2))+(0.439004+0.916461/D52-0.073809/D52^2))/2)) | J52: =IF(OR(E52<1,$D$2=""),"",E52-F52) | L52: =IF($K$11="","",HLOOKUP(K$11,計算シート!$AE$1235:$CR$1535,$B52+1)) | M52: =IF(L52="","",IF(AND(L52>=$D$5,$G52=""),"〇","")) | N52: =IF(M52="","",0.0775*L52+0.2546) | O52: =IF(OR($D52<1,$D$3=""),"",HLOOKUP(入力シート!$K$11,計算シート!$AE$15:$CR$317,$B52+3)) | P52: =IF(O52="","",((L52^2)*PI()/40000)*O52*(((0.435719+0.515867/O52+2.481278/(O52^2))+(0.439004+0.916461/L52-0.073809/L52^2))/2)) | Q52: =IF(M52="〇",P52,"") | U52: =IF($T$11="","",HLOOKUP(T$11,計算シート!$AE$1235:$CR$1535,$B52+1)) | V52: =IF(U52="","",IF(AND(U52>=$M$5,$G52=""),"〇","")) | W52: =IF(V52="","",0.0775*U52+0.2546) | X52: =IF(OR($D52<1,$D$3=""),"",HLOOKUP(入力シート!$T$11,計算シート!$AE$15:$CR$317,$B52+3)) | Y52: =IF(X52="","",((U52^2)*PI()/40000)*X52*(((0.435719+0.515867/X52+2.481278/(X52^2))+(0.439004+0.916461/U52-0.073809/U52^2))/2)) | Z52: =IF(V52="〇",Y52,"")
B53: 42 | H53: =IF(D53="","",((D53^2)*PI()/40000)*F53*(((0.435719+0.515867/F53+2.481278/(F53^2))+(0.439004+0.916461/D53-0.073809/D53^2))/2)) | J53: =IF(OR(E53<1,$D$2=""),"",E53-F53) | L53: =IF($K$11="","",HLOOKUP(K$11,計算シート!$AE$1235:$CR$1535,$B53+1)) | M53: =IF(L53="","",IF(AND(L53>=$D$5,$G53=""),"〇","")) | N53: =IF(M53="","",0.0775*L53+0.2546) | O53: =IF(OR($D53<1,$D$3=""),"",HLOOKUP(入力シート!$K$11,計算シート!$AE$15:$CR$317,$B53+3)) | P53: =IF(O53="","",((L53^2)*PI()/40000)*O53*(((0.435719+0.515867/O53+2.481278/(O53^2))+(0.439004+0.916461/L53-0.073809/L53^2))/2)) | Q53: =IF(M53="〇",P53,"") | U53: =IF($T$11="","",HLOOKUP(T$11,計算シート!$AE$1235:$CR$1535,$B53+1)) | V53: =IF(U53="","",IF(AND(U53>=$M$5,$G53=""),"〇","")) | W53: =IF(V53="","",0.0775*U53+0.2546) | X53: =IF(OR($D53<1,$D$3=""),"",HLOOKUP(入力シート!$T$11,計算シート!$AE$15:$CR$317,$B53+3)) | Y53: =IF(X53="","",((U53^2)*PI()/40000)*X53*(((0.435719+0.515867/X53+2.481278/(X53^2))+(0.439004+0.916461/U53-0.073809/U53^2))/2)) | Z53: =IF(V53="〇",Y53,"")
B54: 43 | H54: =IF(D54="","",((D54^2)*PI()/40000)*F54*(((0.435719+0.515867/F54+2.481278/(F54^2))+(0.439004+0.916461/D54-0.073809/D54^2))/2)) | J54: =IF(OR(E54<1,$D$2=""),"",E54-F54) | L54: =IF($K$11="","",HLOOKUP(K$11,計算シート!$AE$1235:$CR$1535,$B54+1)) | M54: =IF(L54="","",IF(AND(L54>=$D$5,$G54=""),"〇","")) | N54: =IF(M54="","",0.0775*L54+0.2546) | O54: =IF(OR($D54<1,$D$3=""),"",HLOOKUP(入力シート!$K$11,計算シート!$AE$15:$CR$317,$B54+3)) | P54: =IF(O54="","",((L54^2)*PI()/40000)*O54*(((0.435719+0.515867/O54+2.481278/(O54^2))+(0.439004+0.916461/L54-0.073809/L54^2))/2)) | Q54: =IF(M54="〇",P54,"") | U54: =IF($T$11="","",HLOOKUP(T$11,計算シート!$AE$1235:$CR$1535,$B54+1)) | V54: =IF(U54="","",IF(AND(U54>=$M$5,$G54=""),"〇","")) | W54: =IF(V54="","",0.0775*U54+0.2546) | X54: =IF(OR($D54<1,$D$3=""),"",HLOOKUP(入力シート!$T$11,計算シート!$AE$15:$CR$317,$B54+3)) | Y54: =IF(X54="","",((U54^2)*PI()/40000)*X54*(((0.435719+0.515867/X54+2.481278/(X54^2))+(0.439004+0.916461/U54-0.073809/U54^2))/2)) | Z54: =IF(V54="〇",Y54,"")
B55: 44 | H55: =IF(D55="","",((D55^2)*PI()/40000)*F55*(((0.435719+0.515867/F55+2.481278/(F55^2))+(0.439004+0.916461/D55-0.073809/D55^2))/2)) | J55: =IF(OR(E55<1,$D$2=""),"",E55-F55) | L55: =IF($K$11="","",HLOOKUP(K$11,計算シート!$AE$1235:$CR$1535,$B55+1)) | M55: =IF(L55="","",IF(AND(L55>=$D$5,$G55=""),"〇","")) | N55: =IF(M55="","",0.0775*L55+0.2546) | O55: =IF(OR($D55<1,$D$3=""),"",HLOOKUP(入力シート!$K$11,計算シート!$AE$15:$CR$317,$B55+3)) | P55: =IF(O55="","",((L55^2)*PI()/40000)*O55*(((0.435719+0.515867/O55+2.481278/(O55^2))+(0.439004+0.916461/L55-0.073809/L55^2))/2)) | Q55: =IF(M55="〇",P55,"") | U55: =IF($T$11="","",HLOOKUP(T$11,計算シート!$AE$1235:$CR$1535,$B55+1)) | V55: =IF(U55="","",IF(AND(U55>=$M$5,$G55=""),"〇","")) | W55: =IF(V55="","",0.0775*U55+0.2546) | X55: =IF(OR($D55<1,$D$3=""),"",HLOOKUP(入力シート!$T$11,計算シート!$AE$15:$CR$317,$B55+3)) | Y55: =IF(X55="","",((U55^2)*PI()/40000)*X55*(((0.435719+0.515867/X55+2.481278/(X55^2))+(0.439004+0.916461/U55-0.073809/U55^2))/2)) | Z55: =IF(V55="〇",Y55,"")
B56: 45 | H56: =IF(D56="","",((D56^2)*PI()/40000)*F56*(((0.435719+0.515867/F56+2.481278/(F56^2))+(0.439004+0.916461/D56-0.073809/D56^2))/2)) | J56: =IF(OR(E56<1,$D$2=""),"",E56-F56) | L56: =IF($K$11="","",HLOOKUP(K$11,計算シート!$AE$1235:$CR$1535,$B56+1)) | M56: =IF(L56="","",IF(AND(L56>=$D$5,$G56=""),"〇","")) | N56: =IF(M56="","",0.0775*L56+0.2546) | O56: =IF(OR($D56<1,$D$3=""),"",HLOOKUP(入力シート!$K$11,計算シート!$AE$15:$CR$317,$B56+3)) | P56: =IF(O56="","",((L56^2)*PI()/40000)*O56*(((0.435719+0.515867/O56+2.481278/(O56^2))+(0.439004+0.916461/L56-0.073809/L56^2))/2)) | Q56: =IF(M56="〇",P56,"") | U56: =IF($T$11="","",HLOOKUP(T$11,計算シート!$AE$1235:$CR$1535,$B56+1)) | V56: =IF(U56="","",IF(AND(U56>=$M$5,$G56=""),"〇","")) | W56: =IF(V56="","",0.0775*U56+0.2546) | X56: =IF(OR($D56<1,$D$3=""),"",HLOOKUP(入力シート!$T$11,計算シート!$AE$15:$CR$317,$B56+3)) | Y56: =IF(X56="","",((U56^2)*PI()/40000)*X56*(((0.435719+0.515867/X56+2.481278/(X56^2))+(0.439004+0.916461/U56-0.073809/U56^2))/2)) | Z56: =IF(V56="〇",Y56,"")
B57: 46 | H57: =IF(D57="","",((D57^2)*PI()/40000)*F57*(((0.435719+0.515867/F57+2.481278/(F57^2))+(0.439004+0.916461/D57-0.073809/D57^2))/2)) | J57: =IF(OR(E57<1,$D$2=""),"",E57-F57) | L57: =IF($K$11="","",HLOOKUP(K$11,計算シート!$AE$1235:$CR$1535,$B57+1)) | M57: =IF(L57="","",IF(AND(L57>=$D$5,$G57=""),"〇","")) | N57: =IF(M57="","",0.0775*L57+0.2546) | O57: =IF(OR($D57<1,$D$3=""),"",HLOOKUP(入力シート!$K$11,計算シート!$AE$15:$CR$317,$B57+3)) | P57: =IF(O57="","",((L57^2)*PI()/40000)*O57*(((0.435719+0.515867/O57+2.481278/(O57^2))+(0.439004+0.916461/L57-0.073809/L57^2))/2)) | Q57: =IF(M57="〇",P57,"") | U57: =IF($T$11="","",HLOOKUP(T$11,計算シート!$AE$1235:$CR$1535,$B57+1)) | V57: =IF(U57="","",IF(AND(U57>=$M$5,$G57=""),"〇","")) | W57: =IF(V57="","",0.0775*U57+0.2546) | X57: =IF(OR($D57<1,$D$3=""),"",HLOOKUP(入力シート!$T$11,計算シート!$AE$15:$CR$317,$B57+3)) | Y57: =IF(X57="","",((U57^2)*PI()/40000)*X57*(((0.435719+0.515867/X57+2.481278/(X57^2))+(0.439004+0.916461/U57-0.073809/U57^2))/2)) | Z57: =IF(V57="〇",Y57,"")
B58: 47 | H58: =IF(D58="","",((D58^2)*PI()/40000)*F58*(((0.435719+0.515867/F58+2.481278/(F58^2))+(0.439004+0.916461/D58-0.073809/D58^2))/2)) | J58: =IF(OR(E58<1,$D$2=""),"",E58-F58) | L58: =IF($K$11="","",HLOOKUP(K$11,計算シート!$AE$1235:$CR$1535,$B58+1)) | M58: =IF(L58="","",IF(AND(L58>=$D$5,$G58=""),"〇","")) | N58: =IF(M58="","",0.0775*L58+0.2546) | O58: =IF(OR($D58<1,$D$3=""),"",HLOOKUP(入力シート!$K$11,計算シート!$AE$15:$CR$317,$B58+3)) | P58: =IF(O58="","",((L58^2)*PI()/40000)*O58*(((0.435719+0.515867/O58+2.481278/(O58^2))+(0.439004+0.916461/L58-0.073809/L58^2))/2)) | Q58: =IF(M58="〇",P58,"") | U58: =IF($T$11="","",HLOOKUP(T$11,計算シート!$AE$1235:$CR$1535,$B58+1)) | V58: =IF(U58="","",IF(AND(U58>=$M$5,$G58=""),"〇","")) | W58: =IF(V58="","",0.0775*U58+0.2546) | X58: =IF(OR($D58<1,$D$3=""),"",HLOOKUP(入力シート!$T$11,計算シート!$AE$15:$CR$317,$B58+3)) | Y58: =IF(X58="","",((U58^2)*PI()/40000)*X58*(((0.435719+0.515867/X58+2.481278/(X58^2))+(0.439004+0.916461/U58-0.073809/U58^2))/2)) | Z58: =IF(V58="〇",Y58,"")
B59: 48 | H59: =IF(D59="","",((D59^2)*PI()/40000)*F59*(((0.435719+0.515867/F59+2.481278/(F59^2))+(0.439004+0.916461/D59-0.073809/D59^2))/2)) | J59: =IF(OR(E59<1,$D$2=""),"",E59-F59) | L59: =IF($K$11="","",HLOOKUP(K$11,計算シート!$AE$1235:$CR$1535,$B59+1)) | M59: =IF(L59="","",IF(AND(L59>=$D$5,$G59=""),"〇","")) | N59: =IF(M59="","",0.0775*L59+0.2546) | O59: =IF(OR($D59<1,$D$3=""),"",HLOOKUP(入力シート!$K$11,計算シート!$AE$15:$CR$317,$B59+3)) | P59: =IF(O59="","",((L59^2)*PI()/40000)*O59*(((0.435719+0.515867/O59+2.481278/(O59^2))+(0.439004+0.916461/L59-0.073809/L59^2))/2)) | Q59: =IF(M59="〇",P59,"") | U59: =IF($T$11="","",HLOOKUP(T$11,計算シート!$AE$1235:$CR$1535,$B59+1)) | V59: =IF(U59="","",IF(AND(U59>=$M$5,$G59=""),"〇","")) | W59: =IF(V59="","",0.0775*U59+0.2546) | X59: =IF(OR($D59<1,$D$3=""),"",HLOOKUP(入力シート!$T$11,計算シート!$AE$15:$CR$317,$B59+3)) | Y59: =IF(X59="","",((U59^2)*PI()/40000)*X59*(((0.435719+0.515867/X59+2.481278/(X59^2))+(0.439004+0.916461/U59-0.073809/U59^2))/2)) | Z59: =IF(V59="〇",Y59,"")
B60: 49 | H60: =IF(D60="","",((D60^2)*PI()/40000)*F60*(((0.435719+0.515867/F60+2.481278/(F60^2))+(0.439004+0.916461/D60-0.073809/D60^2))/2)) | J60: =IF(OR(E60<1,$D$2=""),"",E60-F60) | L60: =IF($K$11="","",HLOOKUP(K$11,計算シート!$AE$1235:$CR$1535,$B60+1)) | M60: =IF(L60="","",IF(AND(L60>=$D$5,$G60=""),"〇","")) | N60: =IF(M60="","",0.0775*L60+0.2546) | O60: =IF(OR($D60<1,$D$3=""),"",HLOOKUP(入力シート!$K$11,計算シート!$AE$15:$CR$317,$B60+3)) | P60: =IF(O60="","",((L60^2)*PI()/40000)*O60*(((0.435719+0.515867/O60+2.481278/(O60^2))+(0.439004+0.916461/L60-0.073809/L60^2))/2)) | Q60: =IF(M60="〇",P60,"") | U60: =IF($T$11="","",HLOOKUP(T$11,計算シート!$AE$1235:$CR$1535,$B60+1)) | V60: =IF(U60="","",IF(AND(U60>=$M$5,$G60=""),"〇","")) | W60: =IF(V60="","",0.0775*U60+0.2546) | X60: =IF(OR($D60<1,$D$3=""),"",HLOOKUP(入力シート!$T$11,計算シート!$AE$15:$CR$317,$B60+3)) | Y60: =IF(X60="","",((U60^2)*PI()/40000)*X60*(((0.435719+0.515867/X60+2.481278/(X60^2))+(0.439004+0.916461/U60-0.073809/U60^2))/2)) | Z60: =IF(V60="〇",Y60,"")
... B311: 300 | H311: =IF(D311="","",((D311^2)*PI()/40000)*F311*(((0.435719+0.515867/F311+2.481278/(F311^2))+(0.439004+0.916461/D311-0.073809/D311^2))/2)) | J311: =IF(OR(E311<1,$D$2=""),"",E311-F311) | L311: =IF($K$11="","",HLOOKUP(K$11,計算シート!$AE$1235:$CR$1535,$B311+1)) | M311: =IF(L311="","",IF(AND(L311>=$D$5,$G311=""),"〇","")) | N311: =IF(M311="","",0.0775*L311+0.2546) | O311: =IF(OR($D311<1,$D$3=""),"",HLOOKUP(入力シート!$K$11,計算シート!$AE$15:$CR$317,$B311+3)) | P311: =IF(O311="","",((L311^2)*PI()/40000)*O311*(((0.435719+0.515867/O311+2.481278/(O311^2))+(0.439004+0.916461/L311-0.073809/L311^2))/2)) | Q311: =IF(M311="〇",P311,"") | U311: =IF($T$11="","",HLOOKUP(T$11,計算シート!$AE$1235:$CR$1535,$B311+1)) | V311: =IF(U311="","",IF(AND(U311>=$M$5,$G311=""),"〇","")) | W311: =IF(V311="","",0.0775*U311+0.2546) | X311: =IF(OR($D311<1,$D$3=""),"",HLOOKUP(入力シート!$T$11,計算シート!$AE$15:$CR$317,$B311+3)) | Y311: =IF(X311="","",((U311^2)*PI()/40000)*X311*(((0.435719+0.515867/X311+2.481278/(X311^2))+(0.439004+0.916461/U311-0.073809/U311^2))/2)) | Z311: =IF(V311="〇",Y311,"")

Sheet 計算シート
B1: 林齢 | C1: =入力シート!D2 -> 28 | D1: 年 | AE1: DBH予測 | AF1: 採用 | AG1: 目的変数：ln(DBH)
B2: 面積 | C2: =入力シート!D3 -> 0.04 | D2: ha | AE2: 切片 | AF2: -0.74115
B3: 地位指数 算定用本数 | C3: =(C2*10000)/100 -> 4 | D3: 本 | AE3: lnCD | AF3: 0.10715
B4: 上層高平均 | C4: =(SUM(OFFSET(D18,0,0,C3)))/C3 -> 22.675 | D4: ｍ | AE4: lnAge | AF4: 0.52221
B5: 地位指数 | C5: =22.142*C4/(26.763*((1-0.9752*EXP(-0.0468*C1))^1.1664)) -> 26.781277 | AE5: lnSI | AF5: 0.65001
B6: ガイドカーブ | C6: =(26.763*((1-0.9752*EXP(-0.0468*C1))^1.1664)) -> 18.747047 | AE6: CiDplusH | AF6: -0.46653
AE7: R2: 0.7753
B8: ガイドカーブ＝(26.763*((1-0.9752*EXP(-0.0468*林齢))^1.1664))
AK14: # 推定値の補正用
G15: D2合計 | AD15: 林齢 | AE15: =C1 -> 28 | AF15: =AE15+1 -> 29 | AG15: =AF15+1 -> 30 | AH15: =AG15+1 -> 31 | AI15: =AH15+1 -> 32 | AJ15: =AI15+1 -> 33 | AK15: =AJ15+1 -> 34 | AL15: =AK15+1 -> 35 | AM15: =AL15+1 -> 36 | ... CR15: =CQ15+1 -> 93
G16: =SUM(G18:G317) -> 14016.84 | K16: 1 | L16: 2 | M16: 3 | N16: 4 | R16: 調査データを胸高直径の大きい順番に配列し、CI_Dを算出 | AD16: 経過年数 | AE16: 0 | AF16: =AE16+1 -> 1 | AG16: =AF16+1 -> 2 | AH16: =AG16+1 -> 3 | AI16: =AH16+1 -> 4 | AJ16: =AI16+1 -> 5 | AK16: =AJ16+1 -> 6 | AL16: =AK16+1 -> 7 | AM16: =AL16+1 -> 8 | ... CR16: =CQ16+1 -> 65
A17: =入力シート!B11 -> ID | B17: =入力シート!C11 -> 個体番号 | C17: =入力シート!D11 -> 胸高直径 cm | D17: =入力シート!E11 -> 樹高 m | E17: Hb | F17: CD | G17: D^2 | H17: 積算D2 | I17: CI H | J17: (CI H + CI D+CICD)/3 | K17: DBHの順位 | L17: CI D | M17: CID× 10 | N17: (CID× 10)^2 | O17: 作業列 | P17: CDの順位 | Q17: Ci_CD | R17: DBH rank ID | S17: DBH | T17: D^2 | U17: 積算D＾2 | V17: CI D | W17: CD Rank ID | X17: CDの大きい順 | Y17: CD Rankの DBH | Z17: D2 | AA17: 積算D2 | AB17: CiCD | AD17: H
A18: =入力シート!B12 -> 1 | B18: =入力シート!C12 -> 29 | C18: =入力シート!D12 -> 22.3 | D18: =入力シート!E12 -> 22.8 | E18: =入力シート!F12 -> 16.1 | F18: =D18-E18 -> 6.7 | G18: =IF(OR(C18="",C18<1),"",C18^2) -> 497.29 | H18: 0 | I18: =IF(OR(D18="",D18<1),"",H18/$G$16) -> 0 | J18: =IF(OR(I18="",L18=""),"",(I18+L18+Q18)/3) -> 0.049915673 | K18: =IF(OR(C18="",C18<1),"",RANK(C18,$C$18:$C$317)) -> 4 | L18: =IF(K18="","",VLOOKUP(K18,$R$18:$V$317,5)) -> 0.11426898 | M18: =IF(OR(K18="",K18<1),"",L18*10) -> 1.1426898 | N18: =IF(OR(K18="",K18<1),"",M18^2) -> 1.30574 | O18: =IF(F18<0.000001,"",F18-(A18/10000)) -> 6.6999 | P18: =RANK(F18,$F$18:$F$317) -> 23 | Q18: =VLOOKUP(P18,$W$17:$AB$317,6) -> 0.035478039 | R18: 1 | S18: =LARGE($C$18:$C$317,A18) -> 23.8 | T18: =S18^2 -> 566.44 | U18: 0 | V18: =IF(OR(S18="",S18<1),"",U18/$G$16) -> 0 | W18: 1 | X18: =IF(O18="","",LARGE($O$18:$O$317,A18)) -> 10.3996 | Y18: =INDEX($C$18:$C$317,MATCH(X18,$O$18:$O$317,0)) -> 21.2 | Z18: =IF(OR(Y18="",Y18<1),"",Y18^2) -> 449.44 | AA18: 0 | AB18: 0 | AE18: =IF(OR($D18="",$D18<1),"",変化量!$J15+変化量!L15) -> 22.8 | AF18: =IF(OR($D18="",$D18<1),"",AE18+(変化量!M15-変化量!L15)) -> 23.242174 | AG18: =IF(OR($D18="",$D18<1),"",AF18+(変化量!N15-変化量!M15)) -> 23.665235 | AH18: =IF(OR($D18="",$D18<1),"",AG18+(変化量!O15-変化量!N15)) -> 24.069944 | AI18: =IF(OR($D18="",$D18<1),"",AH18+(変化量!P15-変化量!O15)) -> 24.457043 | AJ18: =IF(OR($D18="",$D18<1),"",AI18+(変化量!Q15-変化量!P15)) -> 24.827246 | AK18: =IF(OR($D18="",$D18<1),"",AJ18+(変化量!R15-変化量!Q15)) -> 25.181247 | AL18: =IF(OR($D18="",$D18<1),"",AK18+(変化量!S15-変化量!R15)) -> 25.519716 | AM18: =IF(OR($D18="",$D18<1),"",AL18+(変化量!T15-変化量!S15)) -> 25.843298 | ... CR18: =IF(OR($D18="",$D18<1),"",CQ18+(変化量!BY15-変化量!BX15)) -> 32.235576
A19: =入力シート!B13 -> 2 | B19: =入力シート!C13 -> 19 | C19: =入力シート!D13 -> 23.8 | D19: =入力シート!E13 -> 22.7 | E19: =入力シート!F13 -> 14.5 | F19: =D19-E19 -> 8.2 | G19: =IF(OR(C19="",C19<1),"",C19^2) -> 566.44 | H19: =IF(OR(D19="",D19<1),"",G18) -> 497.29 | I19: =IF(OR(D19="",D19<1),"",H19/$G$16) -> 0.035478039 | J19: =IF(OR(I19="",L19=""),"",(I19+L19+Q19)/3) -> 0.019790005 | K19: =IF(OR(C19="",C19<1),"",RANK(C19,$C$18:$C$317)) -> 1 | L19: =IF(K19="","",VLOOKUP(K19,$R$18:$V$317,5)) -> 0 | M19: =IF(OR(K19="",K19<1),"",L19*10) -> 0 | N19: =IF(OR(K19="",K19<1),"",M19^2) -> 0 | O19: =IF(F19<0.000001,"",F19-(A19/10000)) -> 8.1998 | P19: =RANK(F19,$F$18:$F$317) -> 6 | Q19: =VLOOKUP(P19,$W$17:$AB$317,6) -> 0.023891976 | R19: 2 | S19: =LARGE($C$18:$C$317,A19) -> 23 | T19: =S19^2 -> 529 | U19: =IF(OR(S19="",S19<1),"",T18) -> 566.44 | V19: =IF(OR(S19="",S19<1),"",U19/$G$16) -> 0.040411391 | W19: 2 | X19: =IF(O19="","",LARGE($O$18:$O$317,A19)) -> 9.7994 | Y19: =INDEX($C$18:$C$317,MATCH(X19,$O$18:$O$317,0)) -> 23 | Z19: =IF(OR(Y19="",Y19<1),"",Y19^2) -> 529 | AA19: =IF(OR(X19="",X19<0.000001),"",Z18) -> 449.44 | AB19: =IF(OR(AA19="",AA19<0.00001),"",AA19/$G$16) -> 0.032064288 | AE19: =IF(OR($D19="",$D19<1),"",変化量!$J16+変化量!L16) -> 22.7 | AF19: =IF(OR($D19="",$D19<1),"",AE19+(変化量!M16-変化量!L16)) -> 23.138844 | AG19: =IF(OR($D19="",$D19<1),"",AF19+(変化量!N16-変化量!M16)) -> 23.558719 | AH19: =IF(OR($D19="",$D19<1),"",AG19+(変化量!O16-変化量!N16)) -> 23.960381 | AI19: =IF(OR($D19="",$D19<1),"",AH19+(変化量!P16-変化量!O16)) -> 24.344564 | AJ19: =IF(OR($D19="",$D19<1),"",AI19+(変化量!Q16-変化量!P16)) -> 24.711979 | AK19: =IF(OR($D19="",$D19<1),"",AJ19+(変化量!R16-変化量!Q16)) -> 25.063315 | AL19: =IF(OR($D19="",$D19<1),"",AK19+(変化量!S16-変化量!R16)) -> 25.399234 | AM19: =IF(OR($D19="",$D19<1),"",AL19+(変化量!T16-変化量!S16)) -> 25.72038 | ... CR19: =IF(OR($D19="",$D19<1),"",CQ19+(変化量!BY16-変化量!BX16)) -> 32.06452
A20: =入力シート!B14 -> 3 | B20: =入力シート!C14 -> 15 | C20: =入力シート!D14 -> 21.5 | D20: =入力シート!E14 -> 22.7 | E20: =入力シート!F14 -> 15 | F20: =D20-E20 -> 7.7 | G20: =IF(OR(C20="",C20<1),"",C20^2) -> 462.25 | H20: =IF(OR(D20="",D20<1),"",G19+H19) -> 1063.73 | I20: =IF(OR(D20="",D20<1),"",H20/$G$16) -> 0.07588943 | J20: =IF(OR(I20="",L20=""),"",(I20+L20+Q20)/3) -> 0.096329843 | K20: =IF(OR(C20="",C20<1),"",RANK(C20,$C$18:$C$317)) -> 6 | L20: =IF(K20="","",VLOOKUP(K20,$R$18:$V$317,5)) -> 0.18427691 | M20: =IF(OR(K20="",K20<1),"",L20*10) -> 1.8427691 | N20: =IF(OR(K20="",K20<1),"",M20^2) -> 3.3957981 | O20: =IF(F20<0.000001,"",F20-(A20/10000)) -> 7.6997 | P20: =RANK(F20,$F$18:$F$317) -> 14 | Q20: =VLOOKUP(P20,$W$17:$AB$317,6) -> 0.028823187 | R20: 3 | S20: =LARGE($C$18:$C$317,A20) -> 22.5 | T20: =S20^2 -> 506.25 | U20: =IF(OR(S20="",S20<1),"",T19+U19) -> 1095.44 | V20: =IF(OR(S20="",S20<1),"",U20/$G$16) -> 0.078151709 | W20: 3 | X20: =IF(O20="","",LARGE($O$18:$O$317,A20)) -> 8.5977 | Y20: =INDEX($C$18:$C$317,MATCH(X20,$O$18:$O$317,0)) -> 17.9 | Z20: =IF(OR(Y20="",Y20<1),"",Y20^2) -> 320.41 | AA20: =IF(OR(X20="",X20<0.000001),"",Z19) -> 529 | AB20: =IF(OR(AA20="",AA20<0.00001),"",AA20/$G$16) -> 0.037740318 | AE20: =IF(OR($D20="",$D20<1),"",変化量!$J17+変化量!L17) -> 22.7 | AF20: =IF(OR($D20="",$D20<1),"",AE20+(変化量!M17-変化量!L17)) -> 23.135051 | AG20: =IF(OR($D20="",$D20<1),"",AF20+(変化量!N17-変化量!M17)) -> 23.551297 | AH20: =IF(OR($D20="",$D20<1),"",AG20+(変化量!O17-変化量!N17)) -> 23.949487 | AI20: =IF(OR($D20="",$D20<1),"",AH20+(変化量!P17-変化量!O17)) -> 24.33035 | AJ20: =IF(OR($D20="",$D20<1),"",AI20+(変化量!Q17-変化量!P17)) -> 24.69459 | AK20: =IF(OR($D20="",$D20<1),"",AJ20+(変化量!R17-変化量!Q17)) -> 25.042889 | AL20: =IF(OR($D20="",$D20<1),"",AK20+(変化量!S17-変化量!R17)) -> 25.375905 | AM20: =IF(OR($D20="",$D20<1),"",AL20+(変化量!T17-変化量!S17)) -> 25.694275 | ... CR20: =IF(OR($D20="",$D20<1),"",CQ20+(変化量!BY17-変化量!BX17)) -> 31.983582
A21: =入力シート!B15 -> 4 | B21: =入力シート!C15 -> 16 | C21: =入力シート!D15 -> 21.2 | D21: =入力シート!E15 -> 22.5 | E21: =入力シート!F15 -> 12.1 | F21: =D21-E21 -> 10.4 | G21: =IF(OR(C21="",C21<1),"",C21^2) -> 449.44 | H21: =IF(OR(D21="",D21<1),"",G20+H20) -> 1525.98 | I21: =IF(OR(D21="",D21<1),"",H21/$G$16) -> 0.10886762 | J21: =IF(OR(I21="",L21=""),"",(I21+L21+Q21)/3) -> 0.1197003 | K21: =IF(OR(C21="",C21<1),"",RANK(C21,$C$18:$C$317)) -> 8 | L21: =IF(K21="","",VLOOKUP(K21,$R$18:$V$317,5)) -> 0.25023329 | M21: =IF(OR(K21="",K21<1),"",L21*10) -> 2.5023329 | N21: =IF(OR(K21="",K21<1),"",M21^2) -> 6.26167 | O21: =IF(F21<0.000001,"",F21-(A21/10000)) -> 10.3996 | P21: =RANK(F21,$F$18:$F$317) -> 1 | Q21: =VLOOKUP(P21,$W$17:$AB$317,6) -> 0 | R21: 4 | S21: =LARGE($C$18:$C$317,A21) -> 22.3 | T21: =S21^2 -> 497.29 | U21: =IF(OR(S21="",S21<1),"",T20+U20) -> 1601.69 | V21: =IF(OR(S21="",S21<1),"",U21/$G$16) -> 0.11426898 | W21: 4 | X21: =IF(O21="","",LARGE($O$18:$O$317,A21)) -> 8.4974 | Y21: =INDEX($C$18:$C$317,MATCH(X21,$O$18:$O$317,0)) -> 17.5 | Z21: =IF(OR(Y21="",Y21<1),"",Y21^2) -> 306.25 | AA21: =IF(OR(X21="",X21<0.000001),"",Z20) -> 320.41 | AB21: =IF(OR(AA21="",AA21<0.00001),"",AA21/$G$16) -> 0.022858933 | AE21: =IF(OR($D21="",$D21<1),"",変化量!$J18+変化量!L18) -> 22.5 | AF21: =IF(OR($D21="",$D21<1),"",AE21+(変化量!M18-変化量!L18)) -> 22.931956 | AG21: =IF(OR($D21="",$D21<1),"",AF21+(変化量!N18-変化量!M18)) -> 23.34524 | AH21: =IF(OR($D21="",$D21<1),"",AG21+(変化量!O18-変化量!N18)) -> 23.740598 | AI21: =IF(OR($D21="",$D21<1),"",AH21+(変化量!P18-変化量!O18)) -> 24.118751 | AJ21: =IF(OR($D21="",$D21<1),"",AI21+(変化量!Q18-変化量!P18)) -> 24.480399 | AK21: =IF(OR($D21="",$D21<1),"",AJ21+(変化量!R18-変化量!Q18)) -> 24.82622 | AL21: =IF(OR($D21="",$D21<1),"",AK21+(変化量!S18-変化量!R18)) -> 25.156867 | AM21: =IF(OR($D21="",$D21<1),"",AL21+(変化量!T18-変化量!S18)) -> 25.472972 | ... CR21: =IF(OR($D21="",$D21<1),"",CQ21+(変化量!BY18-変化量!BX18)) -> 31.717532
A22: =入力シート!B16 -> 5 | B22: =入力シート!C16 -> 10 | C22: =入力シート!D16 -> 20.4 | D22: =入力シート!E16 -> 22.1 | E22: =入力シート!F16 -> 15.9 | F22: =D22-E22 -> 6.2 | G22: =IF(OR(C22="",C22<1),"",C22^2) -> 416.16 | H22: =IF(OR(D22="",D22<1),"",G21+H21) -> 1975.42 | I22: =IF(OR(D22="",D22<1),"",H22/$G$16) -> 0.14093191 | J22: =IF(OR(I22="",L22=""),"",(I22+L22+Q22)/3) -> 0.18089289 | K22: =IF(OR(C22="",C22<1),"",RANK(C22,$C$18:$C$317)) -> 12 | L22: =IF(K22="","",VLOOKUP(K22,$R$18:$V$317,5)) -> 0.37461867 | M22: =IF(OR(K22="",K22<1),"",L22*10) -> 3.7461867 | N22: =IF(OR(K22="",K22<1),"",M22^2) -> 14.033915 | O22: =IF(F22<0.000001,"",F22-(A22/10000)) -> 6.1995 | P22: =RANK(F22,$F$18:$F$317) -> 29 | Q22: =VLOOKUP(P22,$W$17:$AB$317,6) -> 0.027128083 | R22: 5 | S22: =LARGE($C$18:$C$317,A22) -> 22 | T22: =S22^2 -> 484 | U22: =IF(OR(S22="",S22<1),"",T21+U21) -> 2098.98 | V22: =IF(OR(S22="",S22<1),"",U22/$G$16) -> 0.14974702 | W22: 5 | X22: =IF(O22="","",LARGE($O$18:$O$317,A22)) -> 8.2981 | Y22: =INDEX($C$18:$C$317,MATCH(X22,$O$18:$O$317,0)) -> 18.3 | Z22: =IF(OR(Y22="",Y22<1),"",Y22^2) -> 334.89 | AA22: =IF(OR(X22="",X22<0.000001),"",Z21) -> 306.25 | AB22: =IF(OR(AA22="",AA22<0.00001),"",AA22/$G$16) -> 0.021848719 | AE22: =IF(OR($D22="",$D22<1),"",変化量!$J19+変化量!L19) -> 22.1 | AF22: =IF(OR($D22="",$D22<1),"",AE22+(変化量!M19-変化量!L19)) -> 22.528947 | AG22: =IF(OR($D22="",$D22<1),"",AF22+(変化量!N19-変化量!M19)) -> 22.939352 | AH22: =IF(OR($D22="",$D22<1),"",AG22+(変化量!O19-変化量!N19)) -> 23.331954 | AI22: =IF(OR($D22="",$D22<1),"",AH22+(変化量!P19-変化量!O19)) -> 23.707473 | AJ22: =IF(OR($D22="",$D22<1),"",AI22+(変化量!Q19-変化量!P19)) -> 24.066601 | AK22: =IF(OR($D22="",$D22<1),"",AJ22+(変化量!R19-変化量!Q19)) -> 24.410013 | AL22: =IF(OR($D22="",$D22<1),"",AK22+(変化量!S19-変化量!R19)) -> 24.738356 | AM22: =IF(OR($D22="",$D22<1),"",AL22+(変化量!T19-変化量!S19)) -> 25.052259 | ... CR22: =IF(OR($D22="",$D22<1),"",CQ22+(変化量!BY19-変化量!BX19)) -> 31.253313
A23: =入力シート!B17 -> 6 | B23: =入力シート!C17 -> 21 | C23: =入力シート!D17 -> 23 | D23: =入力シート!E17 -> 21.9 | E23: =入力シート!F17 -> 12.1 | F23: =D23-E23 -> 9.8 | G23: =IF(OR(C23="",C23<1),"",C23^2) -> 529 | H23: =IF(OR(D23="",D23<1),"",G22+H22) -> 2391.58 | I23: =IF(OR(D23="",D23<1),"",H23/$G$16) -> 0.17062191 | J23: =IF(OR(I23="",L23=""),"",(I23+L23+Q23)/3) -> 0.081032529 | K23: =IF(OR(C23="",C23<1),"",RANK(C23,$C$18:$C$317)) -> 2 | L23: =IF(K23="","",VLOOKUP(K23,$R$18:$V$317,5)) -> 0.040411391 | M23: =IF(OR(K23="",K23<1),"",L23*10) -> 0.40411391 | N23: =IF(OR(K23="",K23<1),"",M23^2) -> 0.16330805 | O23: =IF(F23<0.000001,"",F23-(A23/10000)) -> 9.7994 | P23: =RANK(F23,$F$18:$F$317) -> 2 | Q23: =VLOOKUP(P23,$W$17:$AB$317,6) -> 0.032064288 | R23: 6 | S23: =LARGE($C$18:$C$317,A23) -> 21.5 | T23: =S23^2 -> 462.25 | U23: =IF(OR(S23="",S23<1),"",T22+U22) -> 2582.98 | V23: =IF(OR(S23="",S23<1),"",U23/$G$16) -> 0.18427691 | W23: 6 | X23: =IF(O23="","",LARGE($O$18:$O$317,A23)) -> 8.1998 | Y23: =INDEX($C$18:$C$317,MATCH(X23,$O$18:$O$317,0)) -> 23.8 | Z23: =IF(OR(Y23="",Y23<1),"",Y23^2) -> 566.44 | AA23: =IF(OR(X23="",X23<0.000001),"",Z22) -> 334.89 | AB23: =IF(OR(AA23="",AA23<0.00001),"",AA23/$G$16) -> 0.023891976 | AE23: =IF(OR($D23="",$D23<1),"",変化量!$J20+変化量!L20) -> 21.9 | AF23: =IF(OR($D23="",$D23<1),"",AE23+(変化量!M20-変化量!L20)) -> 22.32616 | AG23: =IF(OR($D23="",$D23<1),"",AF23+(変化量!N20-変化量!M20)) -> 22.733899 | AH23: =IF(OR($D23="",$D23<1),"",AG23+(変化量!O20-変化量!N20)) -> 23.123951 | AI23: =IF(OR($D23="",$D23<1),"",AH23+(変化量!P20-変化量!O20)) -> 23.49703 | AJ23: =IF(OR($D23="",$D23<1),"",AI23+(変化量!Q20-変化量!P20)) -> 23.853825 | AK23: =IF(OR($D23="",$D23<1),"",AJ23+(変化量!R20-変化量!Q20)) -> 24.195006 | AL23: =IF(OR($D23="",$D23<1),"",AK23+(変化量!S20-変化量!R20)) -> 24.521216 | AM23: =IF(OR($D23="",$D23<1),"",AL23+(変化量!T20-変化量!S20)) -> 24.833079 | ... CR23: =IF(OR($D23="",$D23<1),"",CQ23+(変化量!BY20-変化量!BX20)) -> 30.993848
A24: =入力シート!B18 -> 7 | B24: =入力シート!C18 -> 20 | C24: =入力シート!D18 -> 20.5 | D24: =入力シート!E18 -> 21.8 | E24: =入力シート!F18 -> 14.6 | F24: =D24-E24 -> 7.2 | G24: =IF(OR(C24="",C24<1),"",C24^2) -> 420.25 | H24: =IF(OR(D24="",D24<1),"",G23+H23) -> 2920.58 | I24: =IF(OR(D24="",D24<1),"",H24/$G$16) -> 0.20836223 | J24: =IF(OR(I24="",L24=""),"",(I24+L24+Q24)/3) -> 0.19203805 | K24: =IF(OR(C24="",C24<1),"",RANK(C24,$C$18:$C$317)) -> 11 | L24: =IF(K24="","",VLOOKUP(K24,$R$18:$V$317,5)) -> 0.34463688 | M24: =IF(OR(K24="",K24<1),"",L24*10) -> 3.4463688 | N24: =IF(OR(K24="",K24<1),"",M24^2) -> 11.877458 | O24: =IF(F24<0.000001,"",F24-(A24/10000)) -> 7.1993 | P24: =RANK(F24,$F$18:$F$317) -> 18 | Q24: =VLOOKUP(P24,$W$17:$AB$317,6) -> 0.023115053 | R24: 7 | S24: =LARGE($C$18:$C$317,A24) -> 21.5 | T24: =S24^2 -> 462.25 | U24: =IF(OR(S24="",S24<1),"",T23+U23) -> 3045.23 | V24: =IF(OR(S24="",S24<1),"",U24/$G$16) -> 0.2172551 | W24: 7 | X24: =IF(O24="","",LARGE($O$18:$O$317,A24)) -> 8.1975 | Y24: =INDEX($C$18:$C$317,MATCH(X24,$O$18:$O$317,0)) -> 18.9 | Z24: =IF(OR(Y24="",Y24<1),"",Y24^2) -> 357.21 | AA24: =IF(OR(X24="",X24<0.000001),"",Z23) -> 566.44 | AB24: =IF(OR(AA24="",AA24<0.00001),"",AA24/$G$16) -> 0.040411391 | AE24: =IF(OR($D24="",$D24<1),"",変化量!$J21+変化量!L21) -> 21.8 | AF24: =IF(OR($D24="",$D24<1),"",AE24+(変化量!M21-変化量!L21)) -> 22.222618 | AG24: =IF(OR($D24="",$D24<1),"",AF24+(変化量!N21-変化量!M21)) -> 22.626967 | AH24: =IF(OR($D24="",$D24<1),"",AG24+(変化量!O21-変化量!N21)) -> 23.013777 | AI24: =IF(OR($D24="",$D24<1),"",AH24+(変化量!P21-変化量!O21)) -> 23.383755 | AJ24: =IF(OR($D24="",$D24<1),"",AI24+(変化量!Q21-変化量!P21)) -> 23.737585 | AK24: =IF(OR($D24="",$D24<1),"",AJ24+(変化量!R21-変化量!Q21)) -> 24.07593 | AL24: =IF(OR($D24="",$D24<1),"",AK24+(変化量!S21-変化量!R21)) -> 24.399429 | AM24: =IF(OR($D24="",$D24<1),"",AL24+(変化量!T21-変化量!S21)) -> 24.7087 | ... CR24: =IF(OR($D24="",$D24<1),"",CQ24+(変化量!BY21-変化量!BX21)) -> 30.818261
A25: =入力シート!B19 -> 8 | B25: =入力シート!C19 -> 4 | C25: =入力シート!D19 -> 21.2 | D25: =入力シート!E19 -> 21.6 | E25: =入力シート!F19 -> 13.5 | F25: =D25-E25 -> 8.1 | G25: =IF(OR(C25="",C25<1),"",C25^2) -> 449.44 | H25: =IF(OR(D25="",D25<1),"",G24+H24) -> 3340.83 | I25: =IF(OR(D25="",D25<1),"",H25/$G$16) -> 0.23834402 | J25: =IF(OR(I25="",L25=""),"",(I25+L25+Q25)/3) -> 0.17135389 | K25: =IF(OR(C25="",C25<1),"",RANK(C25,$C$18:$C$317)) -> 8 | L25: =IF(K25="","",VLOOKUP(K25,$R$18:$V$317,5)) -> 0.25023329 | M25: =IF(OR(K25="",K25<1),"",L25*10) -> 2.5023329 | N25: =IF(OR(K25="",K25<1),"",M25^2) -> 6.26167 | O25: =IF(F25<0.000001,"",F25-(A25/10000)) -> 8.0992 | P25: =RANK(F25,$F$18:$F$317) -> 8 | Q25: =VLOOKUP(P25,$W$17:$AB$317,6) -> 0.025484346 | R25: 8 | S25: =LARGE($C$18:$C$317,A25) -> 21.2 | T25: =S25^2 -> 449.44 | U25: =IF(OR(S25="",S25<1),"",T24+U24) -> 3507.48 | V25: =IF(OR(S25="",S25<1),"",U25/$G$16) -> 0.25023329 | W25: 8 | X25: =IF(O25="","",LARGE($O$18:$O$317,A25)) -> 8.0992 | Y25: =INDEX($C$18:$C$317,MATCH(X25,$O$18:$O$317,0)) -> 21.2 | Z25: =IF(OR(Y25="",Y25<1),"",Y25^2) -> 449.44 | AA25: =IF(OR(X25="",X25<0.000001),"",Z24) -> 357.21 | AB25: =IF(OR(AA25="",AA25<0.00001),"",AA25/$G$16) -> 0.025484346 | AE25: =IF(OR($D25="",$D25<1),"",変化量!$J22+変化量!L22) -> 21.6 | AF25: =IF(OR($D25="",$D25<1),"",AE25+(変化量!M22-変化量!L22)) -> 22.019804 | AG25: =IF(OR($D25="",$D25<1),"",AF25+(変化量!N22-変化量!M22)) -> 22.421461 | AH25: =IF(OR($D25="",$D25<1),"",AG25+(変化量!O22-変化量!N22)) -> 22.805695 | AI25: =IF(OR($D25="",$D25<1),"",AH25+(変化量!P22-変化量!O22)) -> 23.17321 | AJ25: =IF(OR($D25="",$D25<1),"",AI25+(変化量!Q22-変化量!P22)) -> 23.524684 | AK25: =IF(OR($D25="",$D25<1),"",AJ25+(変化量!R22-変化量!Q22)) -> 23.860775 | AL25: =IF(OR($D25="",$D25<1),"",AK25+(変化量!S22-変化量!R22)) -> 24.18212 | AM25: =IF(OR($D25="",$D25<1),"",AL25+(変化量!T22-変化量!S22)) -> 24.489332 | ... CR25: =IF(OR($D25="",$D25<1),"",CQ25+(変化量!BY22-変化量!BX22)) -> 30.558212
A26: =入力シート!B20 -> 9 | B26: =入力シート!C20 -> 2 | C26: =入力シート!D20 -> 20.6 | D26: =入力シート!E20 -> 21.5 | E26: =入力シート!F20 -> 14.9 | F26: =D26-E26 -> 6.6 | G26: =IF(OR(C26="",C26<1),"",C26^2) -> 424.36 | H26: =IF(OR(D26="",D26<1),"",G25+H25) -> 3790.27 | I26: =IF(OR(D26="",D26<1),"",H26/$G$16) -> 0.27040831 | J26: =IF(OR(I26="",L26=""),"",(I26+L26+Q26)/3) -> 0.20501506 | K26: =IF(OR(C26="",C26<1),"",RANK(C26,$C$18:$C$317)) -> 10 | L26: =IF(K26="","",VLOOKUP(K26,$R$18:$V$317,5)) -> 0.31436187 | M26: =IF(OR(K26="",K26<1),"",L26*10) -> 3.1436187 | N26: =IF(OR(K26="",K26<1),"",M26^2) -> 9.8823384 | O26: =IF(F26<0.000001,"",F26-(A26/10000)) -> 6.5991 | P26: =RANK(F26,$F$18:$F$317) -> 25 | Q26: =VLOOKUP(P26,$W$17:$AB$317,6) -> 0.030275012 | R26: 9 | S26: =LARGE($C$18:$C$317,A26) -> 21.2 | T26: =S26^2 -> 449.44 | U26: =IF(OR(S26="",S26<1),"",T25+U25) -> 3956.92 | V26: =IF(OR(S26="",S26<1),"",U26/$G$16) -> 0.28229758 | W26: 9 | X26: =IF(O26="","",LARGE($O$18:$O$317,A26)) -> 8.0989 | Y26: =INDEX($C$18:$C$317,MATCH(X26,$O$18:$O$317,0)) -> 21.5 | Z26: =IF(OR(Y26="",Y26<1),"",Y26^2) -> 462.25 | AA26: =IF(OR(X26="",X26<0.000001),"",Z25) -> 449.44 | AB26: =IF(OR(AA26="",AA26<0.00001),"",AA26/$G$16) -> 0.032064288 | AE26: =IF(OR($D26="",$D26<1),"",変化量!$J23+変化量!L23) -> 21.5 | AF26: =IF(OR($D26="",$D26<1),"",AE26+(変化量!M23-変化量!L23)) -> 21.916794 | AG26: =IF(OR($D26="",$D26<1),"",AF26+(変化量!N23-変化量!M23)) -> 22.315572 | AH26: =IF(OR($D26="",$D26<1),"",AG26+(変化量!O23-変化量!N23)) -> 22.697052 | AI26: =IF(OR($D26="",$D26<1),"",AH26+(変化量!P23-変化量!O23)) -> 23.061932 | AJ26: =IF(OR($D26="",$D26<1),"",AI26+(変化量!Q23-変化量!P23)) -> 23.410886 | AK26: =IF(OR($D26="",$D26<1),"",AJ26+(変化量!R23-変化量!Q23)) -> 23.744568 | AL26: =IF(OR($D26="",$D26<1),"",AK26+(変化量!S23-変化量!R23)) -> 24.063609 | AM26: =IF(OR($D26="",$D26<1),"",AL26+(変化量!T23-変化量!S23)) -> 24.368619 | ... CR26: =IF(OR($D26="",$D26<1),"",CQ26+(変化量!BY23-変化量!BX23)) -> 30.393992
A27: =入力シート!B21 -> 10 | B27: =入力シート!C21 -> 27 | C27: =入力シート!D21 -> 22.5 | D27: =入力シート!E21 -> 21.4 | E27: =入力シート!F21 -> 13.5 | F27: =D27-E27 -> 7.9 | G27: =IF(OR(C27="",C27<1),"",C27^2) -> 506.25 | H27: =IF(OR(D27="",D27<1),"",G26+H26) -> 4214.63 | I27: =IF(OR(D27="",D27<1),"",H27/$G$16) -> 0.30068332 | J27: =IF(OR(I27="",L27=""),"",(I27+L27+Q27)/3) -> 0.13477313 | K27: =IF(OR(C27="",C27<1),"",RANK(C27,$C$18:$C$317)) -> 3 | L27: =IF(K27="","",VLOOKUP(K27,$R$18:$V$317,5)) -> 0.078151709 | M27: =IF(OR(K27="",K27<1),"",L27*10) -> 0.78151709 | N27: =IF(OR(K27="",K27<1),"",M27^2) -> 0.61076896 | O27: =IF(F27<0.000001,"",F27-(A27/10000)) -> 7.899 | P27: =RANK(F27,$F$18:$F$317) -> 11 | Q27: =VLOOKUP(P27,$W$17:$AB$317,6) -> 0.025484346 | R27: 10 | S27: =LARGE($C$18:$C$317,A27) -> 20.6 | T27: =S27^2 -> 424.36 | U27: =IF(OR(S27="",S27<1),"",T26+U26) -> 4406.36 | V27: =IF(OR(S27="",S27<1),"",U27/$G$16) -> 0.31436187 | W27: 10 | X27: =IF(O27="","",LARGE($O$18:$O$317,A27)) -> 8.0971 | Y27: =INDEX($C$18:$C$317,MATCH(X27,$O$18:$O$317,0)) -> 18.9 | Z27: =IF(OR(Y27="",Y27<1),"",Y27^2) -> 357.21 | AA27: =IF(OR(X27="",X27<0.000001),"",Z26) -> 462.25 | AB27: =IF(OR(AA27="",AA27<0.00001),"",AA27/$G$16) -> 0.032978189 | AE27: =IF(OR($D27="",$D27<1),"",変化量!$J24+変化量!L24) -> 21.4 | AF27: =IF(OR($D27="",$D27<1),"",AE27+(変化量!M24-変化量!L24)) -> 21.813953 | AG27: =IF(OR($D27="",$D27<1),"",AF27+(変化量!N24-変化量!M24)) -> 22.210012 | AH27: =IF(OR($D27="",$D27<1),"",AG27+(変化量!O24-変化量!N24)) -> 22.588891 | AI27: =IF(OR($D27="",$D27<1),"",AH27+(変化量!P24-変化量!O24)) -> 22.951283 | AJ27: =IF(OR($D27="",$D27<1),"",AI27+(変化量!Q24-変化量!P24)) -> 23.297858 | AK27: =IF(OR($D27="",$D27<1),"",AJ27+(変化量!R24-変化量!Q24)) -> 23.629266 | AL27: =IF(OR($D27="",$D27<1),"",AK27+(変化量!S24-変化量!R24)) -> 23.946132 | AM27: =IF(OR($D27="",$D27<1),"",AL27+(変化量!T24-変化量!S24)) -> 24.249062 | ... CR27: =IF(OR($D27="",$D27<1),"",CQ27+(変化量!BY24-変化量!BX24)) -> 30.233357
A28: =入力シート!B22 -> 11 | B28: =入力シート!C22 -> 31 | C28: =入力シート!D22 -> 21.5 | D28: =入力シート!E22 -> 21.2 | E28: =入力シート!F22 -> 13.1 | F28: =D28-E28 -> 8.1 | G28: =IF(OR(C28="",C28<1),"",C28^2) -> 462.25 | H28: =IF(OR(D28="",D28<1),"",G27+H27) -> 4720.88 | I28: =IF(OR(D28="",D28<1),"",H28/$G$16) -> 0.33680059 | J28: =IF(OR(I28="",L28=""),"",(I28+L28+Q28)/3) -> 0.18468523 | K28: =IF(OR(C28="",C28<1),"",RANK(C28,$C$18:$C$317)) -> 6 | L28: =IF(K28="","",VLOOKUP(K28,$R$18:$V$317,5)) -> 0.18427691 | M28: =IF(OR(K28="",K28<1),"",L28*10) -> 1.8427691 | N28: =IF(OR(K28="",K28<1),"",M28^2) -> 3.3957981 | O28: =IF(F28<0.000001,"",F28-(A28/10000)) -> 8.0989 | P28: =RANK(F28,$F$18:$F$317) -> 10 | Q28: =VLOOKUP(P28,$W$17:$AB$317,6) -> 0.032978189 | R28: 11 | S28: =LARGE($C$18:$C$317,A28) -> 20.5 | T28: =S28^2 -> 420.25 | U28: =IF(OR(S28="",S28<1),"",T27+U27) -> 4830.72 | V28: =IF(OR(S28="",S28<1),"",U28/$G$16) -> 0.34463688 | W28: 11 | X28: =IF(O28="","",LARGE($O$18:$O$317,A28)) -> 7.899 | Y28: =INDEX($C$18:$C$317,MATCH(X28,$O$18:$O$317,0)) -> 22.5 | Z28: =IF(OR(Y28="",Y28<1),"",Y28^2) -> 506.25 | AA28: =IF(OR(X28="",X28<0.000001),"",Z27) -> 357.21 | AB28: =IF(OR(AA28="",AA28<0.00001),"",AA28/$G$16) -> 0.025484346 | AE28: =IF(OR($D28="",$D28<1),"",変化量!$J25+変化量!L25) -> 21.2 | AF28: =IF(OR($D28="",$D28<1),"",AE28+(変化量!M25-変化量!L25)) -> 21.610563 | AG28: =IF(OR($D28="",$D28<1),"",AF28+(変化量!N25-変化量!M25)) -> 22.003379 | AH28: =IF(OR($D28="",$D28<1),"",AG28+(変化量!O25-変化量!N25)) -> 22.379155 | AI28: =IF(OR($D28="",$D28<1),"",AH28+(変化量!P25-変化量!O25)) -> 22.738579 | AJ28: =IF(OR($D28="",$D28<1),"",AI28+(変化量!Q25-変化量!P25)) -> 23.082317 | AK28: =IF(OR($D28="",$D28<1),"",AJ28+(変化量!R25-変化量!Q25)) -> 23.41101 | AL28: =IF(OR($D28="",$D28<1),"",AK28+(変化量!S25-変化量!R25)) -> 23.725281 | AM28: =IF(OR($D28="",$D28<1),"",AL28+(変化量!T25-変化量!S25)) -> 24.025731 | ... CR28: =IF(OR($D28="",$D28<1),"",CQ28+(変化量!BY25-変化量!BX25)) -> 29.961019
A29: =入力シート!B23 -> 12 | B29: =入力シート!C23 -> 3 | C29: =入力シート!D23 -> 19 | D29: =入力シート!E23 -> 20.9 | E29: =入力シート!F23 -> 13.5 | F29: =D29-E29 -> 7.4 | G29: =IF(OR(C29="",C29<1),"",C29^2) -> 361 | H29: =IF(OR(D29="",D29<1),"",G28+H28) -> 5183.13 | I29: =IF(OR(D29="",D29<1),"",H29/$G$16) -> 0.36977878 | J29: =IF(OR(I29="",L29=""),"",(I29+L29+Q29)/3) -> 0.33200517 | K29: =IF(OR(C29="",C29<1),"",RANK(C29,$C$18:$C$317)) -> 20 | L29: =IF(K29="","",VLOOKUP(K29,$R$18:$V$317,5)) -> 0.60048199 | M29: =IF(OR(K29="",K29<1),"",L29*10) -> 6.0048199 | N29: =IF(OR(K29="",K29<1),"",M29^2) -> 36.057862 | O29: =IF(F29<0.000001,"",F29-(A29/10000)) -> 7.3988 | P29: =RANK(F29,$F$18:$F$317) -> 16 | Q29: =VLOOKUP(P29,$W$17:$AB$317,6) -> 0.025754735 | R29: 12 | S29: =LARGE($C$18:$C$317,A29) -> 20.4 | T29: =S29^2 -> 416.16 | U29: =IF(OR(S29="",S29<1),"",T28+U28) -> 5250.97 | V29: =IF(OR(S29="",S29<1),"",U29/$G$16) -> 0.37461867 | W29: 12 | X29: =IF(O29="","",LARGE($O$18:$O$317,A29)) -> 7.8985 | Y29: =INDEX($C$18:$C$317,MATCH(X29,$O$18:$O$317,0)) -> 20.2 | Z29: =IF(OR(Y29="",Y29<1),"",Y29^2) -> 408.04 | AA29: =IF(OR(X29="",X29<0.000001),"",Z28) -> 506.25 | AB29: =IF(OR(AA29="",AA29<0.00001),"",AA29/$G$16) -> 0.03611727 | AE29: =IF(OR($D29="",$D29<1),"",変化量!$J26+変化量!L26) -> 20.9 | AF29: =IF(OR($D29="",$D29<1),"",AE29+(変化量!M26-変化量!L26)) -> 21.307468 | AG29: =IF(OR($D29="",$D29<1),"",AF29+(変化量!N26-変化量!M26)) -> 21.697322 | AH29: =IF(OR($D29="",$D29<1),"",AG29+(変化量!O26-変化量!N26)) -> 22.070265 | AI29: =IF(OR($D29="",$D29<1),"",AH29+(変化量!P26-変化量!O26)) -> 22.42698 | AJ29: =IF(OR($D29="",$D29<1),"",AI29+(変化量!Q26-変化量!P26)) -> 22.768126 | AK29: =IF(OR($D29="",$D29<1),"",AJ29+(変化量!R26-変化量!Q26)) -> 23.094341 | AL29: =IF(OR($D29="",$D29<1),"",AK29+(変化量!S26-変化量!R26)) -> 23.406243 | AM29: =IF(OR($D29="",$D29<1),"",AL29+(変化量!T26-変化量!S26)) -> 23.704427 | ... CR29: =IF(OR($D29="",$D29<1),"",CQ29+(変化量!BY26-変化量!BX26)) -> 29.59497
A30: =入力シート!B24 -> 13 | B30: =入力シート!C24 -> 28 | C30: =入力シート!D24 -> 18.3 | D30: =入力シート!E24 -> 20.7 | E30: =入力シート!F24 -> 14.4 | F30: =D30-E30 -> 6.3 | G30: =IF(OR(C30="",C30<1),"",C30^2) -> 334.89 | H30: =IF(OR(D30="",D30<1),"",G29+H29) -> 5544.13 | I30: =IF(OR(D30="",D30<1),"",H30/$G$16) -> 0.39553352 | J30: =IF(OR(I30="",L30=""),"",(I30+L30+Q30)/3) -> 0.38581354 | K30: =IF(OR(C30="",C30<1),"",RANK(C30,$C$18:$C$317)) -> 25 | L30: =IF(K30="","",VLOOKUP(K30,$R$18:$V$317,5)) -> 0.72737721 | M30: =IF(OR(K30="",K30<1),"",L30*10) -> 7.2737721 | N30: =IF(OR(K30="",K30<1),"",M30^2) -> 52.907761 | O30: =IF(F30<0.000001,"",F30-(A30/10000)) -> 6.2987 | P30: =RANK(F30,$F$18:$F$317) -> 27 | Q30: =VLOOKUP(P30,$W$17:$AB$317,6) -> 0.034529894 | R30: 13 | S30: =LARGE($C$18:$C$317,A30) -> 20.3 | T30: =S30^2 -> 412.09 | U30: =IF(OR(S30="",S30<1),"",T29+U29) -> 5667.13 | V30: =IF(OR(S30="",S30<1),"",U30/$G$16) -> 0.40430867 | W30: 13 | X30: =IF(O30="","",LARGE($O$18:$O$317,A30)) -> 7.8969 | Y30: =INDEX($C$18:$C$317,MATCH(X30,$O$18:$O$317,0)) -> 20.1 | Z30: =IF(OR(Y30="",Y30<1),"",Y30^2) -> 404.01 | AA30: =IF(OR(X30="",X30<0.000001),"",Z29) -> 408.04 | AB30: =IF(OR(AA30="",AA30<0.00001),"",AA30/$G$16) -> 0.029110698 | AE30: =IF(OR($D30="",$D30<1),"",変化量!$J27+変化量!L27) -> 20.7 | AF30: =IF(OR($D30="",$D30<1),"",AE30+(変化量!M27-変化量!L27)) -> 21.10505 | AG30: =IF(OR($D30="",$D30<1),"",AF30+(変化量!N27-変化量!M27)) -> 21.492592 | AH30: =IF(OR($D30="",$D30<1),"",AG30+(変化量!O27-変化量!N27)) -> 21.863323 | AI30: =IF(OR($D30="",$D30<1),"",AH30+(変化量!P27-変化量!O27)) -> 22.217921 | AJ30: =IF(OR($D30="",$D30<1),"",AI30+(変化量!Q27-変化量!P27)) -> 22.557043 | AK30: =IF(OR($D30="",$D30<1),"",AJ30+(変化量!R27-変化量!Q27)) -> 22.881323 | AL30: =IF(OR($D30="",$D30<1),"",AK30+(変化量!S27-変化量!R27)) -> 23.191375 | AM30: =IF(OR($D30="",$D30<1),"",AL30+(変化量!T27-変化量!S27)) -> 23.48779 | ... CR30: =IF(OR($D30="",$D30<1),"",CQ30+(変化量!BY27-変化量!BX27)) -> 29.343387
A31: =入力シート!B25 -> 14 | B31: =入力シート!C25 -> 37 | C31: =入力シート!D25 -> 19.3 | D31: =入力シート!E25 -> 20.6 | E31: =入力シート!F25 -> 13.8 | F31: =D31-E31 -> 6.8 | G31: =IF(OR(C31="",C31<1),"",C31^2) -> 372.49 | H31: =IF(OR(D31="",D31<1),"",G30+H30) -> 5879.02 | I31: =IF(OR(D31="",D31<1),"",H31/$G$16) -> 0.41942549 | J31: =IF(OR(I31="",L31=""),"",(I31+L31+Q31)/3) -> 0.32764446 | K31: =IF(OR(C31="",C31<1),"",RANK(C31,$C$18:$C$317)) -> 18 | L31: =IF(K31="","",VLOOKUP(K31,$R$18:$V$317,5)) -> 0.54788098 | M31: =IF(OR(K31="",K31<1),"",L31*10) -> 5.4788098 | N31: =IF(OR(K31="",K31<1),"",M31^2) -> 30.017357 | O31: =IF(F31<0.000001,"",F31-(A31/10000)) -> 6.7986 | P31: =RANK(F31,$F$18:$F$317) -> 21 | Q31: =VLOOKUP(P31,$W$17:$AB$317,6) -> 0.015626917 | R31: 14 | S31: =LARGE($C$18:$C$317,A31) -> 20.2 | T31: =S31^2 -> 408.04 | U31: =IF(OR(S31="",S31<1),"",T30+U30) -> 6079.22 | V31: =IF(OR(S31="",S31<1),"",U31/$G$16) -> 0.43370831 | W31: 14 | X31: =IF(O31="","",LARGE($O$18:$O$317,A31)) -> 7.6997 | Y31: =INDEX($C$18:$C$317,MATCH(X31,$O$18:$O$317,0)) -> 21.5 | Z31: =IF(OR(Y31="",Y31<1),"",Y31^2) -> 462.25 | AA31: =IF(OR(X31="",X31<0.000001),"",Z30) -> 404.01 | AB31: =IF(OR(AA31="",AA31<0.00001),"",AA31/$G$16) -> 0.028823187 | AE31: =IF(OR($D31="",$D31<1),"",変化量!$J28+変化量!L28) -> 20.6 | AF31: =IF(OR($D31="",$D31<1),"",AE31+(変化量!M28-変化量!L28)) -> 21.002808 | AG31: =IF(OR($D31="",$D31<1),"",AF31+(変化量!N28-変化量!M28)) -> 21.388204 | AH31: =IF(OR($D31="",$D31<1),"",AG31+(変化量!O28-変化量!N28)) -> 21.756882 | AI31: =IF(OR($D31="",$D31<1),"",AH31+(変化量!P28-変化量!O28)) -> 22.109518 | AJ31: =IF(OR($D31="",$D31<1),"",AI31+(変化量!Q28-変化量!P28)) -> 22.446762 | AK31: =IF(OR($D31="",$D31<1),"",AJ31+(変化量!R28-変化量!Q28)) -> 22.769247 | AL31: =IF(OR($D31="",$D31<1),"",AK31+(変化量!S28-変化量!R28)) -> 23.077582 | AM31: =IF(OR($D31="",$D31<1),"",AL31+(変化量!T28-変化量!S28)) -> 23.372356 | ... CR31: =IF(OR($D31="",$D31<1),"",CQ31+(変化量!BY28-変化量!BX28)) -> 29.195535
... A316: =入力シート!B310 -> 299 | B316: =入力シート!C310 -> 0 | C316: =入力シート!D310 -> 0 | D316: =入力シート!E310 -> 0 | E316: =入力シート!F310 -> 0 | F316: =D316-E316 -> 0 | G316: =IF(OR(C316="",C316<1),"",C316^2) | H316: =IF(OR(D316="",D316<1),"",G315+H315) | I316: =IF(OR(D316="",D316<1),"",H316/$G$16) | J316: =IF(OR(I316="",L316=""),"",(I316+L316+Q316)/3) | K316: =IF(OR(C316="",C316<1),"",RANK(C316,$C$18:$C$317)) | L316: =IF(K316="","",VLOOKUP(K316,$R$18:$V$317,5)) | M316: =IF(OR(K316="",K316<1),"",L316*10) | N316: =IF(OR(K316="",K316<1),"",M316^2) | O316: =IF(F316<0.000001,"",F316-(A316/10000)) | P316: =RANK(F316,$F$18:$F$317) -> 38 | Q316: =VLOOKUP(P316,$W$17:$AB$317,6) | R316: 299 | S316: =LARGE($C$18:$C$317,A316) -> 0 | T316: =S316^2 -> 0 | U316: =IF(OR(S316="",S316<1),"",T315+U315) | V316: =IF(OR(S316="",S316<1),"",U316/$G$16) | W316: 299 | X316: =IF(O316="","",LARGE($O$18:$O$317,A316)) | Y316: =INDEX($C$18:$C$317,MATCH(X316,$O$18:$O$317,0)) -> 0 | Z316: =IF(OR(Y316="",Y316<1),"",Y316^2) | AA316: =IF(OR(X316="",X316<0.000001),"",Z315) | AB316: =IF(OR(AA316="",AA316<0.00001),"",AA316/$G$16) | AE316: =IF(OR($D316="",$D316<1),"",変化量!$J313+変化量!L313) | AF316: =IF(OR($D316="",$D316<1),"",AE316+(変化量!M313-変化量!L313)) | AG316: =IF(OR($D316="",$D316<1),"",AF316+(変化量!N313-変化量!M313)) | AH316: =IF(OR($D316="",$D316<1),"",AG316+(変化量!O313-変化量!N313)) | AI316: =IF(OR($D316="",$D316<1),"",AH316+(変化量!P313-変化量!O313)) | AJ316: =IF(OR($D316="",$D316<1),"",AI316+(変化量!Q313-変化量!P313)) | AK316: =IF(OR($D316="",$D316<1),"",AJ316+(変化量!R313-変化量!Q313)) | AL316: =IF(OR($D316="",$D316<1),"",AK316+(変化量!S313-変化量!R313)) | AM316: =IF(OR($D316="",$D316<1),"",AL316+(変化量!T313-変化量!S313)) | ... CR316: =IF(OR($D316="",$D316<1),"",CQ316+(変化量!BY313-変化量!BX313))
A317: =入力シート!B311 -> 300 | B317: =入力シート!C311 -> 0 | C317: =入力シート!D311 -> 0 | D317: =入力シート!E311 -> 0 | E317: =入力シート!F311 -> 0 | F317: =D317-E317 -> 0 | G317: =IF(OR(C317="",C317<1),"",C317^2) | H317: =IF(OR(D317="",D317<1),"",G316+H316) | I317: =IF(OR(D317="",D317<1),"",H317/$G$16) | J317: =IF(OR(I317="",L317=""),"",(I317+L317+Q317)/3) | L317: =IF(K317="","",VLOOKUP(K317,$R$18:$V$317,5)) | M317: =IF(OR(K317="",K317<1),"",L317*10) | N317: =IF(OR(K317="",K317<1),"",M317^2) | O317: =IF(F317<0.000001,"",F317-(A317/10000)) | P317: =RANK(F317,$F$18:$F$317) -> 38 | Q317: =VLOOKUP(P317,$W$17:$AB$317,6) | R317: 300 | S317: =LARGE($C$18:$C$317,A317) -> 0 | T317: =S317^2 -> 0 | U317: =IF(OR(S317="",S317<1),"",T316+U316) | V317: =IF(OR(S317="",S317<1),"",U317/$G$16) | W317: 300 | X317: =IF(O317="","",LARGE($O$18:$O$317,A317)) | Y317: =INDEX($C$18:$C$317,MATCH(X317,$O$18:$O$317,0)) -> 0 | Z317: =IF(OR(Y317="",Y317<1),"",Y317^2) | AA317: =IF(OR(X317="",X317<0.000001),"",Z316) | AB317: =IF(OR(AA317="",AA317<0.00001),"",AA317/$G$16) | AE317: =IF(OR($D317="",$D317<1),"",変化量!$J314+変化量!L314) | AF317: =IF(OR($D317="",$D317<1),"",AE317+(変化量!M314-変化量!L314)) | AG317: =IF(OR($D317="",$D317<1),"",AF317+(変化量!N314-変化量!M314)) | AH317: =IF(OR($D317="",$D317<1),"",AG317+(変化量!O314-変化量!N314)) | AI317: =IF(OR($D317="",$D317<1),"",AH317+(変化量!P314-変化量!O314)) | AJ317: =IF(OR($D317="",$D317<1),"",AI317+(変化量!Q314-変化量!P314)) | AK317: =IF(OR($D317="",$D317<1),"",AJ317+(変化量!R314-変化量!Q314)) | AL317: =IF(OR($D317="",$D317<1),"",AK317+(変化量!S314-変化量!R314)) | AM317: =IF(OR($D317="",$D317<1),"",AL317+(変化量!T314-変化量!S314)) | ... CR317: =IF(OR($D317="",$D317<1),"",CQ317+(変化量!BY314-変化量!BX314))
A320: 枝下高
A321: ID
A322: =入力シート!B12 -> 1 | AE322: =IF(OR($D18="",$D18<1),"",変化量!$L319+変化量!J319) -> 16.1 | AF322: =IF(OR($D18="",$D18<1),"",AE322+(変化量!M319-変化量!L319)) -> 16.366795 | AG322: =IF(OR($D18="",$D18<1),"",AF322+(変化量!N319-変化量!M319)) -> 16.622057 | AH322: =IF(OR($D18="",$D18<1),"",AG322+(変化量!O319-変化量!N319)) -> 16.866247 | AI322: =IF(OR($D18="",$D18<1),"",AH322+(変化量!P319-変化量!O319)) -> 17.099811 | AJ322: =IF(OR($D18="",$D18<1),"",AI322+(変化量!Q319-変化量!P319)) -> 17.32318 | AK322: =IF(OR($D18="",$D18<1),"",AJ322+(変化量!R319-変化量!Q319)) -> 17.536774 | AL322: =IF(OR($D18="",$D18<1),"",AK322+(変化量!S319-変化量!R319)) -> 17.740996 | AM322: =IF(OR($D18="",$D18<1),"",AL322+(変化量!T319-変化量!S319)) -> 17.936236 | ... CR322: =IF(OR($D18="",$D18<1),"",CQ322+(変化量!BY319-変化量!BX319)) -> 21.793148
A323: =入力シート!B13 -> 2 | AE323: =IF(OR($D19="",$D19<1),"",変化量!$L320+変化量!J320) -> 14.5 | AF323: =IF(OR($D19="",$D19<1),"",AE323+(変化量!M320-変化量!L320)) -> 14.766795 | AG323: =IF(OR($D19="",$D19<1),"",AF323+(変化量!N320-変化量!M320)) -> 15.022057 | AH323: =IF(OR($D19="",$D19<1),"",AG323+(変化量!O320-変化量!N320)) -> 15.266247 | AI323: =IF(OR($D19="",$D19<1),"",AH323+(変化量!P320-変化量!O320)) -> 15.499811 | AJ323: =IF(OR($D19="",$D19<1),"",AI323+(変化量!Q320-変化量!P320)) -> 15.72318 | AK323: =IF(OR($D19="",$D19<1),"",AJ323+(変化量!R320-変化量!Q320)) -> 15.936774 | AL323: =IF(OR($D19="",$D19<1),"",AK323+(変化量!S320-変化量!R320)) -> 16.140996 | AM323: =IF(OR($D19="",$D19<1),"",AL323+(変化量!T320-変化量!S320)) -> 16.336236 | ... CR323: =IF(OR($D19="",$D19<1),"",CQ323+(変化量!BY320-変化量!BX320)) -> 20.193148
A324: =入力シート!B14 -> 3 | AE324: =IF(OR($D20="",$D20<1),"",変化量!$L321+変化量!J321) -> 15 | AF324: =IF(OR($D20="",$D20<1),"",AE324+(変化量!M321-変化量!L321)) -> 15.266795 | AG324: =IF(OR($D20="",$D20<1),"",AF324+(変化量!N321-変化量!M321)) -> 15.522057 | AH324: =IF(OR($D20="",$D20<1),"",AG324+(変化量!O321-変化量!N321)) -> 15.766247 | AI324: =IF(OR($D20="",$D20<1),"",AH324+(変化量!P321-変化量!O321)) -> 15.999811 | AJ324: =IF(OR($D20="",$D20<1),"",AI324+(変化量!Q321-変化量!P321)) -> 16.22318 | AK324: =IF(OR($D20="",$D20<1),"",AJ324+(変化量!R321-変化量!Q321)) -> 16.436774 | AL324: =IF(OR($D20="",$D20<1),"",AK324+(変化量!S321-変化量!R321)) -> 16.640996 | AM324: =IF(OR($D20="",$D20<1),"",AL324+(変化量!T321-変化量!S321)) -> 16.836236 | ... CR324: =IF(OR($D20="",$D20<1),"",CQ324+(変化量!BY321-変化量!BX321)) -> 20.693148
A325: =入力シート!B15 -> 4 | AE325: =IF(OR($D21="",$D21<1),"",変化量!$L322+変化量!J322) -> 12.1 | AF325: =IF(OR($D21="",$D21<1),"",AE325+(変化量!M322-変化量!L322)) -> 12.366795 | AG325: =IF(OR($D21="",$D21<1),"",AF325+(変化量!N322-変化量!M322)) -> 12.622057 | AH325: =IF(OR($D21="",$D21<1),"",AG325+(変化量!O322-変化量!N322)) -> 12.866247 | AI325: =IF(OR($D21="",$D21<1),"",AH325+(変化量!P322-変化量!O322)) -> 13.099811 | AJ325: =IF(OR($D21="",$D21<1),"",AI325+(変化量!Q322-変化量!P322)) -> 13.32318 | AK325: =IF(OR($D21="",$D21<1),"",AJ325+(変化量!R322-変化量!Q322)) -> 13.536774 | AL325: =IF(OR($D21="",$D21<1),"",AK325+(変化量!S322-変化量!R322)) -> 13.740996 | AM325: =IF(OR($D21="",$D21<1),"",AL325+(変化量!T322-変化量!S322)) -> 13.936236 | ... CR325: =IF(OR($D21="",$D21<1),"",CQ325+(変化量!BY322-変化量!BX322)) -> 17.793148
A326: =入力シート!B16 -> 5 | AE326: =IF(OR($D22="",$D22<1),"",変化量!$L323+変化量!J323) -> 15.9 | AF326: =IF(OR($D22="",$D22<1),"",AE326+(変化量!M323-変化量!L323)) -> 16.166795 | AG326: =IF(OR($D22="",$D22<1),"",AF326+(変化量!N323-変化量!M323)) -> 16.422057 | AH326: =IF(OR($D22="",$D22<1),"",AG326+(変化量!O323-変化量!N323)) -> 16.666247 | AI326: =IF(OR($D22="",$D22<1),"",AH326+(変化量!P323-変化量!O323)) -> 16.899811 | AJ326: =IF(OR($D22="",$D22<1),"",AI326+(変化量!Q323-変化量!P323)) -> 17.12318 | AK326: =IF(OR($D22="",$D22<1),"",AJ326+(変化量!R323-変化量!Q323)) -> 17.336774 | AL326: =IF(OR($D22="",$D22<1),"",AK326+(変化量!S323-変化量!R323)) -> 17.540996 | AM326: =IF(OR($D22="",$D22<1),"",AL326+(変化量!T323-変化量!S323)) -> 17.736236 | ... CR326: =IF(OR($D22="",$D22<1),"",CQ326+(変化量!BY323-変化量!BX323)) -> 21.593148
A327: =入力シート!B17 -> 6 | AE327: =IF(OR($D23="",$D23<1),"",変化量!$L324+変化量!J324) -> 12.1 | AF327: =IF(OR($D23="",$D23<1),"",AE327+(変化量!M324-変化量!L324)) -> 12.366795 | AG327: =IF(OR($D23="",$D23<1),"",AF327+(変化量!N324-変化量!M324)) -> 12.622057 | AH327: =IF(OR($D23="",$D23<1),"",AG327+(変化量!O324-変化量!N324)) -> 12.866247 | AI327: =IF(OR($D23="",$D23<1),"",AH327+(変化量!P324-変化量!O324)) -> 13.099811 | AJ327: =IF(OR($D23="",$D23<1),"",AI327+(変化量!Q324-変化量!P324)) -> 13.32318 | AK327: =IF(OR($D23="",$D23<1),"",AJ327+(変化量!R324-変化量!Q324)) -> 13.536774 | AL327: =IF(OR($D23="",$D23<1),"",AK327+(変化量!S324-変化量!R324)) -> 13.740996 | AM327: =IF(OR($D23="",$D23<1),"",AL327+(変化量!T324-変化量!S324)) -> 13.936236 | ... CR327: =IF(OR($D23="",$D23<1),"",CQ327+(変化量!BY324-変化量!BX324)) -> 17.793148
A328: =入力シート!B18 -> 7 | AE328: =IF(OR($D24="",$D24<1),"",変化量!$L325+変化量!J325) -> 14.6 | AF328: =IF(OR($D24="",$D24<1),"",AE328+(変化量!M325-変化量!L325)) -> 14.866795 | AG328: =IF(OR($D24="",$D24<1),"",AF328+(変化量!N325-変化量!M325)) -> 15.122057 | AH328: =IF(OR($D24="",$D24<1),"",AG328+(変化量!O325-変化量!N325)) -> 15.366247 | AI328: =IF(OR($D24="",$D24<1),"",AH328+(変化量!P325-変化量!O325)) -> 15.599811 | AJ328: =IF(OR($D24="",$D24<1),"",AI328+(変化量!Q325-変化量!P325)) -> 15.82318 | AK328: =IF(OR($D24="",$D24<1),"",AJ328+(変化量!R325-変化量!Q325)) -> 16.036774 | AL328: =IF(OR($D24="",$D24<1),"",AK328+(変化量!S325-変化量!R325)) -> 16.240996 | AM328: =IF(OR($D24="",$D24<1),"",AL328+(変化量!T325-変化量!S325)) -> 16.436236 | ... CR328: =IF(OR($D24="",$D24<1),"",CQ328+(変化量!BY325-変化量!BX325)) -> 20.293148
A329: =入力シート!B19 -> 8 | AE329: =IF(OR($D25="",$D25<1),"",変化量!$L326+変化量!J326) -> 13.5 | AF329: =IF(OR($D25="",$D25<1),"",AE329+(変化量!M326-変化量!L326)) -> 13.766795 | AG329: =IF(OR($D25="",$D25<1),"",AF329+(変化量!N326-変化量!M326)) -> 14.022057 | AH329: =IF(OR($D25="",$D25<1),"",AG329+(変化量!O326-変化量!N326)) -> 14.266247 | AI329: =IF(OR($D25="",$D25<1),"",AH329+(変化量!P326-変化量!O326)) -> 14.499811 | AJ329: =IF(OR($D25="",$D25<1),"",AI329+(変化量!Q326-変化量!P326)) -> 14.72318 | AK329: =IF(OR($D25="",$D25<1),"",AJ329+(変化量!R326-変化量!Q326)) -> 14.936774 | AL329: =IF(OR($D25="",$D25<1),"",AK329+(変化量!S326-変化量!R326)) -> 15.140996 | AM329: =IF(OR($D25="",$D25<1),"",AL329+(変化量!T326-変化量!S326)) -> 15.336236 | ... CR329: =IF(OR($D25="",$D25<1),"",CQ329+(変化量!BY326-変化量!BX326)) -> 19.193148
A330: =入力シート!B20 -> 9 | AE330: =IF(OR($D26="",$D26<1),"",変化量!$L327+変化量!J327) -> 14.9 | AF330: =IF(OR($D26="",$D26<1),"",AE330+(変化量!M327-変化量!L327)) -> 15.166795 | AG330: =IF(OR($D26="",$D26<1),"",AF330+(変化量!N327-変化量!M327)) -> 15.422057 | AH330: =IF(OR($D26="",$D26<1),"",AG330+(変化量!O327-変化量!N327)) -> 15.666247 | AI330: =IF(OR($D26="",$D26<1),"",AH330+(変化量!P327-変化量!O327)) -> 15.899811 | AJ330: =IF(OR($D26="",$D26<1),"",AI330+(変化量!Q327-変化量!P327)) -> 16.12318 | AK330: =IF(OR($D26="",$D26<1),"",AJ330+(変化量!R327-変化量!Q327)) -> 16.336774 | AL330: =IF(OR($D26="",$D26<1),"",AK330+(変化量!S327-変化量!R327)) -> 16.540996 | AM330: =IF(OR($D26="",$D26<1),"",AL330+(変化量!T327-変化量!S327)) -> 16.736236 | ... CR330: =IF(OR($D26="",$D26<1),"",CQ330+(変化量!BY327-変化量!BX327)) -> 20.593148
A331: =入力シート!B21 -> 10 | AE331: =IF(OR($D27="",$D27<1),"",変化量!$L328+変化量!J328) -> 13.5 | AF331: =IF(OR($D27="",$D27<1),"",AE331+(変化量!M328-変化量!L328)) -> 13.766795 | AG331: =IF(OR($D27="",$D27<1),"",AF331+(変化量!N328-変化量!M328)) -> 14.022057 | AH331: =IF(OR($D27="",$D27<1),"",AG331+(変化量!O328-変化量!N328)) -> 14.266247 | AI331: =IF(OR($D27="",$D27<1),"",AH331+(変化量!P328-変化量!O328)) -> 14.499811 | AJ331: =IF(OR($D27="",$D27<1),"",AI331+(変化量!Q328-変化量!P328)) -> 14.72318 | AK331: =IF(OR($D27="",$D27<1),"",AJ331+(変化量!R328-変化量!Q328)) -> 14.936774 | AL331: =IF(OR($D27="",$D27<1),"",AK331+(変化量!S328-変化量!R328)) -> 15.140996 | AM331: =IF(OR($D27="",$D27<1),"",AL331+(変化量!T328-変化量!S328)) -> 15.336236 | ... CR331: =IF(OR($D27="",$D27<1),"",CQ331+(変化量!BY328-変化量!BX328)) -> 19.193148
A332: =入力シート!B22 -> 11 | AE332: =IF(OR($D28="",$D28<1),"",変化量!$L329+変化量!J329) -> 13.1 | AF332: =IF(OR($D28="",$D28<1),"",AE332+(変化量!M329-変化量!L329)) -> 13.366795 | AG332: =IF(OR($D28="",$D28<1),"",AF332+(変化量!N329-変化量!M329)) -> 13.622057 | AH332: =IF(OR($D28="",$D28<1),"",AG332+(変化量!O329-変化量!N329)) -> 13.866247 | AI332: =IF(OR($D28="",$D28<1),"",AH332+(変化量!P329-変化量!O329)) -> 14.099811 | AJ332: =IF(OR($D28="",$D28<1),"",AI332+(変化量!Q329-変化量!P329)) -> 14.32318 | AK332: =IF(OR($D28="",$D28<1),"",AJ332+(変化量!R329-変化量!Q329)) -> 14.536774 | AL332: =IF(OR($D28="",$D28<1),"",AK332+(変化量!S329-変化量!R329)) -> 14.740996 | AM332: =IF(OR($D28="",$D28<1),"",AL332+(変化量!T329-変化量!S329)) -> 14.936236 | ... CR332: =IF(OR($D28="",$D28<1),"",CQ332+(変化量!BY329-変化量!BX329)) -> 18.793148
A333: =入力シート!B23 -> 12 | AE333: =IF(OR($D29="",$D29<1),"",変化量!$L330+変化量!J330) -> 13.5 | AF333: =IF(OR($D29="",$D29<1),"",AE333+(変化量!M330-変化量!L330)) -> 13.766795 | AG333: =IF(OR($D29="",$D29<1),"",AF333+(変化量!N330-変化量!M330)) -> 14.022057 | AH333: =IF(OR($D29="",$D29<1),"",AG333+(変化量!O330-変化量!N330)) -> 14.266247 | AI333: =IF(OR($D29="",$D29<1),"",AH333+(変化量!P330-変化量!O330)) -> 14.499811 | AJ333: =IF(OR($D29="",$D29<1),"",AI333+(変化量!Q330-変化量!P330)) -> 14.72318 | AK333: =IF(OR($D29="",$D29<1),"",AJ333+(変化量!R330-変化量!Q330)) -> 14.936774 | AL333: =IF(OR($D29="",$D29<1),"",AK333+(変化量!S330-変化量!R330)) -> 15.140996 | AM333: =IF(OR($D29="",$D29<1),"",AL333+(変化量!T330-変化量!S330)) -> 15.336236 | ... CR333: =IF(OR($D29="",$D29<1),"",CQ333+(変化量!BY330-変化量!BX330)) -> 19.193148
... A621: =入力シート!B311 -> 300 | AE621: =IF(OR($D317="",$D317<1),"",変化量!$L618+変化量!J618) | AF621: =IF(OR($D317="",$D317<1),"",AE621+(変化量!M618-変化量!L618)) | AG621: =IF(OR($D317="",$D317<1),"",AF621+(変化量!N618-変化量!M618)) | AH621: =IF(OR($D317="",$D317<1),"",AG621+(変化量!O618-変化量!N618)) | AI621: =IF(OR($D317="",$D317<1),"",AH621+(変化量!P618-変化量!O618)) | AJ621: =IF(OR($D317="",$D317<1),"",AI621+(変化量!Q618-変化量!P618)) | AK621: =IF(OR($D317="",$D317<1),"",AJ621+(変化量!R618-変化量!Q618)) | AL621: =IF(OR($D317="",$D317<1),"",AK621+(変化量!S618-変化量!R618)) | AM621: =IF(OR($D317="",$D317<1),"",AL621+(変化量!T618-変化量!S618)) | ... CR621: =IF(OR($D317="",$D317<1),"",CQ621+(変化量!BY618-変化量!BX618))
A624: 樹冠長
A625: ID
A626: =入力シート!B12 -> 1 | AE626: =IF(OR($D18="",$D18<1),"",変化量!$L623+変化量!J623) -> 6.7 | AF626: =IF(OR($D18="",$D18<1),"",AE626+(変化量!M623-変化量!L623)) -> 6.8753794 | AG626: =IF(OR($D18="",$D18<1),"",AF626+(変化量!N623-変化量!M623)) -> 7.0431777 | AH626: =IF(OR($D18="",$D18<1),"",AG626+(変化量!O623-変化量!N623)) -> 7.2036975 | AI626: =IF(OR($D18="",$D18<1),"",AH626+(変化量!P623-変化量!O623)) -> 7.3572321 | AJ626: =IF(OR($D18="",$D18<1),"",AI626+(変化量!Q623-変化量!P623)) -> 7.5040656 | AK626: =IF(OR($D18="",$D18<1),"",AJ626+(変化量!R623-変化量!Q623)) -> 7.644473 | AL626: =IF(OR($D18="",$D18<1),"",AK626+(変化量!S623-変化量!R623)) -> 7.7787197 | AM626: =IF(OR($D18="",$D18<1),"",AL626+(変化量!T623-変化量!S623)) -> 7.907062 | ... CR626: =IF(OR($D18="",$D18<1),"",CQ626+(変化量!BY623-変化量!BX623)) -> 10.442428
A627: =入力シート!B13 -> 2 | AE627: =IF(OR($D19="",$D19<1),"",変化量!$L624+変化量!J624) -> 8.2 | AF627: =IF(OR($D19="",$D19<1),"",AE627+(変化量!M624-変化量!L624)) -> 8.3720495 | AG627: =IF(OR($D19="",$D19<1),"",AF627+(変化量!N624-変化量!M624)) -> 8.5366619 | AH627: =IF(OR($D19="",$D19<1),"",AG627+(変化量!O624-変化量!N624)) -> 8.6941339 | AI627: =IF(OR($D19="",$D19<1),"",AH627+(変化量!P624-変化量!O624)) -> 8.8447533 | AJ627: =IF(OR($D19="",$D19<1),"",AI627+(変化量!Q624-変化量!P624)) -> 8.988799 | AK627: =IF(OR($D19="",$D19<1),"",AJ627+(変化量!R624-変化量!Q624)) -> 9.1265404 | AL627: =IF(OR($D19="",$D19<1),"",AK627+(変化量!S624-変化量!R624)) -> 9.2582382 | AM627: =IF(OR($D19="",$D19<1),"",AL627+(変化量!T624-変化量!S624)) -> 9.3841438 | ... CR627: =IF(OR($D19="",$D19<1),"",CQ627+(変化量!BY624-変化量!BX624)) -> 11.871372
A628: =入力シート!B14 -> 3 | AE628: =IF(OR($D20="",$D20<1),"",変化量!$L625+変化量!J625) -> 7.7 | AF628: =IF(OR($D20="",$D20<1),"",AE628+(変化量!M625-変化量!L625)) -> 7.8682566 | AG628: =IF(OR($D20="",$D20<1),"",AF628+(変化量!N625-変化量!M625)) -> 8.02924 | AH628: =IF(OR($D20="",$D20<1),"",AG628+(変化量!O625-変化量!N625)) -> 8.1832404 | AI628: =IF(OR($D20="",$D20<1),"",AH628+(変化量!P625-変化量!O625)) -> 8.3305394 | AJ628: =IF(OR($D20="",$D20<1),"",AI628+(変化量!Q625-変化量!P625)) -> 8.4714095 | AK628: =IF(OR($D20="",$D20<1),"",AJ628+(変化量!R625-変化量!Q625)) -> 8.6061143 | AL628: =IF(OR($D20="",$D20<1),"",AK628+(変化量!S625-変化量!R625)) -> 8.7349088 | AM628: =IF(OR($D20="",$D20<1),"",AL628+(変化量!T625-変化量!S625)) -> 8.8580387 | ... CR628: =IF(OR($D20="",$D20<1),"",CQ628+(変化量!BY625-変化量!BX625)) -> 11.290434
A629: =入力シート!B15 -> 4 | AE629: =IF(OR($D21="",$D21<1),"",変化量!$L626+変化量!J626) -> 10.4 | AF629: =IF(OR($D21="",$D21<1),"",AE629+(変化量!M626-変化量!L626)) -> 10.565161 | AG629: =IF(OR($D21="",$D21<1),"",AF629+(変化量!N626-変化量!M626)) -> 10.723183 | AH629: =IF(OR($D21="",$D21<1),"",AG629+(変化量!O626-変化量!N626)) -> 10.874351 | AI629: =IF(OR($D21="",$D21<1),"",AH629+(変化量!P626-変化量!O626)) -> 11.01894 | AJ629: =IF(OR($D21="",$D21<1),"",AI629+(変化量!Q626-変化量!P626)) -> 11.157219 | AK629: =IF(OR($D21="",$D21<1),"",AJ629+(変化量!R626-変化量!Q626)) -> 11.289445 | AL629: =IF(OR($D21="",$D21<1),"",AK629+(変化量!S626-変化量!R626)) -> 11.41587 | AM629: =IF(OR($D21="",$D21<1),"",AL629+(変化量!T626-変化量!S626)) -> 11.536735 | ... CR629: =IF(OR($D21="",$D21<1),"",CQ629+(変化量!BY626-変化量!BX626)) -> 13.924384
A630: =入力シート!B16 -> 5 | AE630: =IF(OR($D22="",$D22<1),"",変化量!$L627+変化量!J627) -> 6.2 | AF630: =IF(OR($D22="",$D22<1),"",AE630+(変化量!M627-変化量!L627)) -> 6.3621518 | AG630: =IF(OR($D22="",$D22<1),"",AF630+(変化量!N627-変化量!M627)) -> 6.5172943 | AH630: =IF(OR($D22="",$D22<1),"",AG630+(変化量!O627-変化量!N627)) -> 6.6657073 | AI630: =IF(OR($D22="",$D22<1),"",AH630+(変化量!P627-変化量!O627)) -> 6.8076619 | AJ630: =IF(OR($D22="",$D22<1),"",AI630+(変化量!Q627-変化量!P627)) -> 6.9434209 | AK630: =IF(OR($D22="",$D22<1),"",AJ630+(変化量!R627-変化量!Q627)) -> 7.0732383 | AL630: =IF(OR($D22="",$D22<1),"",AK630+(変化量!S627-変化量!R627)) -> 7.1973598 | AM630: =IF(OR($D22="",$D22<1),"",AL630+(変化量!T627-変化量!S627)) -> 7.3160223 | ... CR630: =IF(OR($D22="",$D22<1),"",CQ630+(変化量!BY627-変化量!BX627)) -> 9.6601645
A631: =入力シート!B17 -> 6 | AE631: =IF(OR($D23="",$D23<1),"",変化量!$L628+変化量!J628) -> 9.8 | AF631: =IF(OR($D23="",$D23<1),"",AE631+(変化量!M628-変化量!L628)) -> 9.9593652 | AG631: =IF(OR($D23="",$D23<1),"",AF631+(変化量!N628-変化量!M628)) -> 10.111842 | AH631: =IF(OR($D23="",$D23<1),"",AG631+(変化量!O628-変化量!N628)) -> 10.257704 | AI631: =IF(OR($D23="",$D23<1),"",AH631+(変化量!P628-変化量!O628)) -> 10.397219 | AJ631: =IF(OR($D23="",$D23<1),"",AI631+(変化量!Q628-変化量!P628)) -> 10.530645 | AK631: =IF(OR($D23="",$D23<1),"",AJ631+(変化量!R628-変化量!Q628)) -> 10.658231 | AL631: =IF(OR($D23="",$D23<1),"",AK631+(変化量!S628-変化量!R628)) -> 10.78022 | AM631: =IF(OR($D23="",$D23<1),"",AL631+(変化量!T628-変化量!S628)) -> 10.896843 | ... CR631: =IF(OR($D23="",$D23<1),"",CQ631+(変化量!BY628-変化量!BX628)) -> 13.2007
A632: =入力シート!B18 -> 7 | AE632: =IF(OR($D24="",$D24<1),"",変化量!$L629+変化量!J629) -> 7.2 | AF632: =IF(OR($D24="",$D24<1),"",AE632+(変化量!M629-変化量!L629)) -> 7.3558229 | AG632: =IF(OR($D24="",$D24<1),"",AF632+(変化量!N629-変化量!M629)) -> 7.5049102 | AH632: =IF(OR($D24="",$D24<1),"",AG632+(変化量!O629-変化量!N629)) -> 7.6475305 | AI632: =IF(OR($D24="",$D24<1),"",AH632+(変化量!P629-変化量!O629)) -> 7.7839445 | AJ632: =IF(OR($D24="",$D24<1),"",AI632+(変化量!Q629-変化量!P629)) -> 7.9144048 | AK632: =IF(OR($D24="",$D24<1),"",AJ632+(変化量!R629-変化量!Q629)) -> 8.0391554 | AL632: =IF(OR($D24="",$D24<1),"",AK632+(変化量!S629-変化量!R629)) -> 8.1584323 | AM632: =IF(OR($D24="",$D24<1),"",AL632+(変化量!T629-変化量!S629)) -> 8.2724633 | ... CR632: =IF(OR($D24="",$D24<1),"",CQ632+(変化量!BY629-変化量!BX629)) -> 10.525113
A633: =入力シート!B19 -> 8 | AE633: =IF(OR($D25="",$D25<1),"",変化量!$L630+変化量!J630) -> 8.1 | AF633: =IF(OR($D25="",$D25<1),"",AE633+(変化量!M630-変化量!L630)) -> 8.2530089 | AG633: =IF(OR($D25="",$D25<1),"",AF633+(変化量!N630-変化量!M630)) -> 8.3994038 | AH633: =IF(OR($D25="",$D25<1),"",AG633+(変化量!O630-変化量!N630)) -> 8.5394485 | AI633: =IF(OR($D25="",$D25<1),"",AH633+(変化量!P630-変化量!O630)) -> 8.673399 | AJ633: =IF(OR($D25="",$D25<1),"",AI633+(変化量!Q630-変化量!P630)) -> 8.8015032 | AK633: =IF(OR($D25="",$D25<1),"",AJ633+(変化量!R630-変化量!Q630)) -> 8.924001 | AL633: =IF(OR($D25="",$D25<1),"",AK633+(変化量!S630-変化量!R630)) -> 9.0411239 | AM633: =IF(OR($D25="",$D25<1),"",AL633+(変化量!T630-変化量!S630)) -> 9.1530956 | ... CR633: =IF(OR($D25="",$D25<1),"",CQ633+(変化量!BY630-変化量!BX630)) -> 11.365064
A634: =入力シート!B20 -> 9 | AE634: =IF(OR($D26="",$D26<1),"",変化量!$L631+変化量!J631) -> 6.6 | AF634: =IF(OR($D26="",$D26<1),"",AE634+(変化量!M631-変化量!L631)) -> 6.7499994 | AG634: =IF(OR($D26="",$D26<1),"",AF634+(変化量!N631-変化量!M631)) -> 6.8935149 | AH634: =IF(OR($D26="",$D26<1),"",AG634+(変化量!O631-変化量!N631)) -> 7.0308051 | AI634: =IF(OR($D26="",$D26<1),"",AH634+(変化量!P631-変化量!O631)) -> 7.162121 | AJ634: =IF(OR($D26="",$D26<1),"",AI634+(変化量!Q631-変化量!P631)) -> 7.2877056 | AK634: =IF(OR($D26="",$D26<1),"",AJ634+(変化量!R631-変化量!Q631)) -> 7.4077939 | AL634: =IF(OR($D26="",$D26<1),"",AK634+(変化量!S631-変化量!R631)) -> 7.5226132 | AM634: =IF(OR($D26="",$D26<1),"",AL634+(変化量!T631-変化量!S631)) -> 7.6323825 | ... CR634: =IF(OR($D26="",$D26<1),"",CQ634+(変化量!BY631-変化量!BX631)) -> 9.8008443
A635: =入力シート!B21 -> 10 | AE635: =IF(OR($D27="",$D27<1),"",変化量!$L632+変化量!J632) -> 7.9 | AF635: =IF(OR($D27="",$D27<1),"",AE635+(変化量!M632-変化量!L632)) -> 8.0471579 | AG635: =IF(OR($D27="",$D27<1),"",AF635+(変化量!N632-変化量!M632)) -> 8.1879546 | AH635: =IF(OR($D27="",$D27<1),"",AG635+(変化量!O632-変化量!N632)) -> 8.322644 | AI635: =IF(OR($D27="",$D27<1),"",AH635+(変化量!P632-変化量!O632)) -> 8.4514723 | AJ635: =IF(OR($D27="",$D27<1),"",AI635+(変化量!Q632-変化量!P632)) -> 8.5746779 | AK635: =IF(OR($D27="",$D27<1),"",AJ635+(変化量!R632-変化量!Q632)) -> 8.6924913 | AL635: =IF(OR($D27="",$D27<1),"",AK635+(変化量!S632-変化量!R632)) -> 8.8051355 | AM635: =IF(OR($D27="",$D27<1),"",AL635+(変化量!T632-変化量!S632)) -> 8.9128254 | ... CR635: =IF(OR($D27="",$D27<1),"",CQ635+(変化量!BY632-変化量!BX632)) -> 11.040208
A636: =入力シート!B22 -> 11 | AE636: =IF(OR($D28="",$D28<1),"",変化量!$L633+変化量!J633) -> 8.1 | AF636: =IF(OR($D28="",$D28<1),"",AE636+(変化量!M633-変化量!L633)) -> 8.243768 | AG636: =IF(OR($D28="",$D28<1),"",AF636+(変化量!N633-変化量!M633)) -> 8.3813214 | AH636: =IF(OR($D28="",$D28<1),"",AG636+(変化量!O633-変化量!N633)) -> 8.5129081 | AI636: =IF(OR($D28="",$D28<1),"",AH636+(変化量!P633-変化量!O633)) -> 8.6387688 | AJ636: =IF(OR($D28="",$D28<1),"",AI636+(変化量!Q633-変化量!P633)) -> 8.7591362 | AK636: =IF(OR($D28="",$D28<1),"",AJ636+(変化量!R633-変化量!Q633)) -> 8.8742357 | AL636: =IF(OR($D28="",$D28<1),"",AK636+(変化量!S633-変化量!R633)) -> 8.984285 | AM636: =IF(OR($D28="",$D28<1),"",AL636+(変化量!T633-変化量!S633)) -> 9.0894942 | ... CR636: =IF(OR($D28="",$D28<1),"",CQ636+(変化量!BY633-変化量!BX633)) -> 11.167871
A637: =入力シート!B23 -> 12 | AE637: =IF(OR($D29="",$D29<1),"",変化量!$L634+変化量!J634) -> 7.4 | AF637: =IF(OR($D29="",$D29<1),"",AE637+(変化量!M634-変化量!L634)) -> 7.5406727 | AG637: =IF(OR($D29="",$D29<1),"",AF637+(変化量!N634-変化量!M634)) -> 7.6752646 | AH637: =IF(OR($D29="",$D29<1),"",AG637+(変化量!O634-変化量!N634)) -> 7.8040184 | AI637: =IF(OR($D29="",$D29<1),"",AH637+(変化量!P634-変化量!O634)) -> 7.9271693 | AJ637: =IF(OR($D29="",$D29<1),"",AI637+(変化量!Q634-変化量!P634)) -> 8.0449453 | AK637: =IF(OR($D29="",$D29<1),"",AJ637+(変化量!R634-変化量!Q634)) -> 8.1575667 | AL637: =IF(OR($D29="",$D29<1),"",AK637+(変化量!S634-変化量!R634)) -> 8.2652467 | AM637: =IF(OR($D29="",$D29<1),"",AL637+(変化量!T634-変化量!S634)) -> 8.3681908 | ... CR637: =IF(OR($D29="",$D29<1),"",CQ637+(変化量!BY634-変化量!BX634)) -> 10.401821
... A925: =入力シート!B311 -> 300 | AE925: =IF(OR($D317="",$D317<1),"",変化量!$L922+変化量!J922) | AF925: =IF(OR($D317="",$D317<1),"",AE925+(変化量!M922-変化量!L922)) | AG925: =IF(OR($D317="",$D317<1),"",AF925+(変化量!N922-変化量!M922)) | AH925: =IF(OR($D317="",$D317<1),"",AG925+(変化量!O922-変化量!N922)) | AI925: =IF(OR($D317="",$D317<1),"",AH925+(変化量!P922-変化量!O922)) | AJ925: =IF(OR($D317="",$D317<1),"",AI925+(変化量!Q922-変化量!P922)) | AK925: =IF(OR($D317="",$D317<1),"",AJ925+(変化量!R922-変化量!Q922)) | AL925: =IF(OR($D317="",$D317<1),"",AK925+(変化量!S922-変化量!R922)) | AM925: =IF(OR($D317="",$D317<1),"",AL925+(変化量!T922-変化量!S922)) | ... CR925: =IF(OR($D317="",$D317<1),"",CQ925+(変化量!BY922-変化量!BX922))
A928: DBH
A929: ID | AE929: =C1 -> 28 | AF929: =AE929+1 -> 29 | AG929: =AF929+1 -> 30 | AH929: =AG929+1 -> 31 | AI929: =AH929+1 -> 32 | AJ929: =AI929+1 -> 33 | AK929: =AJ929+1 -> 34 | AL929: =AK929+1 -> 35 | AM929: =AL929+1 -> 36 | ... CR929: =CQ929+1 -> 93
A930: =入力シート!B12 -> 1 | AE930: =IF(OR($D18="",$D18<1),"",EXP($AF$2+$AF$3*LN(AE626)+$AF$4*LN(AE$929)+$AF$5*LN($C$5)+$AF$6*$J18)) -> 27.564371 | AF930: =IF(OR($D18="",$D18<1),"",EXP($AF$2+$AF$3*LN(AF626)+$AF$4*LN(AF$929)+$AF$5*LN($C$5)+$AF$6*$J18)) -> 28.151981 | AG930: =IF(OR($D18="",$D18<1),"",EXP($AF$2+$AF$3*LN(AG626)+$AF$4*LN(AG$929)+$AF$5*LN($C$5)+$AF$6*$J18)) -> 28.728944 | AH930: =IF(OR($D18="",$D18<1),"",EXP($AF$2+$AF$3*LN(AH626)+$AF$4*LN(AH$929)+$AF$5*LN($C$5)+$AF$6*$J18)) -> 29.295764 | AI930: =IF(OR($D18="",$D18<1),"",EXP($AF$2+$AF$3*LN(AI626)+$AF$4*LN(AI$929)+$AF$5*LN($C$5)+$AF$6*$J18)) -> 29.852905 | AJ930: =IF(OR($D18="",$D18<1),"",EXP($AF$2+$AF$3*LN(AJ626)+$AF$4*LN(AJ$929)+$AF$5*LN($C$5)+$AF$6*$J18)) -> 30.400797 | AK930: =IF(OR($D18="",$D18<1),"",EXP($AF$2+$AF$3*LN(AK626)+$AF$4*LN(AK$929)+$AF$5*LN($C$5)+$AF$6*$J18)) -> 30.93984 | AL930: =IF(OR($D18="",$D18<1),"",EXP($AF$2+$AF$3*LN(AL626)+$AF$4*LN(AL$929)+$AF$5*LN($C$5)+$AF$6*$J18)) -> 31.470406 | ... CR930: =IF(OR($D18="",$D18<1),"",EXP($AF$2+$AF$3*LN(CR626)+$AF$4*LN(CR$929)+$AF$5*LN($C$5)+$AF$6*$J18)) -> 54.105303
A931: =入力シート!B13 -> 2 | AE931: =IF(OR($D19="",$D19<1),"",EXP($AF$2+$AF$3*LN(AE627)+$AF$4*LN(AE$929)+$AF$5*LN($C$5)+$AF$6*$J19)) -> 28.566243 | AF931: =IF(OR($D19="",$D19<1),"",EXP($AF$2+$AF$3*LN(AF627)+$AF$4*LN(AF$929)+$AF$5*LN($C$5)+$AF$6*$J19)) -> 29.159351 | AG931: =IF(OR($D19="",$D19<1),"",EXP($AF$2+$AF$3*LN(AG627)+$AF$4*LN(AG$929)+$AF$5*LN($C$5)+$AF$6*$J19)) -> 29.742165 | AH931: =IF(OR($D19="",$D19<1),"",EXP($AF$2+$AF$3*LN(AH627)+$AF$4*LN(AH$929)+$AF$5*LN($C$5)+$AF$6*$J19)) -> 30.315146 | AI931: =IF(OR($D19="",$D19<1),"",EXP($AF$2+$AF$3*LN(AI627)+$AF$4*LN(AI$929)+$AF$5*LN($C$5)+$AF$6*$J19)) -> 30.878722 | AJ931: =IF(OR($D19="",$D19<1),"",EXP($AF$2+$AF$3*LN(AJ627)+$AF$4*LN(AJ$929)+$AF$5*LN($C$5)+$AF$6*$J19)) -> 31.433292 | AK931: =IF(OR($D19="",$D19<1),"",EXP($AF$2+$AF$3*LN(AK627)+$AF$4*LN(AK$929)+$AF$5*LN($C$5)+$AF$6*$J19)) -> 31.979229 | AL931: =IF(OR($D19="",$D19<1),"",EXP($AF$2+$AF$3*LN(AL627)+$AF$4*LN(AL$929)+$AF$5*LN($C$5)+$AF$6*$J19)) -> 32.516879 | ... CR931: =IF(OR($D19="",$D19<1),"",EXP($AF$2+$AF$3*LN(CR627)+$AF$4*LN(CR$929)+$AF$5*LN($C$5)+$AF$6*$J19)) -> 55.630354
A932: =入力シート!B14 -> 3 | AE932: =IF(OR($D20="",$D20<1),"",EXP($AF$2+$AF$3*LN(AE628)+$AF$4*LN(AE$929)+$AF$5*LN($C$5)+$AF$6*$J20)) -> 27.379001 | AF932: =IF(OR($D20="",$D20<1),"",EXP($AF$2+$AF$3*LN(AF628)+$AF$4*LN(AF$929)+$AF$5*LN($C$5)+$AF$6*$J20)) -> 27.95001 | AG932: =IF(OR($D20="",$D20<1),"",EXP($AF$2+$AF$3*LN(AG628)+$AF$4*LN(AG$929)+$AF$5*LN($C$5)+$AF$6*$J20)) -> 28.511042 | AH932: =IF(OR($D20="",$D20<1),"",EXP($AF$2+$AF$3*LN(AH628)+$AF$4*LN(AH$929)+$AF$5*LN($C$5)+$AF$6*$J20)) -> 29.062547 | AI932: =IF(OR($D20="",$D20<1),"",EXP($AF$2+$AF$3*LN(AI628)+$AF$4*LN(AI$929)+$AF$5*LN($C$5)+$AF$6*$J20)) -> 29.604943 | AJ932: =IF(OR($D20="",$D20<1),"",EXP($AF$2+$AF$3*LN(AJ628)+$AF$4*LN(AJ$929)+$AF$5*LN($C$5)+$AF$6*$J20)) -> 30.138619 | AK932: =IF(OR($D20="",$D20<1),"",EXP($AF$2+$AF$3*LN(AK628)+$AF$4*LN(AK$929)+$AF$5*LN($C$5)+$AF$6*$J20)) -> 30.663937 | AL932: =IF(OR($D20="",$D20<1),"",EXP($AF$2+$AF$3*LN(AL628)+$AF$4*LN(AL$929)+$AF$5*LN($C$5)+$AF$6*$J20)) -> 31.181237 | ... CR932: =IF(OR($D20="",$D20<1),"",EXP($AF$2+$AF$3*LN(CR628)+$AF$4*LN(CR$929)+$AF$5*LN($C$5)+$AF$6*$J20)) -> 53.391135
A933: =入力シート!B15 -> 4 | AE933: =IF(OR($D21="",$D21<1),"",EXP($AF$2+$AF$3*LN(AE629)+$AF$4*LN(AE$929)+$AF$5*LN($C$5)+$AF$6*$J21)) -> 27.968561 | AF933: =IF(OR($D21="",$D21<1),"",EXP($AF$2+$AF$3*LN(AF629)+$AF$4*LN(AF$929)+$AF$5*LN($C$5)+$AF$6*$J21)) -> 28.533943 | AG933: =IF(OR($D21="",$D21<1),"",EXP($AF$2+$AF$3*LN(AG629)+$AF$4*LN(AG$929)+$AF$5*LN($C$5)+$AF$6*$J21)) -> 29.089837 | AH933: =IF(OR($D21="",$D21<1),"",EXP($AF$2+$AF$3*LN(AH629)+$AF$4*LN(AH$929)+$AF$5*LN($C$5)+$AF$6*$J21)) -> 29.636657 | AI933: =IF(OR($D21="",$D21<1),"",EXP($AF$2+$AF$3*LN(AI629)+$AF$4*LN(AI$929)+$AF$5*LN($C$5)+$AF$6*$J21)) -> 30.17479 | AJ933: =IF(OR($D21="",$D21<1),"",EXP($AF$2+$AF$3*LN(AJ629)+$AF$4*LN(AJ$929)+$AF$5*LN($C$5)+$AF$6*$J21)) -> 30.704596 | AK933: =IF(OR($D21="",$D21<1),"",EXP($AF$2+$AF$3*LN(AK629)+$AF$4*LN(AK$929)+$AF$5*LN($C$5)+$AF$6*$J21)) -> 31.226412 | AL933: =IF(OR($D21="",$D21<1),"",EXP($AF$2+$AF$3*LN(AL629)+$AF$4*LN(AL$929)+$AF$5*LN($C$5)+$AF$6*$J21)) -> 31.740552 | ... CR933: =IF(OR($D21="",$D21<1),"",EXP($AF$2+$AF$3*LN(CR629)+$AF$4*LN(CR$929)+$AF$5*LN($C$5)+$AF$6*$J21)) -> 54.012177
A934: =入力シート!B16 -> 5 | AE934: =IF(OR($D22="",$D22<1),"",EXP($AF$2+$AF$3*LN(AE630)+$AF$4*LN(AE$929)+$AF$5*LN($C$5)+$AF$6*$J22)) -> 25.715884 | AF934: =IF(OR($D22="",$D22<1),"",EXP($AF$2+$AF$3*LN(AF630)+$AF$4*LN(AF$929)+$AF$5*LN($C$5)+$AF$6*$J22)) -> 26.264027 | AG934: =IF(OR($D22="",$D22<1),"",EXP($AF$2+$AF$3*LN(AG630)+$AF$4*LN(AG$929)+$AF$5*LN($C$5)+$AF$6*$J22)) -> 26.80224 | AH934: =IF(OR($D22="",$D22<1),"",EXP($AF$2+$AF$3*LN(AH630)+$AF$4*LN(AH$929)+$AF$5*LN($C$5)+$AF$6*$J22)) -> 27.330993 | AI934: =IF(OR($D22="",$D22<1),"",EXP($AF$2+$AF$3*LN(AI630)+$AF$4*LN(AI$929)+$AF$5*LN($C$5)+$AF$6*$J22)) -> 27.850718 | AJ934: =IF(OR($D22="",$D22<1),"",EXP($AF$2+$AF$3*LN(AJ630)+$AF$4*LN(AJ$929)+$AF$5*LN($C$5)+$AF$6*$J22)) -> 28.361817 | AK934: =IF(OR($D22="",$D22<1),"",EXP($AF$2+$AF$3*LN(AK630)+$AF$4*LN(AK$929)+$AF$5*LN($C$5)+$AF$6*$J22)) -> 28.864663 | AL934: =IF(OR($D22="",$D22<1),"",EXP($AF$2+$AF$3*LN(AL630)+$AF$4*LN(AL$929)+$AF$5*LN($C$5)+$AF$6*$J22)) -> 29.359603 | ... CR934: =IF(OR($D22="",$D22<1),"",EXP($AF$2+$AF$3*LN(CR630)+$AF$4*LN(CR$929)+$AF$5*LN($C$5)+$AF$6*$J22)) -> 50.475295
A935: =入力シート!B17 -> 6 | AE935: =IF(OR($D23="",$D23<1),"",EXP($AF$2+$AF$3*LN(AE631)+$AF$4*LN(AE$929)+$AF$5*LN($C$5)+$AF$6*$J23)) -> 28.296936 | AF935: =IF(OR($D23="",$D23<1),"",EXP($AF$2+$AF$3*LN(AF631)+$AF$4*LN(AF$929)+$AF$5*LN($C$5)+$AF$6*$J23)) -> 28.870115 | AG935: =IF(OR($D23="",$D23<1),"",EXP($AF$2+$AF$3*LN(AG631)+$AF$4*LN(AG$929)+$AF$5*LN($C$5)+$AF$6*$J23)) -> 29.433655 | AH935: =IF(OR($D23="",$D23<1),"",EXP($AF$2+$AF$3*LN(AH631)+$AF$4*LN(AH$929)+$AF$5*LN($C$5)+$AF$6*$J23)) -> 29.987976 | AI935: =IF(OR($D23="",$D23<1),"",EXP($AF$2+$AF$3*LN(AI631)+$AF$4*LN(AI$929)+$AF$5*LN($C$5)+$AF$6*$J23)) -> 30.533472 | AJ935: =IF(OR($D23="",$D23<1),"",EXP($AF$2+$AF$3*LN(AJ631)+$AF$4*LN(AJ$929)+$AF$5*LN($C$5)+$AF$6*$J23)) -> 31.070508 | AK935: =IF(OR($D23="",$D23<1),"",EXP($AF$2+$AF$3*LN(AK631)+$AF$4*LN(AK$929)+$AF$5*LN($C$5)+$AF$6*$J23)) -> 31.599427 | AL935: =IF(OR($D23="",$D23<1),"",EXP($AF$2+$AF$3*LN(AL631)+$AF$4*LN(AL$929)+$AF$5*LN($C$5)+$AF$6*$J23)) -> 32.120549 | ... CR935: =IF(OR($D23="",$D23<1),"",EXP($AF$2+$AF$3*LN(CR631)+$AF$4*LN(CR$929)+$AF$5*LN($C$5)+$AF$6*$J23)) -> 54.681773
A936: =入力シート!B18 -> 7 | AE936: =IF(OR($D24="",$D24<1),"",EXP($AF$2+$AF$3*LN(AE632)+$AF$4*LN(AE$929)+$AF$5*LN($C$5)+$AF$6*$J24)) -> 25.995713 | AF936: =IF(OR($D24="",$D24<1),"",EXP($AF$2+$AF$3*LN(AF632)+$AF$4*LN(AF$929)+$AF$5*LN($C$5)+$AF$6*$J24)) -> 26.537289 | AG936: =IF(OR($D24="",$D24<1),"",EXP($AF$2+$AF$3*LN(AG632)+$AF$4*LN(AG$929)+$AF$5*LN($C$5)+$AF$6*$J24)) -> 27.069418 | AH936: =IF(OR($D24="",$D24<1),"",EXP($AF$2+$AF$3*LN(AH632)+$AF$4*LN(AH$929)+$AF$5*LN($C$5)+$AF$6*$J24)) -> 27.592525 | AI936: =IF(OR($D24="",$D24<1),"",EXP($AF$2+$AF$3*LN(AI632)+$AF$4*LN(AI$929)+$AF$5*LN($C$5)+$AF$6*$J24)) -> 28.107005 | AJ936: =IF(OR($D24="",$D24<1),"",EXP($AF$2+$AF$3*LN(AJ632)+$AF$4*LN(AJ$929)+$AF$5*LN($C$5)+$AF$6*$J24)) -> 28.613227 | AK936: =IF(OR($D24="",$D24<1),"",EXP($AF$2+$AF$3*LN(AK632)+$AF$4*LN(AK$929)+$AF$5*LN($C$5)+$AF$6*$J24)) -> 29.111532 | AL936: =IF(OR($D24="",$D24<1),"",EXP($AF$2+$AF$3*LN(AL632)+$AF$4*LN(AL$929)+$AF$5*LN($C$5)+$AF$6*$J24)) -> 29.602241 | ... CR936: =IF(OR($D24="",$D24<1),"",EXP($AF$2+$AF$3*LN(CR632)+$AF$4*LN(CR$929)+$AF$5*LN($C$5)+$AF$6*$J24)) -> 50.677039
A937: =入力シート!B19 -> 8 | AE937: =IF(OR($D25="",$D25<1),"",EXP($AF$2+$AF$3*LN(AE633)+$AF$4*LN(AE$929)+$AF$5*LN($C$5)+$AF$6*$J25)) -> 26.581138 | AF937: =IF(OR($D25="",$D25<1),"",EXP($AF$2+$AF$3*LN(AF633)+$AF$4*LN(AF$929)+$AF$5*LN($C$5)+$AF$6*$J25)) -> 27.127069 | AG937: =IF(OR($D25="",$D25<1),"",EXP($AF$2+$AF$3*LN(AG633)+$AF$4*LN(AG$929)+$AF$5*LN($C$5)+$AF$6*$J25)) -> 27.663665 | AH937: =IF(OR($D25="",$D25<1),"",EXP($AF$2+$AF$3*LN(AH633)+$AF$4*LN(AH$929)+$AF$5*LN($C$5)+$AF$6*$J25)) -> 28.191339 | AI937: =IF(OR($D25="",$D25<1),"",EXP($AF$2+$AF$3*LN(AI633)+$AF$4*LN(AI$929)+$AF$5*LN($C$5)+$AF$6*$J25)) -> 28.710474 | AJ937: =IF(OR($D25="",$D25<1),"",EXP($AF$2+$AF$3*LN(AJ633)+$AF$4*LN(AJ$929)+$AF$5*LN($C$5)+$AF$6*$J25)) -> 29.221428 | AK937: =IF(OR($D25="",$D25<1),"",EXP($AF$2+$AF$3*LN(AK633)+$AF$4*LN(AK$929)+$AF$5*LN($C$5)+$AF$6*$J25)) -> 29.724535 | AL937: =IF(OR($D25="",$D25<1),"",EXP($AF$2+$AF$3*LN(AL633)+$AF$4*LN(AL$929)+$AF$5*LN($C$5)+$AF$6*$J25)) -> 30.220108 | ... CR937: =IF(OR($D25="",$D25<1),"",EXP($AF$2+$AF$3*LN(CR633)+$AF$4*LN(CR$929)+$AF$5*LN($C$5)+$AF$6*$J25)) -> 51.591126
A938: =入力シート!B20 -> 9 | AE938: =IF(OR($D26="",$D26<1),"",EXP($AF$2+$AF$3*LN(AE634)+$AF$4*LN(AE$929)+$AF$5*LN($C$5)+$AF$6*$J26)) -> 25.599023 | AF938: =IF(OR($D26="",$D26<1),"",EXP($AF$2+$AF$3*LN(AF634)+$AF$4*LN(AF$929)+$AF$5*LN($C$5)+$AF$6*$J26)) -> 26.135308 | AG938: =IF(OR($D26="",$D26<1),"",EXP($AF$2+$AF$3*LN(AG634)+$AF$4*LN(AG$929)+$AF$5*LN($C$5)+$AF$6*$J26)) -> 26.662157 | AH938: =IF(OR($D26="",$D26<1),"",EXP($AF$2+$AF$3*LN(AH634)+$AF$4*LN(AH$929)+$AF$5*LN($C$5)+$AF$6*$J26)) -> 27.18 | AI938: =IF(OR($D26="",$D26<1),"",EXP($AF$2+$AF$3*LN(AI634)+$AF$4*LN(AI$929)+$AF$5*LN($C$5)+$AF$6*$J26)) -> 27.689234 | AJ938: =IF(OR($D26="",$D26<1),"",EXP($AF$2+$AF$3*LN(AJ634)+$AF$4*LN(AJ$929)+$AF$5*LN($C$5)+$AF$6*$J26)) -> 28.190231 | AK938: =IF(OR($D26="",$D26<1),"",EXP($AF$2+$AF$3*LN(AK634)+$AF$4*LN(AK$929)+$AF$5*LN($C$5)+$AF$6*$J26)) -> 28.683334 | AL938: =IF(OR($D26="",$D26<1),"",EXP($AF$2+$AF$3*LN(AL634)+$AF$4*LN(AL$929)+$AF$5*LN($C$5)+$AF$6*$J26)) -> 29.168866 | ... CR938: =IF(OR($D26="",$D26<1),"",EXP($AF$2+$AF$3*LN(CR634)+$AF$4*LN(CR$929)+$AF$5*LN($C$5)+$AF$6*$J26)) -> 49.987823
A939: =入力シート!B21 -> 10 | AE939: =IF(OR($D27="",$D27<1),"",EXP($AF$2+$AF$3*LN(AE635)+$AF$4*LN(AE$929)+$AF$5*LN($C$5)+$AF$6*$J27)) -> 26.966328 | AF939: =IF(OR($D27="",$D27<1),"",EXP($AF$2+$AF$3*LN(AF635)+$AF$4*LN(AF$929)+$AF$5*LN($C$5)+$AF$6*$J27)) -> 27.519411 | AG939: =IF(OR($D27="",$D27<1),"",EXP($AF$2+$AF$3*LN(AG635)+$AF$4*LN(AG$929)+$AF$5*LN($C$5)+$AF$6*$J27)) -> 28.063053 | AH939: =IF(OR($D27="",$D27<1),"",EXP($AF$2+$AF$3*LN(AH635)+$AF$4*LN(AH$929)+$AF$5*LN($C$5)+$AF$6*$J27)) -> 28.597671 | AI939: =IF(OR($D27="",$D27<1),"",EXP($AF$2+$AF$3*LN(AI635)+$AF$4*LN(AI$929)+$AF$5*LN($C$5)+$AF$6*$J27)) -> 29.123653 | AJ939: =IF(OR($D27="",$D27<1),"",EXP($AF$2+$AF$3*LN(AJ635)+$AF$4*LN(AJ$929)+$AF$5*LN($C$5)+$AF$6*$J27)) -> 29.641361 | AK939: =IF(OR($D27="",$D27<1),"",EXP($AF$2+$AF$3*LN(AK635)+$AF$4*LN(AK$929)+$AF$5*LN($C$5)+$AF$6*$J27)) -> 30.15113 | AL939: =IF(OR($D27="",$D27<1),"",EXP($AF$2+$AF$3*LN(AL635)+$AF$4*LN(AL$929)+$AF$5*LN($C$5)+$AF$6*$J27)) -> 30.653278 | ... CR939: =IF(OR($D27="",$D27<1),"",EXP($AF$2+$AF$3*LN(CR635)+$AF$4*LN(CR$929)+$AF$5*LN($C$5)+$AF$6*$J27)) -> 52.316319
A940: =入力シート!B22 -> 11 | AE940: =IF(OR($D28="",$D28<1),"",EXP($AF$2+$AF$3*LN(AE636)+$AF$4*LN(AE$929)+$AF$5*LN($C$5)+$AF$6*$J28)) -> 26.41633 | AF940: =IF(OR($D28="",$D28<1),"",EXP($AF$2+$AF$3*LN(AF636)+$AF$4*LN(AF$929)+$AF$5*LN($C$5)+$AF$6*$J28)) -> 26.95564 | AG940: =IF(OR($D28="",$D28<1),"",EXP($AF$2+$AF$3*LN(AG636)+$AF$4*LN(AG$929)+$AF$5*LN($C$5)+$AF$6*$J28)) -> 27.485798 | AH940: =IF(OR($D28="",$D28<1),"",EXP($AF$2+$AF$3*LN(AH636)+$AF$4*LN(AH$929)+$AF$5*LN($C$5)+$AF$6*$J28)) -> 28.007204 | AI940: =IF(OR($D28="",$D28<1),"",EXP($AF$2+$AF$3*LN(AI636)+$AF$4*LN(AI$929)+$AF$5*LN($C$5)+$AF$6*$J28)) -> 28.520235 | AJ940: =IF(OR($D28="",$D28<1),"",EXP($AF$2+$AF$3*LN(AJ636)+$AF$4*LN(AJ$929)+$AF$5*LN($C$5)+$AF$6*$J28)) -> 29.025239 | AK940: =IF(OR($D28="",$D28<1),"",EXP($AF$2+$AF$3*LN(AK636)+$AF$4*LN(AK$929)+$AF$5*LN($C$5)+$AF$6*$J28)) -> 29.522543 | AL940: =IF(OR($D28="",$D28<1),"",EXP($AF$2+$AF$3*LN(AL636)+$AF$4*LN(AL$929)+$AF$5*LN($C$5)+$AF$6*$J28)) -> 30.01245 | ... CR940: =IF(OR($D28="",$D28<1),"",EXP($AF$2+$AF$3*LN(CR636)+$AF$4*LN(CR$929)+$AF$5*LN($C$5)+$AF$6*$J28)) -> 51.175186
A941: =入力シート!B23 -> 12 | AE941: =IF(OR($D29="",$D29<1),"",EXP($AF$2+$AF$3*LN(AE637)+$AF$4*LN(AE$929)+$AF$5*LN($C$5)+$AF$6*$J29)) -> 24.424056 | AF941: =IF(OR($D29="",$D29<1),"",EXP($AF$2+$AF$3*LN(AF637)+$AF$4*LN(AF$929)+$AF$5*LN($C$5)+$AF$6*$J29)) -> 24.925999 | AG941: =IF(OR($D29="",$D29<1),"",EXP($AF$2+$AF$3*LN(AG637)+$AF$4*LN(AG$929)+$AF$5*LN($C$5)+$AF$6*$J29)) -> 25.419351 | AH941: =IF(OR($D29="",$D29<1),"",EXP($AF$2+$AF$3*LN(AH637)+$AF$4*LN(AH$929)+$AF$5*LN($C$5)+$AF$6*$J29)) -> 25.904494 | AI941: =IF(OR($D29="",$D29<1),"",EXP($AF$2+$AF$3*LN(AI637)+$AF$4*LN(AI$929)+$AF$5*LN($C$5)+$AF$6*$J29)) -> 26.38178 | AJ941: =IF(OR($D29="",$D29<1),"",EXP($AF$2+$AF$3*LN(AJ637)+$AF$4*LN(AJ$929)+$AF$5*LN($C$5)+$AF$6*$J29)) -> 26.851539 | AK941: =IF(OR($D29="",$D29<1),"",EXP($AF$2+$AF$3*LN(AK637)+$AF$4*LN(AK$929)+$AF$5*LN($C$5)+$AF$6*$J29)) -> 27.314078 | AL941: =IF(OR($D29="",$D29<1),"",EXP($AF$2+$AF$3*LN(AL637)+$AF$4*LN(AL$929)+$AF$5*LN($C$5)+$AF$6*$J29)) -> 27.769685 | ... CR941: =IF(OR($D29="",$D29<1),"",EXP($AF$2+$AF$3*LN(CR637)+$AF$4*LN(CR$929)+$AF$5*LN($C$5)+$AF$6*$J29)) -> 47.413714
... A1140: =入力シート!B222 -> 211 | AE1140: =IF(OR($D228="",$D228<1),"",EXP($AF$2+$AF$3*LN(AE836)+$AF$4*LN(AE$929)+$AF$5*LN($C$5)+$AF$6*$J228)) | AF1140: =IF(OR($D228="",$D228<1),"",EXP($AF$2+$AF$3*LN(AF836)+$AF$4*LN(AF$929)+$AF$5*LN($C$5)+$AF$6*$J228)) | AG1140: =IF(OR($D228="",$D228<1),"",EXP($AF$2+$AF$3*LN(AG836)+$AF$4*LN(AG$929)+$AF$5*LN($C$5)+$AF$6*$J228)) | AH1140: =IF(OR($D228="",$D228<1),"",EXP($AF$2+$AF$3*LN(AH836)+$AF$4*LN(AH$929)+$AF$5*LN($C$5)+$AF$6*$J228)) | AI1140: =IF(OR($D228="",$D228<1),"",EXP($AF$2+$AF$3*LN(AI836)+$AF$4*LN(AI$929)+$AF$5*LN($C$5)+$AF$6*$J228)) | AJ1140: =IF(OR($D228="",$D228<1),"",EXP($AF$2+$AF$3*LN(AJ836)+$AF$4*LN(AJ$929)+$AF$5*LN($C$5)+$AF$6*$J228)) | AK1140: =IF(OR($D228="",$D228<1),"",EXP($AF$2+$AF$3*LN(AK836)+$AF$4*LN(AK$929)+$AF$5*LN($C$5)+$AF$6*$J228)) | AL1140: =IF(OR($D228="",$D228<1),"",EXP($AF$2+$AF$3*LN(AL836)+$AF$4*LN(AL$929)+$AF$5*LN($C$5)+$AF$6*$J228)) | ... CR1140: =IF(OR($D228="",$D228<1),"",EXP($AF$2+$AF$3*LN(CR836)+$AF$4*LN(CR$929)+$AF$5*LN($C$5)+$AF$6*$J228))
A1141: =入力シート!B223 -> 212 | AE1141: =IF(OR($D229="",$D229<0.000001),"",EXP($AF$2+$AF$3*LN(AE837)+$AF$4*LN(AE$929)+$AF$5*LN($C$5)+$AF$6*$J229)) | AF1141: =IF(OR($D229="",$D229<1),"",EXP($AF$2+$AF$3*LN(AF837)+$AF$4*LN(AF$929)+$AF$5*LN($C$5)+$AF$6*$J229)) | AG1141: =IF(OR($D229="",$D229<1),"",EXP($AF$2+$AF$3*LN(AG837)+$AF$4*LN(AG$929)+$AF$5*LN($C$5)+$AF$6*$J229)) | AH1141: =IF(OR($D229="",$D229<1),"",EXP($AF$2+$AF$3*LN(AH837)+$AF$4*LN(AH$929)+$AF$5*LN($C$5)+$AF$6*$J229)) | AI1141: =IF(OR($D229="",$D229<1),"",EXP($AF$2+$AF$3*LN(AI837)+$AF$4*LN(AI$929)+$AF$5*LN($C$5)+$AF$6*$J229)) | AJ1141: =IF(OR($D229="",$D229<1),"",EXP($AF$2+$AF$3*LN(AJ837)+$AF$4*LN(AJ$929)+$AF$5*LN($C$5)+$AF$6*$J229)) | AK1141: =IF(OR($D229="",$D229<1),"",EXP($AF$2+$AF$3*LN(AK837)+$AF$4*LN(AK$929)+$AF$5*LN($C$5)+$AF$6*$J229)) | AL1141: =IF(OR($D229="",$D229<1),"",EXP($AF$2+$AF$3*LN(AL837)+$AF$4*LN(AL$929)+$AF$5*LN($C$5)+$AF$6*$J229)) | AM1141: =IF(OR($D229="",$D229<1),"",EXP($AF$2+$AF$3*LN(AM837)+$AF$4*LN(AM$929)+$AF$5*LN($C$5)+$AF$6*$J229)) | ... CR1141: =IF(OR($D229="",$D229<1),"",EXP($AF$2+$AF$3*LN(CR837)+$AF$4*LN(CR$929)+$AF$5*LN($C$5)+$AF$6*$J229))
A1142: =入力シート!B224 -> 213 | AE1142: =IF(OR($D230="",$D230<1),"",EXP($AF$2+$AF$3*LN(AE838)+$AF$4*LN(AE$929)+$AF$5*LN($C$5)+$AF$6*$J230)) | AF1142: =IF(OR($D230="",$D230<1),"",EXP($AF$2+$AF$3*LN(AF838)+$AF$4*LN(AF$929)+$AF$5*LN($C$5)+$AF$6*$J230)) | AG1142: =IF(OR($D230="",$D230<1),"",EXP($AF$2+$AF$3*LN(AG838)+$AF$4*LN(AG$929)+$AF$5*LN($C$5)+$AF$6*$J230)) | AH1142: =IF(OR($D230="",$D230<1),"",EXP($AF$2+$AF$3*LN(AH838)+$AF$4*LN(AH$929)+$AF$5*LN($C$5)+$AF$6*$J230)) | AI1142: =IF(OR($D230="",$D230<1),"",EXP($AF$2+$AF$3*LN(AI838)+$AF$4*LN(AI$929)+$AF$5*LN($C$5)+$AF$6*$J230)) | AJ1142: =IF(OR($D230="",$D230<1),"",EXP($AF$2+$AF$3*LN(AJ838)+$AF$4*LN(AJ$929)+$AF$5*LN($C$5)+$AF$6*$J230)) | AK1142: =IF(OR($D230="",$D230<1),"",EXP($AF$2+$AF$3*LN(AK838)+$AF$4*LN(AK$929)+$AF$5*LN($C$5)+$AF$6*$J230)) | AL1142: =IF(OR($D230="",$D230<1),"",EXP($AF$2+$AF$3*LN(AL838)+$AF$4*LN(AL$929)+$AF$5*LN($C$5)+$AF$6*$J230)) | ... CR1142: =IF(OR($D230="",$D230<1),"",EXP($AF$2+$AF$3*LN(CR838)+$AF$4*LN(CR$929)+$AF$5*LN($C$5)+$AF$6*$J230))
A1143: =入力シート!B225 -> 214 | AE1143: =IF(OR($D231="",$D231<1),"",EXP($AF$2+$AF$3*LN(AE839)+$AF$4*LN(AE$929)+$AF$5*LN($C$5)+$AF$6*$J231)) | AF1143: =IF(OR($D231="",$D231<1),"",EXP($AF$2+$AF$3*LN(AF839)+$AF$4*LN(AF$929)+$AF$5*LN($C$5)+$AF$6*$J231)) | AG1143: =IF(OR($D231="",$D231<1),"",EXP($AF$2+$AF$3*LN(AG839)+$AF$4*LN(AG$929)+$AF$5*LN($C$5)+$AF$6*$J231)) | AH1143: =IF(OR($D231="",$D231<1),"",EXP($AF$2+$AF$3*LN(AH839)+$AF$4*LN(AH$929)+$AF$5*LN($C$5)+$AF$6*$J231)) | AI1143: =IF(OR($D231="",$D231<1),"",EXP($AF$2+$AF$3*LN(AI839)+$AF$4*LN(AI$929)+$AF$5*LN($C$5)+$AF$6*$J231)) | AJ1143: =IF(OR($D231="",$D231<1),"",EXP($AF$2+$AF$3*LN(AJ839)+$AF$4*LN(AJ$929)+$AF$5*LN($C$5)+$AF$6*$J231)) | AK1143: =IF(OR($D231="",$D231<1),"",EXP($AF$2+$AF$3*LN(AK839)+$AF$4*LN(AK$929)+$AF$5*LN($C$5)+$AF$6*$J231)) | AL1143: =IF(OR($D231="",$D231<1),"",EXP($AF$2+$AF$3*LN(AL839)+$AF$4*LN(AL$929)+$AF$5*LN($C$5)+$AF$6*$J231)) | ... CR1143: =IF(OR($D231="",$D231<1),"",EXP($AF$2+$AF$3*LN(CR839)+$AF$4*LN(CR$929)+$AF$5*LN($C$5)+$AF$6*$J231))
A1144: =入力シート!B226 -> 215 | AE1144: =IF(OR($D232="",$D232<1),"",EXP($AF$2+$AF$3*LN(AE840)+$AF$4*LN(AE$929)+$AF$5*LN($C$5)+$AF$6*$J232)) | AF1144: =IF(OR($D232="",$D232<1),"",EXP($AF$2+$AF$3*LN(AF840)+$AF$4*LN(AF$929)+$AF$5*LN($C$5)+$AF$6*$J232)) | AG1144: =IF(OR($D232="",$D232<1),"",EXP($AF$2+$AF$3*LN(AG840)+$AF$4*LN(AG$929)+$AF$5*LN($C$5)+$AF$6*$J232)) | AH1144: =IF(OR($D232="",$D232<1),"",EXP($AF$2+$AF$3*LN(AH840)+$AF$4*LN(AH$929)+$AF$5*LN($C$5)+$AF$6*$J232)) | AI1144: =IF(OR($D232="",$D232<1),"",EXP($AF$2+$AF$3*LN(AI840)+$AF$4*LN(AI$929)+$AF$5*LN($C$5)+$AF$6*$J232)) | AJ1144: =IF(OR($D232="",$D232<1),"",EXP($AF$2+$AF$3*LN(AJ840)+$AF$4*LN(AJ$929)+$AF$5*LN($C$5)+$AF$6*$J232)) | AK1144: =IF(OR($D232="",$D232<1),"",EXP($AF$2+$AF$3*LN(AK840)+$AF$4*LN(AK$929)+$AF$5*LN($C$5)+$AF$6*$J232)) | AL1144: =IF(OR($D232="",$D232<1),"",EXP($AF$2+$AF$3*LN(AL840)+$AF$4*LN(AL$929)+$AF$5*LN($C$5)+$AF$6*$J232)) | ... CR1144: =IF(OR($D232="",$D232<1),"",EXP($AF$2+$AF$3*LN(CR840)+$AF$4*LN(CR$929)+$AF$5*LN($C$5)+$AF$6*$J232))
A1145: =入力シート!B227 -> 216 | AE1145: =IF(OR($D233="",$D233<1),"",EXP($AF$2+$AF$3*LN(AE841)+$AF$4*LN(AE$929)+$AF$5*LN($C$5)+$AF$6*$J233)) | AF1145: =IF(OR($D233="",$D233<1),"",EXP($AF$2+$AF$3*LN(AF841)+$AF$4*LN(AF$929)+$AF$5*LN($C$5)+$AF$6*$J233)) | AG1145: =IF(OR($D233="",$D233<1),"",EXP($AF$2+$AF$3*LN(AG841)+$AF$4*LN(AG$929)+$AF$5*LN($C$5)+$AF$6*$J233)) | AH1145: =IF(OR($D233="",$D233<1),"",EXP($AF$2+$AF$3*LN(AH841)+$AF$4*LN(AH$929)+$AF$5*LN($C$5)+$AF$6*$J233)) | AI1145: =IF(OR($D233="",$D233<1),"",EXP($AF$2+$AF$3*LN(AI841)+$AF$4*LN(AI$929)+$AF$5*LN($C$5)+$AF$6*$J233)) | AJ1145: =IF(OR($D233="",$D233<1),"",EXP($AF$2+$AF$3*LN(AJ841)+$AF$4*LN(AJ$929)+$AF$5*LN($C$5)+$AF$6*$J233)) | AK1145: =IF(OR($D233="",$D233<1),"",EXP($AF$2+$AF$3*LN(AK841)+$AF$4*LN(AK$929)+$AF$5*LN($C$5)+$AF$6*$J233)) | AL1145: =IF(OR($D233="",$D233<1),"",EXP($AF$2+$AF$3*LN(AL841)+$AF$4*LN(AL$929)+$AF$5*LN($C$5)+$AF$6*$J233)) | ... CR1145: =IF(OR($D233="",$D233<1),"",EXP($AF$2+$AF$3*LN(CR841)+$AF$4*LN(CR$929)+$AF$5*LN($C$5)+$AF$6*$J233))
A1146: =入力シート!B228 -> 217 | AE1146: =IF(OR($D234="",$D234<1),"",EXP($AF$2+$AF$3*LN(AE842)+$AF$4*LN(AE$929)+$AF$5*LN($C$5)+$AF$6*$J234)) | AF1146: =IF(OR($D234="",$D234<1),"",EXP($AF$2+$AF$3*LN(AF842)+$AF$4*LN(AF$929)+$AF$5*LN($C$5)+$AF$6*$J234)) | AG1146: =IF(OR($D234="",$D234<1),"",EXP($AF$2+$AF$3*LN(AG842)+$AF$4*LN(AG$929)+$AF$5*LN($C$5)+$AF$6*$J234)) | AH1146: =IF(OR($D234="",$D234<1),"",EXP($AF$2+$AF$3*LN(AH842)+$AF$4*LN(AH$929)+$AF$5*LN($C$5)+$AF$6*$J234)) | AI1146: =IF(OR($D234="",$D234<1),"",EXP($AF$2+$AF$3*LN(AI842)+$AF$4*LN(AI$929)+$AF$5*LN($C$5)+$AF$6*$J234)) | AJ1146: =IF(OR($D234="",$D234<1),"",EXP($AF$2+$AF$3*LN(AJ842)+$AF$4*LN(AJ$929)+$AF$5*LN($C$5)+$AF$6*$J234)) | AK1146: =IF(OR($D234="",$D234<1),"",EXP($AF$2+$AF$3*LN(AK842)+$AF$4*LN(AK$929)+$AF$5*LN($C$5)+$AF$6*$J234)) | AL1146: =IF(OR($D234="",$D234<1),"",EXP($AF$2+$AF$3*LN(AL842)+$AF$4*LN(AL$929)+$AF$5*LN($C$5)+$AF$6*$J234)) | ... CR1146: =IF(OR($D234="",$D234<1),"",EXP($AF$2+$AF$3*LN(CR842)+$AF$4*LN(CR$929)+$AF$5*LN($C$5)+$AF$6*$J234))
A1147: =入力シート!B229 -> 218 | AE1147: =IF(OR($D235="",$D235<1),"",EXP($AF$2+$AF$3*LN(AE843)+$AF$4*LN(AE$929)+$AF$5*LN($C$5)+$AF$6*$J235)) | AF1147: =IF(OR($D235="",$D235<1),"",EXP($AF$2+$AF$3*LN(AF843)+$AF$4*LN(AF$929)+$AF$5*LN($C$5)+$AF$6*$J235)) | AG1147: =IF(OR($D235="",$D235<1),"",EXP($AF$2+$AF$3*LN(AG843)+$AF$4*LN(AG$929)+$AF$5*LN($C$5)+$AF$6*$J235)) | AH1147: =IF(OR($D235="",$D235<1),"",EXP($AF$2+$AF$3*LN(AH843)+$AF$4*LN(AH$929)+$AF$5*LN($C$5)+$AF$6*$J235)) | AI1147: =IF(OR($D235="",$D235<1),"",EXP($AF$2+$AF$3*LN(AI843)+$AF$4*LN(AI$929)+$AF$5*LN($C$5)+$AF$6*$J235)) | AJ1147: =IF(OR($D235="",$D235<1),"",EXP($AF$2+$AF$3*LN(AJ843)+$AF$4*LN(AJ$929)+$AF$5*LN($C$5)+$AF$6*$J235)) | AK1147: =IF(OR($D235="",$D235<1),"",EXP($AF$2+$AF$3*LN(AK843)+$AF$4*LN(AK$929)+$AF$5*LN($C$5)+$AF$6*$J235)) | AL1147: =IF(OR($D235="",$D235<1),"",EXP($AF$2+$AF$3*LN(AL843)+$AF$4*LN(AL$929)+$AF$5*LN($C$5)+$AF$6*$J235)) | ... CR1147: =IF(OR($D235="",$D235<1),"",EXP($AF$2+$AF$3*LN(CR843)+$AF$4*LN(CR$929)+$AF$5*LN($C$5)+$AF$6*$J235))
A1148: =入力シート!B230 -> 219 | AE1148: =IF(OR($D236="",$D236<1),"",EXP($AF$2+$AF$3*LN(AE844)+$AF$4*LN(AE$929)+$AF$5*LN($C$5)+$AF$6*$J236)) | AF1148: =IF(OR($D236="",$D236<1),"",EXP($AF$2+$AF$3*LN(AF844)+$AF$4*LN(AF$929)+$AF$5*LN($C$5)+$AF$6*$J236)) | AG1148: =IF(OR($D236="",$D236<1),"",EXP($AF$2+$AF$3*LN(AG844)+$AF$4*LN(AG$929)+$AF$5*LN($C$5)+$AF$6*$J236)) | AH1148: =IF(OR($D236="",$D236<1),"",EXP($AF$2+$AF$3*LN(AH844)+$AF$4*LN(AH$929)+$AF$5*LN($C$5)+$AF$6*$J236)) | AI1148: =IF(OR($D236="",$D236<1),"",EXP($AF$2+$AF$3*LN(AI844)+$AF$4*LN(AI$929)+$AF$5*LN($C$5)+$AF$6*$J236)) | AJ1148: =IF(OR($D236="",$D236<1),"",EXP($AF$2+$AF$3*LN(AJ844)+$AF$4*LN(AJ$929)+$AF$5*LN($C$5)+$AF$6*$J236)) | AK1148: =IF(OR($D236="",$D236<1),"",EXP($AF$2+$AF$3*LN(AK844)+$AF$4*LN(AK$929)+$AF$5*LN($C$5)+$AF$6*$J236)) | AL1148: =IF(OR($D236="",$D236<1),"",EXP($AF$2+$AF$3*LN(AL844)+$AF$4*LN(AL$929)+$AF$5*LN($C$5)+$AF$6*$J236)) | ... CR1148: =IF(OR($D236="",$D236<1),"",EXP($AF$2+$AF$3*LN(CR844)+$AF$4*LN(CR$929)+$AF$5*LN($C$5)+$AF$6*$J236))
A1149: =入力シート!B231 -> 220 | AE1149: =IF(OR($D237="",$D237<1),"",EXP($AF$2+$AF$3*LN(AE845)+$AF$4*LN(AE$929)+$AF$5*LN($C$5)+$AF$6*$J237)) | AF1149: =IF(OR($D237="",$D237<1),"",EXP($AF$2+$AF$3*LN(AF845)+$AF$4*LN(AF$929)+$AF$5*LN($C$5)+$AF$6*$J237)) | AG1149: =IF(OR($D237="",$D237<1),"",EXP($AF$2+$AF$3*LN(AG845)+$AF$4*LN(AG$929)+$AF$5*LN($C$5)+$AF$6*$J237)) | AH1149: =IF(OR($D237="",$D237<1),"",EXP($AF$2+$AF$3*LN(AH845)+$AF$4*LN(AH$929)+$AF$5*LN($C$5)+$AF$6*$J237)) | AI1149: =IF(OR($D237="",$D237<1),"",EXP($AF$2+$AF$3*LN(AI845)+$AF$4*LN(AI$929)+$AF$5*LN($C$5)+$AF$6*$J237)) | AJ1149: =IF(OR($D237="",$D237<1),"",EXP($AF$2+$AF$3*LN(AJ845)+$AF$4*LN(AJ$929)+$AF$5*LN($C$5)+$AF$6*$J237)) | AK1149: =IF(OR($D237="",$D237<1),"",EXP($AF$2+$AF$3*LN(AK845)+$AF$4*LN(AK$929)+$AF$5*LN($C$5)+$AF$6*$J237)) | AL1149: =IF(OR($D237="",$D237<1),"",EXP($AF$2+$AF$3*LN(AL845)+$AF$4*LN(AL$929)+$AF$5*LN($C$5)+$AF$6*$J237)) | ... CR1149: =IF(OR($D237="",$D237<1),"",EXP($AF$2+$AF$3*LN(CR845)+$AF$4*LN(CR$929)+$AF$5*LN($C$5)+$AF$6*$J237))
A1150: =入力シート!B232 -> 221 | AE1150: =IF(OR($D238="",$D238<1),"",EXP($AF$2+$AF$3*LN(AE846)+$AF$4*LN(AE$929)+$AF$5*LN($C$5)+$AF$6*$J238)) | AF1150: =IF(OR($D238="",$D238<1),"",EXP($AF$2+$AF$3*LN(AF846)+$AF$4*LN(AF$929)+$AF$5*LN($C$5)+$AF$6*$J238)) | AG1150: =IF(OR($D238="",$D238<1),"",EXP($AF$2+$AF$3*LN(AG846)+$AF$4*LN(AG$929)+$AF$5*LN($C$5)+$AF$6*$J238)) | AH1150: =IF(OR($D238="",$D238<1),"",EXP($AF$2+$AF$3*LN(AH846)+$AF$4*LN(AH$929)+$AF$5*LN($C$5)+$AF$6*$J238)) | AI1150: =IF(OR($D238="",$D238<1),"",EXP($AF$2+$AF$3*LN(AI846)+$AF$4*LN(AI$929)+$AF$5*LN($C$5)+$AF$6*$J238)) | AJ1150: =IF(OR($D238="",$D238<1),"",EXP($AF$2+$AF$3*LN(AJ846)+$AF$4*LN(AJ$929)+$AF$5*LN($C$5)+$AF$6*$J238)) | AK1150: =IF(OR($D238="",$D238<1),"",EXP($AF$2+$AF$3*LN(AK846)+$AF$4*LN(AK$929)+$AF$5*LN($C$5)+$AF$6*$J238)) | AL1150: =IF(OR($D238="",$D238<1),"",EXP($AF$2+$AF$3*LN(AL846)+$AF$4*LN(AL$929)+$AF$5*LN($C$5)+$AF$6*$J238)) | ... CR1150: =IF(OR($D238="",$D238<1),"",EXP($AF$2+$AF$3*LN(CR846)+$AF$4*LN(CR$929)+$AF$5*LN($C$5)+$AF$6*$J238))
A1151: =入力シート!B233 -> 222 | AE1151: =IF(OR($D239="",$D239<1),"",EXP($AF$2+$AF$3*LN(AE847)+$AF$4*LN(AE$929)+$AF$5*LN($C$5)+$AF$6*$J239)) | AF1151: =IF(OR($D239="",$D239<1),"",EXP($AF$2+$AF$3*LN(AF847)+$AF$4*LN(AF$929)+$AF$5*LN($C$5)+$AF$6*$J239)) | AG1151: =IF(OR($D239="",$D239<1),"",EXP($AF$2+$AF$3*LN(AG847)+$AF$4*LN(AG$929)+$AF$5*LN($C$5)+$AF$6*$J239)) | AH1151: =IF(OR($D239="",$D239<1),"",EXP($AF$2+$AF$3*LN(AH847)+$AF$4*LN(AH$929)+$AF$5*LN($C$5)+$AF$6*$J239)) | AI1151: =IF(OR($D239="",$D239<1),"",EXP($AF$2+$AF$3*LN(AI847)+$AF$4*LN(AI$929)+$AF$5*LN($C$5)+$AF$6*$J239)) | AJ1151: =IF(OR($D239="",$D239<1),"",EXP($AF$2+$AF$3*LN(AJ847)+$AF$4*LN(AJ$929)+$AF$5*LN($C$5)+$AF$6*$J239)) | AK1151: =IF(OR($D239="",$D239<1),"",EXP($AF$2+$AF$3*LN(AK847)+$AF$4*LN(AK$929)+$AF$5*LN($C$5)+$AF$6*$J239)) | AL1151: =IF(OR($D239="",$D239<1),"",EXP($AF$2+$AF$3*LN(AL847)+$AF$4*LN(AL$929)+$AF$5*LN($C$5)+$AF$6*$J239)) | ... CR1151: =IF(OR($D239="",$D239<1),"",EXP($AF$2+$AF$3*LN(CR847)+$AF$4*LN(CR$929)+$AF$5*LN($C$5)+$AF$6*$J239))
A1152: =入力シート!B234 -> 223 | AE1152: =IF(OR($D240="",$D240<1),"",EXP($AF$2+$AF$3*LN(AE848)+$AF$4*LN(AE$929)+$AF$5*LN($C$5)+$AF$6*$J240)) | AF1152: =IF(OR($D240="",$D240<1),"",EXP($AF$2+$AF$3*LN(AF848)+$AF$4*LN(AF$929)+$AF$5*LN($C$5)+$AF$6*$J240)) | AG1152: =IF(OR($D240="",$D240<1),"",EXP($AF$2+$AF$3*LN(AG848)+$AF$4*LN(AG$929)+$AF$5*LN($C$5)+$AF$6*$J240)) | AH1152: =IF(OR($D240="",$D240<1),"",EXP($AF$2+$AF$3*LN(AH848)+$AF$4*LN(AH$929)+$AF$5*LN($C$5)+$AF$6*$J240)) | AI1152: =IF(OR($D240="",$D240<1),"",EXP($AF$2+$AF$3*LN(AI848)+$AF$4*LN(AI$929)+$AF$5*LN($C$5)+$AF$6*$J240)) | AJ1152: =IF(OR($D240="",$D240<1),"",EXP($AF$2+$AF$3*LN(AJ848)+$AF$4*LN(AJ$929)+$AF$5*LN($C$5)+$AF$6*$J240)) | AK1152: =IF(OR($D240="",$D240<1),"",EXP($AF$2+$AF$3*LN(AK848)+$AF$4*LN(AK$929)+$AF$5*LN($C$5)+$AF$6*$J240)) | AL1152: =IF(OR($D240="",$D240<1),"",EXP($AF$2+$AF$3*LN(AL848)+$AF$4*LN(AL$929)+$AF$5*LN($C$5)+$AF$6*$J240)) | ... CR1152: =IF(OR($D240="",$D240<1),"",EXP($AF$2+$AF$3*LN(CR848)+$AF$4*LN(CR$929)+$AF$5*LN($C$5)+$AF$6*$J240))
A1153: =入力シート!B235 -> 224 | AE1153: =IF(OR($D241="",$D241<1),"",EXP($AF$2+$AF$3*LN(AE849)+$AF$4*LN(AE$929)+$AF$5*LN($C$5)+$AF$6*$J241)) | AF1153: =IF(OR($D241="",$D241<1),"",EXP($AF$2+$AF$3*LN(AF849)+$AF$4*LN(AF$929)+$AF$5*LN($C$5)+$AF$6*$J241)) | AG1153: =IF(OR($D241="",$D241<1),"",EXP($AF$2+$AF$3*LN(AG849)+$AF$4*LN(AG$929)+$AF$5*LN($C$5)+$AF$6*$J241)) | AH1153: =IF(OR($D241="",$D241<1),"",EXP($AF$2+$AF$3*LN(AH849)+$AF$4*LN(AH$929)+$AF$5*LN($C$5)+$AF$6*$J241)) | AI1153: =IF(OR($D241="",$D241<1),"",EXP($AF$2+$AF$3*LN(AI849)+$AF$4*LN(AI$929)+$AF$5*LN($C$5)+$AF$6*$J241)) | AJ1153: =IF(OR($D241="",$D241<1),"",EXP($AF$2+$AF$3*LN(AJ849)+$AF$4*LN(AJ$929)+$AF$5*LN($C$5)+$AF$6*$J241)) | AK1153: =IF(OR($D241="",$D241<1),"",EXP($AF$2+$AF$3*LN(AK849)+$AF$4*LN(AK$929)+$AF$5*LN($C$5)+$AF$6*$J241)) | AL1153: =IF(OR($D241="",$D241<1),"",EXP($AF$2+$AF$3*LN(AL849)+$AF$4*LN(AL$929)+$AF$5*LN($C$5)+$AF$6*$J241)) | ... CR1153: =IF(OR($D241="",$D241<1),"",EXP($AF$2+$AF$3*LN(CR849)+$AF$4*LN(CR$929)+$AF$5*LN($C$5)+$AF$6*$J241))
... A1229: =入力シート!B311 -> 300 | AE1229: =IF(OR($D317="",$D317<1),"",EXP($AF$2+$AF$3*LN(AE925)+$AF$4*LN(AE$929)+$AF$5*LN($C$5)+$AF$6*$J317)) | AF1229: =IF(OR($D317="",$D317<1),"",EXP($AF$2+$AF$3*LN(AF925)+$AF$4*LN(AF$929)+$AF$5*LN($C$5)+$AF$6*$J317)) | AG1229: =IF(OR($D317="",$D317<1),"",EXP($AF$2+$AF$3*LN(AG925)+$AF$4*LN(AG$929)+$AF$5*LN($C$5)+$AF$6*$J317)) | AH1229: =IF(OR($D317="",$D317<1),"",EXP($AF$2+$AF$3*LN(AH925)+$AF$4*LN(AH$929)+$AF$5*LN($C$5)+$AF$6*$J317)) | AI1229: =IF(OR($D317="",$D317<1),"",EXP($AF$2+$AF$3*LN(AI925)+$AF$4*LN(AI$929)+$AF$5*LN($C$5)+$AF$6*$J317)) | AJ1229: =IF(OR($D317="",$D317<1),"",EXP($AF$2+$AF$3*LN(AJ925)+$AF$4*LN(AJ$929)+$AF$5*LN($C$5)+$AF$6*$J317)) | AK1229: =IF(OR($D317="",$D317<1),"",EXP($AF$2+$AF$3*LN(AK925)+$AF$4*LN(AK$929)+$AF$5*LN($C$5)+$AF$6*$J317)) | AL1229: =IF(OR($D317="",$D317<1),"",EXP($AF$2+$AF$3*LN(AL925)+$AF$4*LN(AL$929)+$AF$5*LN($C$5)+$AF$6*$J317)) | ... CR1229: =IF(OR($D317="",$D317<1),"",EXP($AF$2+$AF$3*LN(CR925)+$AF$4*LN(CR$929)+$AF$5*LN($C$5)+$AF$6*$J317))
A1234: DBH2
A1235: ID | AD1235: 実測値－予測値 | AE1235: =C1 -> 28 | AF1235: =AE1235+1 -> 29 | AG1235: =AF1235+1 -> 30 | AH1235: =AG1235+1 -> 31 | AI1235: =AH1235+1 -> 32 | AJ1235: =AI1235+1 -> 33 | AK1235: =AJ1235+1 -> 34 | AL1235: =AK1235+1 -> 35 | AM1235: =AL1235+1 -> 36 | ... CR1235: =CQ1235+1 -> 93
A1236: =入力シート!B12 -> 1 | B1236: =入力シート!C12 -> 29 | C1236: =入力シート!D12 -> 22.3 | AE1236: =IF(OR($C1236="",$C1236<1),"",$C1236) -> 22.3 | AF1236: =IF(OR(AE1236="",AE1236<1),"",AE1236+(AF930-AE930)) -> 22.887611 | AG1236: =IF(OR(AF1236="",AF1236<1),"",AF1236+(AG930-AF930)) -> 23.464574 | AH1236: =IF(OR(AG1236="",AG1236<1),"",AG1236+(AH930-AG930)) -> 24.031393 | AI1236: =IF(OR(AH1236="",AH1236<1),"",AH1236+(AI930-AH930)) -> 24.588534 | AJ1236: =IF(OR(AI1236="",AI1236<1),"",AI1236+(AJ930-AI930)) -> 25.136426 | AK1236: =IF(OR(AJ1236="",AJ1236<1),"",AJ1236+(AK930-AJ930)) -> 25.675469 | AL1236: =IF(OR(AK1236="",AK1236<1),"",AK1236+(AL930-AK930)) -> 26.206036 | AM1236: =IF(OR(AL1236="",AL1236<1),"",AL1236+(AM930-AL930)) -> 26.728471 | ... CR1236: =IF(OR(CQ1236="",CQ1236<1),"",CQ1236+(CR930-CQ930)) -> 48.840932
A1237: =入力シート!B13 -> 2 | B1237: =入力シート!C13 -> 19 | C1237: =入力シート!D13 -> 23.8 | AE1237: =IF(OR($C1237="",$C1237<1),"",$C1237) -> 23.8 | AF1237: =IF(OR(AE1237="",AE1237<1),"",AE1237+(AF931-AE931)) -> 24.393108 | AG1237: =IF(OR(AF1237="",AF1237<1),"",AF1237+(AG931-AF931)) -> 24.975922 | AH1237: =IF(OR(AG1237="",AG1237<1),"",AG1237+(AH931-AG931)) -> 25.548903 | AI1237: =IF(OR(AH1237="",AH1237<1),"",AH1237+(AI931-AH931)) -> 26.112479 | AJ1237: =IF(OR(AI1237="",AI1237<1),"",AI1237+(AJ931-AI931)) -> 26.66705 | AK1237: =IF(OR(AJ1237="",AJ1237<1),"",AJ1237+(AK931-AJ931)) -> 27.212986 | AL1237: =IF(OR(AK1237="",AK1237<1),"",AK1237+(AL931-AK931)) -> 27.750637 | AM1237: =IF(OR(AL1237="",AL1237<1),"",AL1237+(AM931-AL931)) -> 28.280327 | ... CR1237: =IF(OR(CQ1237="",CQ1237<1),"",CQ1237+(CR931-CQ931)) -> 50.864111
A1238: =入力シート!B14 -> 3 | B1238: =入力シート!C14 -> 15 | C1238: =入力シート!D14 -> 21.5 | AE1238: =IF(OR($C1238="",$C1238<1),"",$C1238) -> 21.5 | AF1238: =IF(OR(AE1238="",AE1238<1),"",AE1238+(AF932-AE932)) -> 22.071009 | AG1238: =IF(OR(AF1238="",AF1238<1),"",AF1238+(AG932-AF932)) -> 22.63204 | AH1238: =IF(OR(AG1238="",AG1238<1),"",AG1238+(AH932-AG932)) -> 23.183545 | AI1238: =IF(OR(AH1238="",AH1238<1),"",AH1238+(AI932-AH932)) -> 23.725941 | AJ1238: =IF(OR(AI1238="",AI1238<1),"",AI1238+(AJ932-AI932)) -> 24.259617 | AK1238: =IF(OR(AJ1238="",AJ1238<1),"",AJ1238+(AK932-AJ932)) -> 24.784936 | AL1238: =IF(OR(AK1238="",AK1238<1),"",AK1238+(AL932-AK932)) -> 25.302235 | AM1238: =IF(OR(AL1238="",AL1238<1),"",AL1238+(AM932-AL932)) -> 25.811833 | ... CR1238: =IF(OR(CQ1238="",CQ1238<1),"",CQ1238+(CR932-CQ932)) -> 47.512134
A1239: =入力シート!B15 -> 4 | B1239: =入力シート!C15 -> 16 | C1239: =入力シート!D15 -> 21.2 | AE1239: =IF(OR($C1239="",$C1239<1),"",$C1239) -> 21.2 | AF1239: =IF(OR(AE1239="",AE1239<1),"",AE1239+(AF933-AE933)) -> 21.765382 | AG1239: =IF(OR(AF1239="",AF1239<1),"",AF1239+(AG933-AF933)) -> 22.321276 | AH1239: =IF(OR(AG1239="",AG1239<1),"",AG1239+(AH933-AG933)) -> 22.868096 | AI1239: =IF(OR(AH1239="",AH1239<1),"",AH1239+(AI933-AH933)) -> 23.406229 | AJ1239: =IF(OR(AI1239="",AI1239<1),"",AI1239+(AJ933-AI933)) -> 23.936035 | AK1239: =IF(OR(AJ1239="",AJ1239<1),"",AJ1239+(AK933-AJ933)) -> 24.457851 | AL1239: =IF(OR(AK1239="",AK1239<1),"",AK1239+(AL933-AK933)) -> 24.971991 | AM1239: =IF(OR(AL1239="",AL1239<1),"",AL1239+(AM933-AL933)) -> 25.478751 | ... CR1239: =IF(OR(CQ1239="",CQ1239<1),"",CQ1239+(CR933-CQ933)) -> 47.243616
A1240: =入力シート!B16 -> 5 | B1240: =入力シート!C16 -> 10 | C1240: =入力シート!D16 -> 20.4 | AE1240: =IF(OR($C1240="",$C1240<1),"",$C1240) -> 20.4 | AF1240: =IF(OR(AE1240="",AE1240<1),"",AE1240+(AF934-AE934)) -> 20.948143 | AG1240: =IF(OR(AF1240="",AF1240<1),"",AF1240+(AG934-AF934)) -> 21.486356 | AH1240: =IF(OR(AG1240="",AG1240<1),"",AG1240+(AH934-AG934)) -> 22.015109 | AI1240: =IF(OR(AH1240="",AH1240<1),"",AH1240+(AI934-AH934)) -> 22.534834 | AJ1240: =IF(OR(AI1240="",AI1240<1),"",AI1240+(AJ934-AI934)) -> 23.045933 | AK1240: =IF(OR(AJ1240="",AJ1240<1),"",AJ1240+(AK934-AJ934)) -> 23.548779 | AL1240: =IF(OR(AK1240="",AK1240<1),"",AK1240+(AL934-AK934)) -> 24.043719 | AM1240: =IF(OR(AL1240="",AL1240<1),"",AL1240+(AM934-AL934)) -> 24.531075 | ... CR1240: =IF(OR(CQ1240="",CQ1240<1),"",CQ1240+(CR934-CQ934)) -> 45.159411
A1241: =入力シート!B17 -> 6 | B1241: =入力シート!C17 -> 21 | C1241: =入力シート!D17 -> 23 | AE1241: =IF(OR($C1241="",$C1241<1),"",$C1241) -> 23 | AF1241: =IF(OR(AE1241="",AE1241<1),"",AE1241+(AF935-AE935)) -> 23.57318 | AG1241: =IF(OR(AF1241="",AF1241<1),"",AF1241+(AG935-AF935)) -> 24.136719 | AH1241: =IF(OR(AG1241="",AG1241<1),"",AG1241+(AH935-AG935)) -> 24.69104 | AI1241: =IF(OR(AH1241="",AH1241<1),"",AH1241+(AI935-AH935)) -> 25.236536 | AJ1241: =IF(OR(AI1241="",AI1241<1),"",AI1241+(AJ935-AI935)) -> 25.773572 | AK1241: =IF(OR(AJ1241="",AJ1241<1),"",AJ1241+(AK935-AJ935)) -> 26.302491 | AL1241: =IF(OR(AK1241="",AK1241<1),"",AK1241+(AL935-AK935)) -> 26.823613 | AM1241: =IF(OR(AL1241="",AL1241<1),"",AL1241+(AM935-AL935)) -> 27.337239 | ... CR1241: =IF(OR(CQ1241="",CQ1241<1),"",CQ1241+(CR935-CQ935)) -> 49.384837
A1242: =入力シート!B18 -> 7 | B1242: =入力シート!C18 -> 20 | C1242: =入力シート!D18 -> 20.5 | AE1242: =IF(OR($C1242="",$C1242<1),"",$C1242) -> 20.5 | AF1242: =IF(OR(AE1242="",AE1242<1),"",AE1242+(AF936-AE936)) -> 21.041576 | AG1242: =IF(OR(AF1242="",AF1242<1),"",AF1242+(AG936-AF936)) -> 21.573705 | AH1242: =IF(OR(AG1242="",AG1242<1),"",AG1242+(AH936-AG936)) -> 22.096812 | AI1242: =IF(OR(AH1242="",AH1242<1),"",AH1242+(AI936-AH936)) -> 22.611293 | AJ1242: =IF(OR(AI1242="",AI1242<1),"",AI1242+(AJ936-AI936)) -> 23.117514 | AK1242: =IF(OR(AJ1242="",AJ1242<1),"",AJ1242+(AK936-AJ936)) -> 23.615819 | AL1242: =IF(OR(AK1242="",AK1242<1),"",AK1242+(AL936-AK936)) -> 24.106528 | AM1242: =IF(OR(AL1242="",AL1242<1),"",AL1242+(AM936-AL936)) -> 24.589941 | ... CR1242: =IF(OR(CQ1242="",CQ1242<1),"",CQ1242+(CR936-CQ936)) -> 45.181326
A1243: =入力シート!B19 -> 8 | B1243: =入力シート!C19 -> 4 | C1243: =入力シート!D19 -> 21.2 | AE1243: =IF(OR($C1243="",$C1243<1),"",$C1243) -> 21.2 | AF1243: =IF(OR(AE1243="",AE1243<1),"",AE1243+(AF937-AE937)) -> 21.745931 | AG1243: =IF(OR(AF1243="",AF1243<1),"",AF1243+(AG937-AF937)) -> 22.282527 | AH1243: =IF(OR(AG1243="",AG1243<1),"",AG1243+(AH937-AG937)) -> 22.810201 | AI1243: =IF(OR(AH1243="",AH1243<1),"",AH1243+(AI937-AH937)) -> 23.329336 | AJ1243: =IF(OR(AI1243="",AI1243<1),"",AI1243+(AJ937-AI937)) -> 23.84029 | AK1243: =IF(OR(AJ1243="",AJ1243<1),"",AJ1243+(AK937-AJ937)) -> 24.343397 | AL1243: =IF(OR(AK1243="",AK1243<1),"",AK1243+(AL937-AK937)) -> 24.83897 | AM1243: =IF(OR(AL1243="",AL1243<1),"",AL1243+(AM937-AL937)) -> 25.327301 | ... CR1243: =IF(OR(CQ1243="",CQ1243<1),"",CQ1243+(CR937-CQ937)) -> 46.209989
A1244: =入力シート!B20 -> 9 | B1244: =入力シート!C20 -> 2 | C1244: =入力シート!D20 -> 20.6 | AE1244: =IF(OR($C1244="",$C1244<1),"",$C1244) -> 20.6 | AF1244: =IF(OR(AE1244="",AE1244<1),"",AE1244+(AF938-AE938)) -> 21.136285 | AG1244: =IF(OR(AF1244="",AF1244<1),"",AF1244+(AG938-AF938)) -> 21.663134 | AH1244: =IF(OR(AG1244="",AG1244<1),"",AG1244+(AH938-AG938)) -> 22.180977 | AI1244: =IF(OR(AH1244="",AH1244<1),"",AH1244+(AI938-AH938)) -> 22.690211 | AJ1244: =IF(OR(AI1244="",AI1244<1),"",AI1244+(AJ938-AI938)) -> 23.191208 | AK1244: =IF(OR(AJ1244="",AJ1244<1),"",AJ1244+(AK938-AJ938)) -> 23.684311 | AL1244: =IF(OR(AK1244="",AK1244<1),"",AK1244+(AL938-AK938)) -> 24.169843 | AM1244: =IF(OR(AL1244="",AL1244<1),"",AL1244+(AM938-AL938)) -> 24.648105 | ... CR1244: =IF(OR(CQ1244="",CQ1244<1),"",CQ1244+(CR938-CQ938)) -> 44.9888
A1245: =入力シート!B21 -> 10 | B1245: =入力シート!C21 -> 27 | C1245: =入力シート!D21 -> 22.5 | AE1245: =IF(OR($C1245="",$C1245<1),"",$C1245) -> 22.5 | AF1245: =IF(OR(AE1245="",AE1245<1),"",AE1245+(AF939-AE939)) -> 23.053083 | AG1245: =IF(OR(AF1245="",AF1245<1),"",AF1245+(AG939-AF939)) -> 23.596725 | AH1245: =IF(OR(AG1245="",AG1245<1),"",AG1245+(AH939-AG939)) -> 24.131343 | AI1245: =IF(OR(AH1245="",AH1245<1),"",AH1245+(AI939-AH939)) -> 24.657325 | AJ1245: =IF(OR(AI1245="",AI1245<1),"",AI1245+(AJ939-AI939)) -> 25.175032 | AK1245: =IF(OR(AJ1245="",AJ1245<1),"",AJ1245+(AK939-AJ939)) -> 25.684802 | AL1245: =IF(OR(AK1245="",AK1245<1),"",AK1245+(AL939-AK939)) -> 26.186949 | AM1245: =IF(OR(AL1245="",AL1245<1),"",AL1245+(AM939-AL939)) -> 26.681772 | ... CR1245: =IF(OR(CQ1245="",CQ1245<1),"",CQ1245+(CR939-CQ939)) -> 47.84999
A1246: =入力シート!B22 -> 11 | B1246: =入力シート!C22 -> 31 | C1246: =入力シート!D22 -> 21.5 | AE1246: =IF(OR($C1246="",$C1246<1),"",$C1246) -> 21.5 | AF1246: =IF(OR(AE1246="",AE1246<1),"",AE1246+(AF940-AE940)) -> 22.03931 | AG1246: =IF(OR(AF1246="",AF1246<1),"",AF1246+(AG940-AF940)) -> 22.569467 | AH1246: =IF(OR(AG1246="",AG1246<1),"",AG1246+(AH940-AG940)) -> 23.090874 | AI1246: =IF(OR(AH1246="",AH1246<1),"",AH1246+(AI940-AH940)) -> 23.603905 | AJ1246: =IF(OR(AI1246="",AI1246<1),"",AI1246+(AJ940-AI940)) -> 24.108909 | AK1246: =IF(OR(AJ1246="",AJ1246<1),"",AJ1246+(AK940-AJ940)) -> 24.606212 | AL1246: =IF(OR(AK1246="",AK1246<1),"",AK1246+(AL940-AK940)) -> 25.09612 | AM1246: =IF(OR(AL1246="",AL1246<1),"",AL1246+(AM940-AL940)) -> 25.578918 | ... CR1246: =IF(OR(CQ1246="",CQ1246<1),"",CQ1246+(CR940-CQ940)) -> 46.258856
...

Sheet 変化量
A1: 林齢 | B1: =計算シート!C1 -> 28 | C1: 年 | N1: 樹高 予測 | O1: 係数 | Q1: 枝下高予測 | R1: 係数
A2: 面積 | B2: =計算シート!C2 -> 0.04 | C2: ha | N2: MaxH | O2: 0.990486 | Q2: 切片 | R2: -1.382878
A3: 地位指数算定用本数 | B3: =計算シート!C3 -> 4 | C3: 本 | N3: MaxH× ohnoCi | O3: -0.210245 | Q3: MaxH | R3: 0.59763
A4: 上層高平均 | B4: =計算シート!C4 -> 22.675 | C4: ｍ | Q4: ohnoCiD | R4: 0.249506
A5: 地位指数 | B5: =計算シート!C5 -> 26.781277 | Q5: ohnoCiD2 | R5: -0.026371
A6: ガイドカーブ | B6: =計算シート!C6 -> 18.747047
A8: ガイドカーブ＝(26.763*((1-0.9752*EXP(-0.0468*林齢))^1.1664))
B10: 林齢 | L10: =入力シート!D2 -> 28 | M10: =L10+1 -> 29 | N10: =M10+1 -> 30 | O10: =N10+1 -> 31 | P10: =O10+1 -> 32 | Q10: =P10+1 -> 33 | R10: =Q10+1 -> 34 | S10: =R10+1 -> 35 | T10: =S10+1 -> 36 | ... BY10: =BX10+1 -> 93
B11: 経過 年数 | L11: 0 | M11: =C11+1 -> 1 | N11: =M11+1 -> 2 | O11: =N11+1 -> 3 | P11: =O11+1 -> 4 | Q11: =P11+1 -> 5 | R11: =Q11+1 -> 6 | S11: =R11+1 -> 7 | T11: =S11+1 -> 8 | U11: =T11+1 -> 9 | ... BY11: =BX11+1 -> 65
B12: ガイド カーブ | L12: =(26.763*((1-0.9752*EXP(-0.0468*L10))^1.1664)) -> 18.747047 | M12: =(26.763*((1-0.9752*EXP(-0.0468*M10))^1.1664)) -> 19.104345 | N12: =(26.763*((1-0.9752*EXP(-0.0468*N10))^1.1664)) -> 19.446198 | O12: =(26.763*((1-0.9752*EXP(-0.0468*O10))^1.1664)) -> 19.773222 | P12: =(26.763*((1-0.9752*EXP(-0.0468*P10))^1.1664)) -> 20.086016 | Q12: =(26.763*((1-0.9752*EXP(-0.0468*Q10))^1.1664)) -> 20.385158 | R12: =(26.763*((1-0.9752*EXP(-0.0468*R10))^1.1664)) -> 20.671208 | S12: =(26.763*((1-0.9752*EXP(-0.0468*S10))^1.1664)) -> 20.944707 | ... BY12: =(26.763*((1-0.9752*EXP(-0.0468*BY10))^1.1664)) -> 26.371441
B13: MaxH | L13: =(($B$5*L$12)/22.142)*1.033 -> 23.423275 | M13: =(($B$5*M$12)/22.142)*1.033 -> 23.869697 | N13: =(($B$5*N$12)/22.142)*1.033 -> 24.296821 | O13: =(($B$5*O$12)/22.142)*1.033 -> 24.705418 | P13: =(($B$5*P$12)/22.142)*1.033 -> 25.096234 | Q13: =(($B$5*Q$12)/22.142)*1.033 -> 25.469993 | R13: =(($B$5*R$12)/22.142)*1.033 -> 25.827395 | S13: =(($B$5*S$12)/22.142)*1.033 -> 26.169115 | ... BY13: =(($B$5*BY$12)/22.142)*1.033 -> 32.949484
A14: ID | B14: 個体番号 | C14: DBH | D14: H | E14: Hb | F14: CD | G14: CI H | H14: CID× 10 | I14: (CID× 10)^2 | J14: 実測値－予測値
A15: =計算シート!A18 -> 1 | B15: =計算シート!B18 -> 29 | C15: =IF(計算シート!C18<1,"",計算シート!C18) -> 22.3 | D15: =計算シート!D18 -> 22.8 | E15: =計算シート!E18 -> 16.1 | F15: =計算シート!F18 -> 6.7 | G15: =計算シート!I18 -> 0 | H15: =計算シート!M18 -> 1.1426898 | I15: =計算シート!N18 -> 1.30574 | J15: =IF(OR($C15="",$C15<1),"",$D15-L15) -> -0.40042596 | L15: =IF($C15="","",$O$2*L$13+$O$3*L$13*$G15) -> 23.200426 | M15: =IF($C15="","",$O$2*M$13+$O$3*M$13*$G15) -> 23.6426 | N15: =IF($C15="","",$O$2*N$13+$O$3*N$13*$G15) -> 24.065661 | O15: =IF($C15="","",$O$2*O$13+$O$3*O$13*$G15) -> 24.47037 | P15: =IF($C15="","",$O$2*P$13+$O$3*P$13*$G15) -> 24.857469 | Q15: =IF($C15="","",$O$2*Q$13+$O$3*Q$13*$G15) -> 25.227672 | R15: =IF($C15="","",$O$2*R$13+$O$3*R$13*$G15) -> 25.581673 | S15: =IF($C15="","",$O$2*S$13+$O$3*S$13*$G15) -> 25.920142 | ... BY15: =IF($C15="","",$O$2*BY$13+$O$3*BY$13*$G15) -> 32.636002
A16: =計算シート!A19 -> 2 | B16: =計算シート!B19 -> 19 | C16: =IF(計算シート!C19<1,"",計算シート!C19) -> 23.8 | D16: =計算シート!D19 -> 22.7 | E16: =計算シート!E19 -> 14.5 | F16: =計算シート!F19 -> 8.2 | G16: =計算シート!I19 -> 0.035478039 | H16: =計算シート!M19 -> 0 | I16: =計算シート!N19 -> 0 | J16: =IF(OR($C16="",$C16<1),"",$D16-L16) -> -0.32570987 | L16: =IF($C16="","",$O$2*L$13+$O$3*L$13*$G16) -> 23.02571 | M16: =IF($C16="","",$O$2*M$13+$O$3*M$13*$G16) -> 23.464554 | N16: =IF($C16="","",$O$2*N$13+$O$3*N$13*$G16) -> 23.884429 | O16: =IF($C16="","",$O$2*O$13+$O$3*O$13*$G16) -> 24.286091 | P16: =IF($C16="","",$O$2*P$13+$O$3*P$13*$G16) -> 24.670274 | Q16: =IF($C16="","",$O$2*Q$13+$O$3*Q$13*$G16) -> 25.037689 | R16: =IF($C16="","",$O$2*R$13+$O$3*R$13*$G16) -> 25.389025 | S16: =IF($C16="","",$O$2*S$13+$O$3*S$13*$G16) -> 25.724944 | ... BY16: =IF($C16="","",$O$2*BY$13+$O$3*BY$13*$G16) -> 32.39023
A17: =計算シート!A20 -> 3 | B17: =計算シート!B20 -> 15 | C17: =IF(計算シート!C20<1,"",計算シート!C20) -> 21.5 | D17: =計算シート!D20 -> 22.7 | E17: =計算シート!E20 -> 15 | F17: =計算シート!F20 -> 7.7 | G17: =計算シート!I20 -> 0.07588943 | H17: =計算シート!M20 -> 1.8427691 | I17: =計算シート!N20 -> 3.3957981 | J17: =IF(OR($C17="",$C17<1),"",$D17-L17) -> -0.12669887 | L17: =IF($C17="","",$O$2*L$13+$O$3*L$13*$G17) -> 22.826699 | M17: =IF($C17="","",$O$2*M$13+$O$3*M$13*$G17) -> 23.26175 | N17: =IF($C17="","",$O$2*N$13+$O$3*N$13*$G17) -> 23.677996 | O17: =IF($C17="","",$O$2*O$13+$O$3*O$13*$G17) -> 24.076186 | P17: =IF($C17="","",$O$2*P$13+$O$3*P$13*$G17) -> 24.457049 | Q17: =IF($C17="","",$O$2*Q$13+$O$3*Q$13*$G17) -> 24.821289 | R17: =IF($C17="","",$O$2*R$13+$O$3*R$13*$G17) -> 25.169587 | S17: =IF($C17="","",$O$2*S$13+$O$3*S$13*$G17) -> 25.502604 | ... BY17: =IF($C17="","",$O$2*BY$13+$O$3*BY$13*$G17) -> 32.110281
A18: =計算シート!A21 -> 4 | B18: =計算シート!B21 -> 16 | C18: =IF(計算シート!C21<1,"",計算シート!C21) -> 21.2 | D18: =計算シート!D21 -> 22.5 | E18: =計算シート!E21 -> 12.1 | F18: =計算シート!F21 -> 10.4 | G18: =計算シート!I21 -> 0.10886762 | H18: =計算シート!M21 -> 2.5023329 | I18: =計算シート!N21 -> 6.26167 | J18: =IF(OR($C18="",$C18<1),"",$D18-L18) -> -0.1642936 | L18: =IF($C18="","",$O$2*L$13+$O$3*L$13*$G18) -> 22.664294 | M18: =IF($C18="","",$O$2*M$13+$O$3*M$13*$G18) -> 23.09625 | N18: =IF($C18="","",$O$2*N$13+$O$3*N$13*$G18) -> 23.509534 | O18: =IF($C18="","",$O$2*O$13+$O$3*O$13*$G18) -> 23.904891 | P18: =IF($C18="","",$O$2*P$13+$O$3*P$13*$G18) -> 24.283044 | Q18: =IF($C18="","",$O$2*Q$13+$O$3*Q$13*$G18) -> 24.644692 | R18: =IF($C18="","",$O$2*R$13+$O$3*R$13*$G18) -> 24.990513 | S18: =IF($C18="","",$O$2*S$13+$O$3*S$13*$G18) -> 25.32116 | ... BY18: =IF($C18="","",$O$2*BY$13+$O$3*BY$13*$G18) -> 31.881826
A19: =計算シート!A22 -> 5 | B19: =計算シート!B22 -> 10 | C19: =IF(計算シート!C22<1,"",計算シート!C22) -> 20.4 | D19: =計算シート!D22 -> 22.1 | E19: =計算シート!E22 -> 15.9 | F19: =計算シート!F22 -> 6.2 | G19: =計算シート!I22 -> 0.14093191 | H19: =計算シート!M22 -> 3.7461867 | I19: =計算シート!N22 -> 14.033915 | J19: =IF(OR($C19="",$C19<1),"",$D19-L19) -> -0.40638896 | L19: =IF($C19="","",$O$2*L$13+$O$3*L$13*$G19) -> 22.506389 | M19: =IF($C19="","",$O$2*M$13+$O$3*M$13*$G19) -> 22.935336 | N19: =IF($C19="","",$O$2*N$13+$O$3*N$13*$G19) -> 23.34574 | O19: =IF($C19="","",$O$2*O$13+$O$3*O$13*$G19) -> 23.738343 | P19: =IF($C19="","",$O$2*P$13+$O$3*P$13*$G19) -> 24.113861 | Q19: =IF($C19="","",$O$2*Q$13+$O$3*Q$13*$G19) -> 24.47299 | R19: =IF($C19="","",$O$2*R$13+$O$3*R$13*$G19) -> 24.816402 | S19: =IF($C19="","",$O$2*S$13+$O$3*S$13*$G19) -> 25.144745 | ... BY19: =IF($C19="","",$O$2*BY$13+$O$3*BY$13*$G19) -> 31.659702
A20: =計算シート!A23 -> 6 | B20: =計算シート!B23 -> 21 | C20: =IF(計算シート!C23<1,"",計算シート!C23) -> 23 | D20: =計算シート!D23 -> 21.9 | E20: =計算シート!E23 -> 12.1 | F20: =計算シート!F23 -> 9.8 | G20: =計算シート!I23 -> 0.17062191 | H20: =計算シート!M23 -> 0.40411391 | I20: =計算シート!N23 -> 0.16330805 | J20: =IF(OR($C20="",$C20<1),"",$D20-L20) -> -0.46017679 | L20: =IF($C20="","",$O$2*L$13+$O$3*L$13*$G20) -> 22.360177 | M20: =IF($C20="","",$O$2*M$13+$O$3*M$13*$G20) -> 22.786337 | N20: =IF($C20="","",$O$2*N$13+$O$3*N$13*$G20) -> 23.194075 | O20: =IF($C20="","",$O$2*O$13+$O$3*O$13*$G20) -> 23.584128 | P20: =IF($C20="","",$O$2*P$13+$O$3*P$13*$G20) -> 23.957206 | Q20: =IF($C20="","",$O$2*Q$13+$O$3*Q$13*$G20) -> 24.314002 | R20: =IF($C20="","",$O$2*R$13+$O$3*R$13*$G20) -> 24.655182 | S20: =IF($C20="","",$O$2*S$13+$O$3*S$13*$G20) -> 24.981393 | ... BY20: =IF($C20="","",$O$2*BY$13+$O$3*BY$13*$G20) -> 31.454025
A21: =計算シート!A24 -> 7 | B21: =計算シート!B24 -> 20 | C21: =IF(計算シート!C24<1,"",計算シート!C24) -> 20.5 | D21: =計算シート!D24 -> 21.8 | E21: =計算シート!E24 -> 14.6 | F21: =計算シート!F24 -> 7.2 | G21: =計算シート!I24 -> 0.20836223 | H21: =計算シート!M24 -> 3.4463688 | I21: =計算シート!N24 -> 11.877458 | J21: =IF(OR($C21="",$C21<1),"",$D21-L21) -> -0.37431983 | L21: =IF($C21="","",$O$2*L$13+$O$3*L$13*$G21) -> 22.17432 | M21: =IF($C21="","",$O$2*M$13+$O$3*M$13*$G21) -> 22.596938 | N21: =IF($C21="","",$O$2*N$13+$O$3*N$13*$G21) -> 23.001287 | O21: =IF($C21="","",$O$2*O$13+$O$3*O$13*$G21) -> 23.388097 | P21: =IF($C21="","",$O$2*P$13+$O$3*P$13*$G21) -> 23.758075 | Q21: =IF($C21="","",$O$2*Q$13+$O$3*Q$13*$G21) -> 24.111905 | R21: =IF($C21="","",$O$2*R$13+$O$3*R$13*$G21) -> 24.450249 | S21: =IF($C21="","",$O$2*S$13+$O$3*S$13*$G21) -> 24.773748 | ... BY21: =IF($C21="","",$O$2*BY$13+$O$3*BY$13*$G21) -> 31.192581
A22: =計算シート!A25 -> 8 | B22: =計算シート!B25 -> 4 | C22: =IF(計算シート!C25<1,"",計算シート!C25) -> 21.2 | D22: =計算シート!D25 -> 21.6 | E22: =計算シート!E25 -> 13.5 | F22: =計算シート!F25 -> 8.1 | G22: =計算シート!I25 -> 0.23834402 | H22: =計算シート!M25 -> 2.5023329 | I22: =計算シート!N25 -> 6.26167 | J22: =IF(OR($C22="",$C22<1),"",$D22-L22) -> -0.42667069 | L22: =IF($C22="","",$O$2*L$13+$O$3*L$13*$G22) -> 22.026671 | M22: =IF($C22="","",$O$2*M$13+$O$3*M$13*$G22) -> 22.446475 | N22: =IF($C22="","",$O$2*N$13+$O$3*N$13*$G22) -> 22.848132 | O22: =IF($C22="","",$O$2*O$13+$O$3*O$13*$G22) -> 23.232366 | P22: =IF($C22="","",$O$2*P$13+$O$3*P$13*$G22) -> 23.59988 | Q22: =IF($C22="","",$O$2*Q$13+$O$3*Q$13*$G22) -> 23.951354 | R22: =IF($C22="","",$O$2*R$13+$O$3*R$13*$G22) -> 24.287446 | S22: =IF($C22="","",$O$2*S$13+$O$3*S$13*$G22) -> 24.608791 | ... BY22: =IF($C22="","",$O$2*BY$13+$O$3*BY$13*$G22) -> 30.984883
A23: =計算シート!A26 -> 9 | B23: =計算シート!B26 -> 2 | C23: =IF(計算シート!C26<1,"",計算シート!C26) -> 20.6 | D23: =計算シート!D26 -> 21.5 | E23: =計算シート!E26 -> 14.9 | F23: =計算シート!F26 -> 6.6 | G23: =計算シート!I26 -> 0.27040831 | H23: =計算シート!M26 -> 3.1436187 | I23: =計算シート!N26 -> 9.8823384 | J23: =IF(OR($C23="",$C23<1),"",$D23-L23) -> -0.36876605 | L23: =IF($C23="","",$O$2*L$13+$O$3*L$13*$G23) -> 21.868766 | M23: =IF($C23="","",$O$2*M$13+$O$3*M$13*$G23) -> 22.28556 | N23: =IF($C23="","",$O$2*N$13+$O$3*N$13*$G23) -> 22.684338 | O23: =IF($C23="","",$O$2*O$13+$O$3*O$13*$G23) -> 23.065818 | P23: =IF($C23="","",$O$2*P$13+$O$3*P$13*$G23) -> 23.430698 | Q23: =IF($C23="","",$O$2*Q$13+$O$3*Q$13*$G23) -> 23.779652 | R23: =IF($C23="","",$O$2*R$13+$O$3*R$13*$G23) -> 24.113334 | S23: =IF($C23="","",$O$2*S$13+$O$3*S$13*$G23) -> 24.432376 | ... BY23: =IF($C23="","",$O$2*BY$13+$O$3*BY$13*$G23) -> 30.762758
A24: =計算シート!A27 -> 10 | B24: =計算シート!B27 -> 27 | C24: =IF(計算シート!C27<1,"",計算シート!C27) -> 22.5 | D24: =計算シート!D27 -> 21.4 | E24: =計算シート!E27 -> 13.5 | F24: =計算シート!F27 -> 7.9 | G24: =計算シート!I27 -> 0.30068332 | H24: =計算シート!M27 -> 0.78151709 | I24: =計算シート!N27 -> 0.61076896 | J24: =IF(OR($C24="",$C24<1),"",$D24-L24) -> -0.31967293 | L24: =IF($C24="","",$O$2*L$13+$O$3*L$13*$G24) -> 21.719673 | M24: =IF($C24="","",$O$2*M$13+$O$3*M$13*$G24) -> 22.133626 | N24: =IF($C24="","",$O$2*N$13+$O$3*N$13*$G24) -> 22.529685 | O24: =IF($C24="","",$O$2*O$13+$O$3*O$13*$G24) -> 22.908564 | P24: =IF($C24="","",$O$2*P$13+$O$3*P$13*$G24) -> 23.270956 | Q24: =IF($C24="","",$O$2*Q$13+$O$3*Q$13*$G24) -> 23.617531 | R24: =IF($C24="","",$O$2*R$13+$O$3*R$13*$G24) -> 23.948938 | S24: =IF($C24="","",$O$2*S$13+$O$3*S$13*$G24) -> 24.265805 | ... BY24: =IF($C24="","",$O$2*BY$13+$O$3*BY$13*$G24) -> 30.553029
A25: =計算シート!A28 -> 11 | B25: =計算シート!B28 -> 31 | C25: =IF(計算シート!C28<1,"",計算シート!C28) -> 21.5 | D25: =計算シート!D28 -> 21.2 | E25: =計算シート!E28 -> 13.1 | F25: =計算シート!F28 -> 8.1 | G25: =計算シート!I28 -> 0.33680059 | H25: =計算シート!M28 -> 1.8427691 | I25: =計算シート!N28 -> 3.3957981 | J25: =IF(OR($C25="",$C25<1),"",$D25-L25) -> -0.34180886 | L25: =IF($C25="","",$O$2*L$13+$O$3*L$13*$G25) -> 21.541809 | M25: =IF($C25="","",$O$2*M$13+$O$3*M$13*$G25) -> 21.952372 | N25: =IF($C25="","",$O$2*N$13+$O$3*N$13*$G25) -> 22.345187 | O25: =IF($C25="","",$O$2*O$13+$O$3*O$13*$G25) -> 22.720964 | P25: =IF($C25="","",$O$2*P$13+$O$3*P$13*$G25) -> 23.080388 | Q25: =IF($C25="","",$O$2*Q$13+$O$3*Q$13*$G25) -> 23.424125 | R25: =IF($C25="","",$O$2*R$13+$O$3*R$13*$G25) -> 23.752819 | S25: =IF($C25="","",$O$2*S$13+$O$3*S$13*$G25) -> 24.06709 | ... BY25: =IF($C25="","",$O$2*BY$13+$O$3*BY$13*$G25) -> 30.302828
A26: =計算シート!A29 -> 12 | B26: =計算シート!B29 -> 3 | C26: =IF(計算シート!C29<1,"",計算シート!C29) -> 19 | D26: =計算シート!D29 -> 20.9 | E26: =計算シート!E29 -> 13.5 | F26: =計算シート!F29 -> 7.4 | G26: =計算シート!I29 -> 0.36977878 | H26: =計算シート!M29 -> 6.0048199 | I26: =計算シート!N29 -> 36.057862 | J26: =IF(OR($C26="",$C26<1),"",$D26-L26) -> -0.4794036 | L26: =IF($C26="","",$O$2*L$13+$O$3*L$13*$G26) -> 21.379404 | M26: =IF($C26="","",$O$2*M$13+$O$3*M$13*$G26) -> 21.786871 | N26: =IF($C26="","",$O$2*N$13+$O$3*N$13*$G26) -> 22.176725 | O26: =IF($C26="","",$O$2*O$13+$O$3*O$13*$G26) -> 22.549669 | P26: =IF($C26="","",$O$2*P$13+$O$3*P$13*$G26) -> 22.906384 | Q26: =IF($C26="","",$O$2*Q$13+$O$3*Q$13*$G26) -> 23.247529 | R26: =IF($C26="","",$O$2*R$13+$O$3*R$13*$G26) -> 23.573745 | S26: =IF($C26="","",$O$2*S$13+$O$3*S$13*$G26) -> 23.885647 | ... BY26: =IF($C26="","",$O$2*BY$13+$O$3*BY$13*$G26) -> 30.074373
... A314: =計算シート!A317 -> 300 | B314: =計算シート!B317 -> 0 | C314: =IF(計算シート!C317<1,"",計算シート!C317) | D314: =計算シート!D317 -> 0 | E314: =計算シート!E317 -> 0 | F314: =計算シート!F317 -> 0 | G314: =計算シート!I317 | H314: =計算シート!M317 | I314: =計算シート!N317 | J314: =IF(OR($C314="",$C314<1),"",$D314-L314) | L314: =IF($C314="","",$O$2*L$13+$O$3*L$13*$G314) | M314: =IF($C314="","",$O$2*M$13+$O$3*M$13*$G314) | N314: =IF($C314="","",$O$2*N$13+$O$3*N$13*$G314) | O314: =IF($C314="","",$O$2*O$13+$O$3*O$13*$G314) | P314: =IF($C314="","",$O$2*P$13+$O$3*P$13*$G314) | Q314: =IF($C314="","",$O$2*Q$13+$O$3*Q$13*$G314) | R314: =IF($C314="","",$O$2*R$13+$O$3*R$13*$G314) | S314: =IF($C314="","",$O$2*S$13+$O$3*S$13*$G314) | ... BY314: =IF($C314="","",$O$2*BY$13+$O$3*BY$13*$G314)
A317: 枝下高 | B317: 林齢 | L317: =入力シート!D2 -> 28 | M317: =L317+1 -> 29 | N317: =M317+1 -> 30 | O317: =N317+1 -> 31 | P317: =O317+1 -> 32 | Q317: =P317+1 -> 33 | R317: =Q317+1 -> 34 | S317: =R317+1 -> 35 | T317: =S317+1 -> 36 | ... BY317: =BX317+1 -> 93
A318: ID | B318: 個体番号 | C318: DBH | D318: H | E318: Hb | F318: CD | G318: CI H | H318: CID× 10 | I318: (CID× 10)^2 | J318: 実測値－予測値 | L318: Hb
A319: =計算シート!A18 -> 1 | B319: =IF(OR(計算シート!B18="",計算シート!B18<1),"",計算シート!B18) -> 29 | C319: =IF(OR(計算シート!C18="",計算シート!C18<1),"",計算シート!C18) -> 22.3 | D319: =IF(OR(計算シート!D18="",計算シート!D18<1),"",計算シート!D18) -> 22.8 | E319: =IF(OR(計算シート!E18="",計算シート!E18<1),"",計算シート!E18) -> 16.1 | F319: =IF(OR(計算シート!F18="",計算シート!F18<0.00001),"",計算シート!F18) -> 6.7 | G319: =IF(OR(D319="",D319<1),"",計算シート!I18) -> 0 | H319: =IF(OR($D319="",$D319<1),"",計算シート!M18) -> 1.1426898 | I319: =IF(OR($D319="",$D319<1),"",計算シート!N18) -> 1.30574 | J319: =IF(OR($C319="",$C319<1),"",$E319-L319) -> 3.2337519 | L319: =IF(OR($D319="",$D319<1),"",$R$2+$R$3*L$13+$R$4*$H319+$R$5*$I319) -> 12.866248 | M319: =IF(OR($D319="",$D319<1),"",$R$2+$R$3*M$13+$R$4*$H319+$R$5*$I319) -> 13.133043 | N319: =IF(OR($D319="",$D319<1),"",$R$2+$R$3*N$13+$R$4*$H319+$R$5*$I319) -> 13.388305 | O319: =IF(OR($D319="",$D319<1),"",$R$2+$R$3*O$13+$R$4*$H319+$R$5*$I319) -> 13.632495 | P319: =IF(OR($D319="",$D319<1),"",$R$2+$R$3*P$13+$R$4*$H319+$R$5*$I319) -> 13.866059 | Q319: =IF(OR($D319="",$D319<1),"",$R$2+$R$3*Q$13+$R$4*$H319+$R$5*$I319) -> 14.089428 | R319: =IF(OR($D319="",$D319<1),"",$R$2+$R$3*R$13+$R$4*$H319+$R$5*$I319) -> 14.303022 | S319: =IF(OR($D319="",$D319<1),"",$R$2+$R$3*S$13+$R$4*$H319+$R$5*$I319) -> 14.507244 | ... BY319: =IF(OR($D319="",$D319<1),"",$R$2+$R$3*BY$13+$R$4*$H319+$R$5*$I319) -> 18.559396
A320: =計算シート!A19 -> 2 | B320: =IF(OR(計算シート!B19="",計算シート!B19<1),"",計算シート!B19) -> 19 | C320: =IF(OR(計算シート!C19="",計算シート!C19<1),"",計算シート!C19) -> 23.8 | D320: =IF(OR(計算シート!D19="",計算シート!D19<1),"",計算シート!D19) -> 22.7 | E320: =IF(OR(計算シート!E19="",計算シート!E19<1),"",計算シート!E19) -> 14.5 | F320: =IF(OR(計算シート!F19="",計算シート!F19<0.00001),"",計算シート!F19) -> 8.2 | G320: =IF(OR(D320="",D320<1),"",計算シート!I19) -> 0.035478039 | H320: =IF(OR($D320="",$D320<1),"",計算シート!M19) -> 0 | I320: =IF(OR($D320="",$D320<1),"",計算シート!N19) -> 0 | J320: =IF(OR($C320="",$C320<1),"",$E320-L320) -> 1.8844262 | L320: =IF(OR($D320="",$D320<1),"",$R$2+$R$3*L$13+$R$4*$H320+$R$5*$I320) -> 12.615574 | M320: =IF(OR($D320="",$D320<1),"",$R$2+$R$3*M$13+$R$4*$H320+$R$5*$I320) -> 12.882369 | N320: =IF(OR($D320="",$D320<1),"",$R$2+$R$3*N$13+$R$4*$H320+$R$5*$I320) -> 13.137631 | O320: =IF(OR($D320="",$D320<1),"",$R$2+$R$3*O$13+$R$4*$H320+$R$5*$I320) -> 13.381821 | P320: =IF(OR($D320="",$D320<1),"",$R$2+$R$3*P$13+$R$4*$H320+$R$5*$I320) -> 13.615384 | Q320: =IF(OR($D320="",$D320<1),"",$R$2+$R$3*Q$13+$R$4*$H320+$R$5*$I320) -> 13.838754 | R320: =IF(OR($D320="",$D320<1),"",$R$2+$R$3*R$13+$R$4*$H320+$R$5*$I320) -> 14.052348 | S320: =IF(OR($D320="",$D320<1),"",$R$2+$R$3*S$13+$R$4*$H320+$R$5*$I320) -> 14.25657 | ... BY320: =IF(OR($D320="",$D320<1),"",$R$2+$R$3*BY$13+$R$4*$H320+$R$5*$I320) -> 18.308722
A321: =計算シート!A20 -> 3 | B321: =IF(OR(計算シート!B20="",計算シート!B20<1),"",計算シート!B20) -> 15 | C321: =IF(OR(計算シート!C20="",計算シート!C20<1),"",計算シート!C20) -> 21.5 | D321: =IF(OR(計算シート!D20="",計算シート!D20<1),"",計算シート!D20) -> 22.7 | E321: =IF(OR(計算シート!E20="",計算シート!E20<1),"",計算シート!E20) -> 15 | F321: =IF(OR(計算シート!F20="",計算シート!F20<0.00001),"",計算シート!F20) -> 7.7 | G321: =IF(OR(D321="",D321<1),"",計算シート!I20) -> 0.07588943 | H321: =IF(OR($D321="",$D321<1),"",計算シート!M20) -> 1.8427691 | I321: =IF(OR($D321="",$D321<1),"",計算シート!N20) -> 3.3957981 | J321: =IF(OR($C321="",$C321<1),"",$E321-L321) -> 2.0141948 | L321: =IF(OR($D321="",$D321<1),"",$R$2+$R$3*L$13+$R$4*$H321+$R$5*$I321) -> 12.985805 | M321: =IF(OR($D321="",$D321<1),"",$R$2+$R$3*M$13+$R$4*$H321+$R$5*$I321) -> 13.2526 | N321: =IF(OR($D321="",$D321<1),"",$R$2+$R$3*N$13+$R$4*$H321+$R$5*$I321) -> 13.507862 | O321: =IF(OR($D321="",$D321<1),"",$R$2+$R$3*O$13+$R$4*$H321+$R$5*$I321) -> 13.752052 | P321: =IF(OR($D321="",$D321<1),"",$R$2+$R$3*P$13+$R$4*$H321+$R$5*$I321) -> 13.985616 | Q321: =IF(OR($D321="",$D321<1),"",$R$2+$R$3*Q$13+$R$4*$H321+$R$5*$I321) -> 14.208986 | R321: =IF(OR($D321="",$D321<1),"",$R$2+$R$3*R$13+$R$4*$H321+$R$5*$I321) -> 14.422579 | S321: =IF(OR($D321="",$D321<1),"",$R$2+$R$3*S$13+$R$4*$H321+$R$5*$I321) -> 14.626801 | ... BY321: =IF(OR($D321="",$D321<1),"",$R$2+$R$3*BY$13+$R$4*$H321+$R$5*$I321) -> 18.678953
A322: =計算シート!A21 -> 4 | B322: =IF(OR(計算シート!B21="",計算シート!B21<1),"",計算シート!B21) -> 16 | C322: =IF(OR(計算シート!C21="",計算シート!C21<1),"",計算シート!C21) -> 21.2 | D322: =IF(OR(計算シート!D21="",計算シート!D21<1),"",計算シート!D21) -> 22.5 | E322: =IF(OR(計算シート!E21="",計算シート!E21<1),"",計算シート!E21) -> 12.1 | F322: =IF(OR(計算シート!F21="",計算シート!F21<0.00001),"",計算シート!F21) -> 10.4 | G322: =IF(OR(D322="",D322<1),"",計算シート!I21) -> 0.10886762 | H322: =IF(OR($D322="",$D322<1),"",計算シート!M21) -> 2.5023329 | I322: =IF(OR($D322="",$D322<1),"",計算シート!N21) -> 6.26167 | J322: =IF(OR($C322="",$C322<1),"",$E322-L322) -> -0.97479441 | L322: =IF(OR($D322="",$D322<1),"",$R$2+$R$3*L$13+$R$4*$H322+$R$5*$I322) -> 13.074794 | M322: =IF(OR($D322="",$D322<1),"",$R$2+$R$3*M$13+$R$4*$H322+$R$5*$I322) -> 13.341589 | N322: =IF(OR($D322="",$D322<1),"",$R$2+$R$3*N$13+$R$4*$H322+$R$5*$I322) -> 13.596852 | O322: =IF(OR($D322="",$D322<1),"",$R$2+$R$3*O$13+$R$4*$H322+$R$5*$I322) -> 13.841041 | P322: =IF(OR($D322="",$D322<1),"",$R$2+$R$3*P$13+$R$4*$H322+$R$5*$I322) -> 14.074605 | Q322: =IF(OR($D322="",$D322<1),"",$R$2+$R$3*Q$13+$R$4*$H322+$R$5*$I322) -> 14.297975 | R322: =IF(OR($D322="",$D322<1),"",$R$2+$R$3*R$13+$R$4*$H322+$R$5*$I322) -> 14.511569 | S322: =IF(OR($D322="",$D322<1),"",$R$2+$R$3*S$13+$R$4*$H322+$R$5*$I322) -> 14.715791 | ... BY322: =IF(OR($D322="",$D322<1),"",$R$2+$R$3*BY$13+$R$4*$H322+$R$5*$I322) -> 18.767943
A323: =計算シート!A22 -> 5 | B323: =IF(OR(計算シート!B22="",計算シート!B22<1),"",計算シート!B22) -> 10 | C323: =IF(OR(計算シート!C22="",計算シート!C22<1),"",計算シート!C22) -> 20.4 | D323: =IF(OR(計算シート!D22="",計算シート!D22<1),"",計算シート!D22) -> 22.1 | E323: =IF(OR(計算シート!E22="",計算シート!E22<1),"",計算シート!E22) -> 15.9 | F323: =IF(OR(計算シート!F22="",計算シート!F22<0.00001),"",計算シート!F22) -> 6.2 | G323: =IF(OR(D323="",D323<1),"",計算シート!I22) -> 0.14093191 | H323: =IF(OR($D323="",$D323<1),"",計算シート!M22) -> 3.7461867 | I323: =IF(OR($D323="",$D323<1),"",計算シート!N22) -> 14.033915 | J323: =IF(OR($C323="",$C323<1),"",$E323-L323) -> 2.7198185 | L323: =IF(OR($D323="",$D323<1),"",$R$2+$R$3*L$13+$R$4*$H323+$R$5*$I323) -> 13.180182 | M323: =IF(OR($D323="",$D323<1),"",$R$2+$R$3*M$13+$R$4*$H323+$R$5*$I323) -> 13.446976 | N323: =IF(OR($D323="",$D323<1),"",$R$2+$R$3*N$13+$R$4*$H323+$R$5*$I323) -> 13.702239 | O323: =IF(OR($D323="",$D323<1),"",$R$2+$R$3*O$13+$R$4*$H323+$R$5*$I323) -> 13.946429 | P323: =IF(OR($D323="",$D323<1),"",$R$2+$R$3*P$13+$R$4*$H323+$R$5*$I323) -> 14.179992 | Q323: =IF(OR($D323="",$D323<1),"",$R$2+$R$3*Q$13+$R$4*$H323+$R$5*$I323) -> 14.403362 | R323: =IF(OR($D323="",$D323<1),"",$R$2+$R$3*R$13+$R$4*$H323+$R$5*$I323) -> 14.616956 | S323: =IF(OR($D323="",$D323<1),"",$R$2+$R$3*S$13+$R$4*$H323+$R$5*$I323) -> 14.821178 | ... BY323: =IF(OR($D323="",$D323<1),"",$R$2+$R$3*BY$13+$R$4*$H323+$R$5*$I323) -> 18.87333
A324: =計算シート!A23 -> 6 | B324: =IF(OR(計算シート!B23="",計算シート!B23<1),"",計算シート!B23) -> 21 | C324: =IF(OR(計算シート!C23="",計算シート!C23<1),"",計算シート!C23) -> 23 | D324: =IF(OR(計算シート!D23="",計算シート!D23<1),"",計算シート!D23) -> 21.9 | E324: =IF(OR(計算シート!E23="",計算シート!E23<1),"",計算シート!E23) -> 12.1 | F324: =IF(OR(計算シート!F23="",計算シート!F23<0.00001),"",計算シート!F23) -> 9.8 | G324: =IF(OR(D324="",D324<1),"",計算シート!I23) -> 0.17062191 | H324: =IF(OR($D324="",$D324<1),"",計算シート!M23) -> 0.40411391 | I324: =IF(OR($D324="",$D324<1),"",計算シート!N23) -> 0.16330805 | J324: =IF(OR($C324="",$C324<1),"",$E324-L324) -> -0.61209609 | L324: =IF(OR($D324="",$D324<1),"",$R$2+$R$3*L$13+$R$4*$H324+$R$5*$I324) -> 12.712096 | M324: =IF(OR($D324="",$D324<1),"",$R$2+$R$3*M$13+$R$4*$H324+$R$5*$I324) -> 12.978891 | N324: =IF(OR($D324="",$D324<1),"",$R$2+$R$3*N$13+$R$4*$H324+$R$5*$I324) -> 13.234153 | O324: =IF(OR($D324="",$D324<1),"",$R$2+$R$3*O$13+$R$4*$H324+$R$5*$I324) -> 13.478343 | P324: =IF(OR($D324="",$D324<1),"",$R$2+$R$3*P$13+$R$4*$H324+$R$5*$I324) -> 13.711907 | Q324: =IF(OR($D324="",$D324<1),"",$R$2+$R$3*Q$13+$R$4*$H324+$R$5*$I324) -> 13.935276 | R324: =IF(OR($D324="",$D324<1),"",$R$2+$R$3*R$13+$R$4*$H324+$R$5*$I324) -> 14.14887 | S324: =IF(OR($D324="",$D324<1),"",$R$2+$R$3*S$13+$R$4*$H324+$R$5*$I324) -> 14.353092 | ... BY324: =IF(OR($D324="",$D324<1),"",$R$2+$R$3*BY$13+$R$4*$H324+$R$5*$I324) -> 18.405244
A325: =計算シート!A24 -> 7 | B325: =IF(OR(計算シート!B24="",計算シート!B24<1),"",計算シート!B24) -> 20 | C325: =IF(OR(計算シート!C24="",計算シート!C24<1),"",計算シート!C24) -> 20.5 | D325: =IF(OR(計算シート!D24="",計算シート!D24<1),"",計算シート!D24) -> 21.8 | E325: =IF(OR(計算シート!E24="",計算シート!E24<1),"",計算シート!E24) -> 14.6 | F325: =IF(OR(計算シート!F24="",計算シート!F24<0.00001),"",計算シート!F24) -> 7.2 | G325: =IF(OR(D325="",D325<1),"",計算シート!I24) -> 0.20836223 | H325: =IF(OR($D325="",$D325<1),"",計算シート!M24) -> 3.4463688 | I325: =IF(OR($D325="",$D325<1),"",計算シート!N24) -> 11.877458 | J325: =IF(OR($C325="",$C325<1),"",$E325-L325) -> 1.4377569 | L325: =IF(OR($D325="",$D325<1),"",$R$2+$R$3*L$13+$R$4*$H325+$R$5*$I325) -> 13.162243 | M325: =IF(OR($D325="",$D325<1),"",$R$2+$R$3*M$13+$R$4*$H325+$R$5*$I325) -> 13.429038 | N325: =IF(OR($D325="",$D325<1),"",$R$2+$R$3*N$13+$R$4*$H325+$R$5*$I325) -> 13.6843 | O325: =IF(OR($D325="",$D325<1),"",$R$2+$R$3*O$13+$R$4*$H325+$R$5*$I325) -> 13.92849 | P325: =IF(OR($D325="",$D325<1),"",$R$2+$R$3*P$13+$R$4*$H325+$R$5*$I325) -> 14.162054 | Q325: =IF(OR($D325="",$D325<1),"",$R$2+$R$3*Q$13+$R$4*$H325+$R$5*$I325) -> 14.385423 | R325: =IF(OR($D325="",$D325<1),"",$R$2+$R$3*R$13+$R$4*$H325+$R$5*$I325) -> 14.599017 | S325: =IF(OR($D325="",$D325<1),"",$R$2+$R$3*S$13+$R$4*$H325+$R$5*$I325) -> 14.803239 | ... BY325: =IF(OR($D325="",$D325<1),"",$R$2+$R$3*BY$13+$R$4*$H325+$R$5*$I325) -> 18.855391
A326: =計算シート!A25 -> 8 | B326: =IF(OR(計算シート!B25="",計算シート!B25<1),"",計算シート!B25) -> 4 | C326: =IF(OR(計算シート!C25="",計算シート!C25<1),"",計算シート!C25) -> 21.2 | D326: =IF(OR(計算シート!D25="",計算シート!D25<1),"",計算シート!D25) -> 21.6 | E326: =IF(OR(計算シート!E25="",計算シート!E25<1),"",計算シート!E25) -> 13.5 | F326: =IF(OR(計算シート!F25="",計算シート!F25<0.00001),"",計算シート!F25) -> 8.1 | G326: =IF(OR(D326="",D326<1),"",計算シート!I25) -> 0.23834402 | H326: =IF(OR($D326="",$D326<1),"",計算シート!M25) -> 2.5023329 | I326: =IF(OR($D326="",$D326<1),"",計算シート!N25) -> 6.26167 | J326: =IF(OR($C326="",$C326<1),"",$E326-L326) -> 0.42520559 | L326: =IF(OR($D326="",$D326<1),"",$R$2+$R$3*L$13+$R$4*$H326+$R$5*$I326) -> 13.074794 | M326: =IF(OR($D326="",$D326<1),"",$R$2+$R$3*M$13+$R$4*$H326+$R$5*$I326) -> 13.341589 | N326: =IF(OR($D326="",$D326<1),"",$R$2+$R$3*N$13+$R$4*$H326+$R$5*$I326) -> 13.596852 | O326: =IF(OR($D326="",$D326<1),"",$R$2+$R$3*O$13+$R$4*$H326+$R$5*$I326) -> 13.841041 | P326: =IF(OR($D326="",$D326<1),"",$R$2+$R$3*P$13+$R$4*$H326+$R$5*$I326) -> 14.074605 | Q326: =IF(OR($D326="",$D326<1),"",$R$2+$R$3*Q$13+$R$4*$H326+$R$5*$I326) -> 14.297975 | R326: =IF(OR($D326="",$D326<1),"",$R$2+$R$3*R$13+$R$4*$H326+$R$5*$I326) -> 14.511569 | S326: =IF(OR($D326="",$D326<1),"",$R$2+$R$3*S$13+$R$4*$H326+$R$5*$I326) -> 14.715791 | ... BY326: =IF(OR($D326="",$D326<1),"",$R$2+$R$3*BY$13+$R$4*$H326+$R$5*$I326) -> 18.767943
A327: =計算シート!A26 -> 9 | B327: =IF(OR(計算シート!B26="",計算シート!B26<1),"",計算シート!B26) -> 2 | C327: =IF(OR(計算シート!C26="",計算シート!C26<1),"",計算シート!C26) -> 20.6 | D327: =IF(OR(計算シート!D26="",計算シート!D26<1),"",計算シート!D26) -> 21.5 | E327: =IF(OR(計算シート!E26="",計算シート!E26<1),"",計算シート!E26) -> 14.9 | F327: =IF(OR(計算シート!F26="",計算シート!F26<0.00001),"",計算シート!F26) -> 6.6 | G327: =IF(OR(D327="",D327<1),"",計算シート!I26) -> 0.27040831 | H327: =IF(OR($D327="",$D327<1),"",計算シート!M26) -> 3.1436187 | I327: =IF(OR($D327="",$D327<1),"",計算シート!N26) -> 9.8823384 | J327: =IF(OR($C327="",$C327<1),"",$E327-L327) -> 1.7606816 | L327: =IF(OR($D327="",$D327<1),"",$R$2+$R$3*L$13+$R$4*$H327+$R$5*$I327) -> 13.139318 | M327: =IF(OR($D327="",$D327<1),"",$R$2+$R$3*M$13+$R$4*$H327+$R$5*$I327) -> 13.406113 | N327: =IF(OR($D327="",$D327<1),"",$R$2+$R$3*N$13+$R$4*$H327+$R$5*$I327) -> 13.661376 | O327: =IF(OR($D327="",$D327<1),"",$R$2+$R$3*O$13+$R$4*$H327+$R$5*$I327) -> 13.905565 | P327: =IF(OR($D327="",$D327<1),"",$R$2+$R$3*P$13+$R$4*$H327+$R$5*$I327) -> 14.139129 | Q327: =IF(OR($D327="",$D327<1),"",$R$2+$R$3*Q$13+$R$4*$H327+$R$5*$I327) -> 14.362499 | R327: =IF(OR($D327="",$D327<1),"",$R$2+$R$3*R$13+$R$4*$H327+$R$5*$I327) -> 14.576093 | S327: =IF(OR($D327="",$D327<1),"",$R$2+$R$3*S$13+$R$4*$H327+$R$5*$I327) -> 14.780315 | ... BY327: =IF(OR($D327="",$D327<1),"",$R$2+$R$3*BY$13+$R$4*$H327+$R$5*$I327) -> 18.832467
A328: =計算シート!A27 -> 10 | B328: =IF(OR(計算シート!B27="",計算シート!B27<1),"",計算シート!B27) -> 27 | C328: =IF(OR(計算シート!C27="",計算シート!C27<1),"",計算シート!C27) -> 22.5 | D328: =IF(OR(計算シート!D27="",計算シート!D27<1),"",計算シート!D27) -> 21.4 | E328: =IF(OR(計算シート!E27="",計算シート!E27<1),"",計算シート!E27) -> 13.5 | F328: =IF(OR(計算シート!F27="",計算シート!F27<0.00001),"",計算シート!F27) -> 7.9 | G328: =IF(OR(D328="",D328<1),"",計算シート!I27) -> 0.30068332 | H328: =IF(OR($D328="",$D328<1),"",計算シート!M27) -> 0.78151709 | I328: =IF(OR($D328="",$D328<1),"",計算シート!N27) -> 0.61076896 | J328: =IF(OR($C328="",$C328<1),"",$E328-L328) -> 0.70553955 | L328: =IF(OR($D328="",$D328<1),"",$R$2+$R$3*L$13+$R$4*$H328+$R$5*$I328) -> 12.79446 | M328: =IF(OR($D328="",$D328<1),"",$R$2+$R$3*M$13+$R$4*$H328+$R$5*$I328) -> 13.061255 | N328: =IF(OR($D328="",$D328<1),"",$R$2+$R$3*N$13+$R$4*$H328+$R$5*$I328) -> 13.316518 | O328: =IF(OR($D328="",$D328<1),"",$R$2+$R$3*O$13+$R$4*$H328+$R$5*$I328) -> 13.560707 | P328: =IF(OR($D328="",$D328<1),"",$R$2+$R$3*P$13+$R$4*$H328+$R$5*$I328) -> 13.794271 | Q328: =IF(OR($D328="",$D328<1),"",$R$2+$R$3*Q$13+$R$4*$H328+$R$5*$I328) -> 14.017641 | R328: =IF(OR($D328="",$D328<1),"",$R$2+$R$3*R$13+$R$4*$H328+$R$5*$I328) -> 14.231235 | S328: =IF(OR($D328="",$D328<1),"",$R$2+$R$3*S$13+$R$4*$H328+$R$5*$I328) -> 14.435457 | ... BY328: =IF(OR($D328="",$D328<1),"",$R$2+$R$3*BY$13+$R$4*$H328+$R$5*$I328) -> 18.487609
A329: =計算シート!A28 -> 11 | B329: =IF(OR(計算シート!B28="",計算シート!B28<1),"",計算シート!B28) -> 31 | C329: =IF(OR(計算シート!C28="",計算シート!C28<1),"",計算シート!C28) -> 21.5 | D329: =IF(OR(計算シート!D28="",計算シート!D28<1),"",計算シート!D28) -> 21.2 | E329: =IF(OR(計算シート!E28="",計算シート!E28<1),"",計算シート!E28) -> 13.1 | F329: =IF(OR(計算シート!F28="",計算シート!F28<0.00001),"",計算シート!F28) -> 8.1 | G329: =IF(OR(D329="",D329<1),"",計算シート!I28) -> 0.33680059 | H329: =IF(OR($D329="",$D329<1),"",計算シート!M28) -> 1.8427691 | I329: =IF(OR($D329="",$D329<1),"",計算シート!N28) -> 3.3957981 | J329: =IF(OR($C329="",$C329<1),"",$E329-L329) -> 0.1141948 | L329: =IF(OR($D329="",$D329<1),"",$R$2+$R$3*L$13+$R$4*$H329+$R$5*$I329) -> 12.985805 | M329: =IF(OR($D329="",$D329<1),"",$R$2+$R$3*M$13+$R$4*$H329+$R$5*$I329) -> 13.2526 | N329: =IF(OR($D329="",$D329<1),"",$R$2+$R$3*N$13+$R$4*$H329+$R$5*$I329) -> 13.507862 | O329: =IF(OR($D329="",$D329<1),"",$R$2+$R$3*O$13+$R$4*$H329+$R$5*$I329) -> 13.752052 | P329: =IF(OR($D329="",$D329<1),"",$R$2+$R$3*P$13+$R$4*$H329+$R$5*$I329) -> 13.985616 | Q329: =IF(OR($D329="",$D329<1),"",$R$2+$R$3*Q$13+$R$4*$H329+$R$5*$I329) -> 14.208986 | R329: =IF(OR($D329="",$D329<1),"",$R$2+$R$3*R$13+$R$4*$H329+$R$5*$I329) -> 14.422579 | S329: =IF(OR($D329="",$D329<1),"",$R$2+$R$3*S$13+$R$4*$H329+$R$5*$I329) -> 14.626801 | ... BY329: =IF(OR($D329="",$D329<1),"",$R$2+$R$3*BY$13+$R$4*$H329+$R$5*$I329) -> 18.678953
A330: =計算シート!A29 -> 12 | B330: =IF(OR(計算シート!B29="",計算シート!B29<1),"",計算シート!B29) -> 3 | C330: =IF(OR(計算シート!C29="",計算シート!C29<1),"",計算シート!C29) -> 19 | D330: =IF(OR(計算シート!D29="",計算シート!D29<1),"",計算シート!D29) -> 20.9 | E330: =IF(OR(計算シート!E29="",計算シート!E29<1),"",計算シート!E29) -> 13.5 | F330: =IF(OR(計算シート!F29="",計算シート!F29<0.00001),"",計算シート!F29) -> 7.4 | G330: =IF(OR(D330="",D330<1),"",計算シート!I29) -> 0.36977878 | H330: =IF(OR($D330="",$D330<1),"",計算シート!M29) -> 6.0048199 | I330: =IF(OR($D330="",$D330<1),"",計算シート!N29) -> 36.057862 | J330: =IF(OR($C330="",$C330<1),"",$E330-L330) -> 0.33706945 | L330: =IF(OR($D330="",$D330<1),"",$R$2+$R$3*L$13+$R$4*$H330+$R$5*$I330) -> 13.162931 | M330: =IF(OR($D330="",$D330<1),"",$R$2+$R$3*M$13+$R$4*$H330+$R$5*$I330) -> 13.429725 | N330: =IF(OR($D330="",$D330<1),"",$R$2+$R$3*N$13+$R$4*$H330+$R$5*$I330) -> 13.684988 | O330: =IF(OR($D330="",$D330<1),"",$R$2+$R$3*O$13+$R$4*$H330+$R$5*$I330) -> 13.929178 | P330: =IF(OR($D330="",$D330<1),"",$R$2+$R$3*P$13+$R$4*$H330+$R$5*$I330) -> 14.162741 | Q330: =IF(OR($D330="",$D330<1),"",$R$2+$R$3*Q$13+$R$4*$H330+$R$5*$I330) -> 14.386111 | R330: =IF(OR($D330="",$D330<1),"",$R$2+$R$3*R$13+$R$4*$H330+$R$5*$I330) -> 14.599705 | S330: =IF(OR($D330="",$D330<1),"",$R$2+$R$3*S$13+$R$4*$H330+$R$5*$I330) -> 14.803927 | ... BY330: =IF(OR($D330="",$D330<1),"",$R$2+$R$3*BY$13+$R$4*$H330+$R$5*$I330) -> 18.856079
... A618: =計算シート!A317 -> 300 | B618: =IF(OR(計算シート!B317="",計算シート!B317<1),"",計算シート!B317) | C618: =IF(OR(計算シート!C317="",計算シート!C317<1),"",計算シート!C317) | D618: =IF(OR(計算シート!D317="",計算シート!D317<1),"",計算シート!D317) | E618: =IF(OR(計算シート!E317="",計算シート!E317<1),"",計算シート!E317) | F618: =IF(OR(計算シート!F317="",計算シート!F317<0.00001),"",計算シート!F317) | G618: =IF(OR(D618="",D618<1),"",計算シート!I317) | H618: =IF(OR($D618="",$D618<1),"",計算シート!M317) | I618: =IF(OR($D618="",$D618<1),"",計算シート!N317) | J618: =IF(OR($C618="",$C618<1),"",$E618-L618) | L618: =IF(OR($D618="",$D618<1),"",$R$2+$R$3*L$13+$R$4*$H618+$R$5*$I618) | M618: =IF(OR($D618="",$D618<1),"",$R$2+$R$3*M$13+$R$4*$H618+$R$5*$I618) | N618: =IF(OR($D618="",$D618<1),"",$R$2+$R$3*N$13+$R$4*$H618+$R$5*$I618) | O618: =IF(OR($D618="",$D618<1),"",$R$2+$R$3*O$13+$R$4*$H618+$R$5*$I618) | P618: =IF(OR($D618="",$D618<1),"",$R$2+$R$3*P$13+$R$4*$H618+$R$5*$I618) | Q618: =IF(OR($D618="",$D618<1),"",$R$2+$R$3*Q$13+$R$4*$H618+$R$5*$I618) | R618: =IF(OR($D618="",$D618<1),"",$R$2+$R$3*R$13+$R$4*$H618+$R$5*$I618) | S618: =IF(OR($D618="",$D618<1),"",$R$2+$R$3*S$13+$R$4*$H618+$R$5*$I618) | ... BY618: =IF(OR($D618="",$D618<1),"",$R$2+$R$3*BY$13+$R$4*$H618+$R$5*$I618)
I619: =IF(OR($D619="",$D619<1),"",計算シート!N318)
I620: =IF(OR($D620="",$D620<1),"",計算シート!N319)
A621: 樹冠長 | B621: 林齢 | L621: =L10 -> 28 | M621: =L621+1 -> 29 | N621: =M621+1 -> 30 | O621: =N621+1 -> 31 | P621: =O621+1 -> 32 | Q621: =P621+1 -> 33 | R621: =Q621+1 -> 34 | S621: =R621+1 -> 35 | T621: =S621+1 -> 36 | ... BY621: =BX621+1 -> 93
A622: ID | B622: 個体番号 | C622: DBH | D622: H | E622: Hb | F622: CD | G622: CI H | H622: CID× 10 | I622: (CID× 10)^2 | J622: 実測値－予測値
A623: =A15 -> 1 | B623: =IF(OR(B15="",B15<1),"",B15) -> 29 | C623: =IF(OR(C15="",C15<1),"",C15) -> 22.3 | D623: =IF(OR(D15="",D15<1),"",D15) -> 22.8 | E623: =IF(OR(E15="",E15<1),"",E15) -> 16.1 | F623: =IF(OR(F15="",F15<0.000001),"",F15) -> 6.7 | G623: =IF(OR($D623="",$D623<1),"",G15) -> 0 | H623: =IF(OR($D623="",$D623<1),"",H15) -> 1.1426898 | I623: =IF(OR($D623="",$D623<1),"",I15) -> 1.30574 | J623: =IF(OR($C623="",$C623<1),"",$F623-L623) -> -3.6341778 | L623: =IF(OR(L15="",L319=""),"",L15-L319) -> 10.334178 | M623: =IF(OR(M15="",M319=""),"",M15-M319) -> 10.509557 | N623: =IF(OR(N15="",N319=""),"",N15-N319) -> 10.677356 | O623: =IF(OR(O15="",O319=""),"",O15-O319) -> 10.837875 | P623: =IF(OR(P15="",P319=""),"",P15-P319) -> 10.99141 | Q623: =IF(OR(Q15="",Q319=""),"",Q15-Q319) -> 11.138243 | R623: =IF(OR(R15="",R319=""),"",R15-R319) -> 11.278651 | S623: =IF(OR(S15="",S319=""),"",S15-S319) -> 11.412897 | ... BY623: =IF(OR(BY15="",BY319=""),"",BY15-BY319) -> 14.076606
A624: =A16 -> 2 | B624: =IF(OR(B16="",B16<1),"",B16) -> 19 | C624: =IF(OR(C16="",C16<1),"",C16) -> 23.8 | D624: =IF(OR(D16="",D16<1),"",D16) -> 22.7 | E624: =IF(OR(E16="",E16<1),"",E16) -> 14.5 | F624: =IF(OR(F16="",F16<0.000001),"",F16) -> 8.2 | G624: =IF(OR($D624="",$D624<1),"",G16) -> 0.035478039 | H624: =IF(OR($D624="",$D624<1),"",H16) -> 0 | I624: =IF(OR($D624="",$D624<1),"",I16) -> 0 | J624: =IF(OR($C624="",$C624<1),"",$F624-L624) -> -2.210136 | L624: =IF(OR(L16="",L320=""),"",L16-L320) -> 10.410136 | M624: =IF(OR(M16="",M320=""),"",M16-M320) -> 10.582186 | N624: =IF(OR(N16="",N320=""),"",N16-N320) -> 10.746798 | O624: =IF(OR(O16="",O320=""),"",O16-O320) -> 10.90427 | P624: =IF(OR(P16="",P320=""),"",P16-P320) -> 11.054889 | Q624: =IF(OR(Q16="",Q320=""),"",Q16-Q320) -> 11.198935 | R624: =IF(OR(R16="",R320=""),"",R16-R320) -> 11.336676 | S624: =IF(OR(S16="",S320=""),"",S16-S320) -> 11.468374 | ... BY624: =IF(OR(BY16="",BY320=""),"",BY16-BY320) -> 14.081508
A625: =A17 -> 3 | B625: =IF(OR(B17="",B17<1),"",B17) -> 15 | C625: =IF(OR(C17="",C17<1),"",C17) -> 21.5 | D625: =IF(OR(D17="",D17<1),"",D17) -> 22.7 | E625: =IF(OR(E17="",E17<1),"",E17) -> 15 | F625: =IF(OR(F17="",F17<0.000001),"",F17) -> 7.7 | G625: =IF(OR($D625="",$D625<1),"",G17) -> 0.07588943 | H625: =IF(OR($D625="",$D625<1),"",H17) -> 1.8427691 | I625: =IF(OR($D625="",$D625<1),"",I17) -> 3.3957981 | J625: =IF(OR($C625="",$C625<1),"",$F625-L625) -> -2.1408937 | L625: =IF(OR(L17="",L321=""),"",L17-L321) -> 9.8408937 | M625: =IF(OR(M17="",M321=""),"",M17-M321) -> 10.00915 | N625: =IF(OR(N17="",N321=""),"",N17-N321) -> 10.170134 | O625: =IF(OR(O17="",O321=""),"",O17-O321) -> 10.324134 | P625: =IF(OR(P17="",P321=""),"",P17-P321) -> 10.471433 | Q625: =IF(OR(Q17="",Q321=""),"",Q17-Q321) -> 10.612303 | R625: =IF(OR(R17="",R321=""),"",R17-R321) -> 10.747008 | S625: =IF(OR(S17="",S321=""),"",S17-S321) -> 10.875802 | ... BY625: =IF(OR(BY17="",BY321=""),"",BY17-BY321) -> 13.431328
A626: =A18 -> 4 | B626: =IF(OR(B18="",B18<1),"",B18) -> 16 | C626: =IF(OR(C18="",C18<1),"",C18) -> 21.2 | D626: =IF(OR(D18="",D18<1),"",D18) -> 22.5 | E626: =IF(OR(E18="",E18<1),"",E18) -> 12.1 | F626: =IF(OR(F18="",F18<0.000001),"",F18) -> 10.4 | G626: =IF(OR($D626="",$D626<1),"",G18) -> 0.10886762 | H626: =IF(OR($D626="",$D626<1),"",H18) -> 2.5023329 | I626: =IF(OR($D626="",$D626<1),"",I18) -> 6.26167 | J626: =IF(OR($C626="",$C626<1),"",$F626-L626) -> 0.81050081 | L626: =IF(OR(L18="",L322=""),"",L18-L322) -> 9.5894992 | M626: =IF(OR(M18="",M322=""),"",M18-M322) -> 9.7546605 | N626: =IF(OR(N18="",N322=""),"",N18-N322) -> 9.9126824 | O626: =IF(OR(O18="",O322=""),"",O18-O322) -> 10.06385 | P626: =IF(OR(P18="",P322=""),"",P18-P322) -> 10.208439 | Q626: =IF(OR(Q18="",Q322=""),"",Q18-Q322) -> 10.346718 | R626: =IF(OR(R18="",R322=""),"",R18-R322) -> 10.478945 | S626: =IF(OR(S18="",S322=""),"",S18-S322) -> 10.60537 | ... BY626: =IF(OR(BY18="",BY322=""),"",BY18-BY322) -> 13.113883
A627: =A19 -> 5 | B627: =IF(OR(B19="",B19<1),"",B19) -> 10 | C627: =IF(OR(C19="",C19<1),"",C19) -> 20.4 | D627: =IF(OR(D19="",D19<1),"",D19) -> 22.1 | E627: =IF(OR(E19="",E19<1),"",E19) -> 15.9 | F627: =IF(OR(F19="",F19<0.000001),"",F19) -> 6.2 | G627: =IF(OR($D627="",$D627<1),"",G19) -> 0.14093191 | H627: =IF(OR($D627="",$D627<1),"",H19) -> 3.7461867 | I627: =IF(OR($D627="",$D627<1),"",I19) -> 14.033915 | J627: =IF(OR($C627="",$C627<1),"",$F627-L627) -> -3.1262074 | L627: =IF(OR(L19="",L323=""),"",L19-L323) -> 9.3262074 | M627: =IF(OR(M19="",M323=""),"",M19-M323) -> 9.4883592 | N627: =IF(OR(N19="",N323=""),"",N19-N323) -> 9.6435018 | O627: =IF(OR(O19="",O323=""),"",O19-O323) -> 9.7919147 | P627: =IF(OR(P19="",P323=""),"",P19-P323) -> 9.9338693 | Q627: =IF(OR(Q19="",Q323=""),"",Q19-Q323) -> 10.069628 | R627: =IF(OR(R19="",R323=""),"",R19-R323) -> 10.199446 | S627: =IF(OR(S19="",S323=""),"",S19-S323) -> 10.323567 | ... BY627: =IF(OR(BY19="",BY323=""),"",BY19-BY323) -> 12.786372
A628: =A20 -> 6 | B628: =IF(OR(B20="",B20<1),"",B20) -> 21 | C628: =IF(OR(C20="",C20<1),"",C20) -> 23 | D628: =IF(OR(D20="",D20<1),"",D20) -> 21.9 | E628: =IF(OR(E20="",E20<1),"",E20) -> 12.1 | F628: =IF(OR(F20="",F20<0.000001),"",F20) -> 9.8 | G628: =IF(OR($D628="",$D628<1),"",G20) -> 0.17062191 | H628: =IF(OR($D628="",$D628<1),"",H20) -> 0.40411391 | I628: =IF(OR($D628="",$D628<1),"",I20) -> 0.16330805 | J628: =IF(OR($C628="",$C628<1),"",$F628-L628) -> 0.15191929 | L628: =IF(OR(L20="",L324=""),"",L20-L324) -> 9.6480807 | M628: =IF(OR(M20="",M324=""),"",M20-M324) -> 9.8074459 | N628: =IF(OR(N20="",N324=""),"",N20-N324) -> 9.9599222 | O628: =IF(OR(O20="",O324=""),"",O20-O324) -> 10.105785 | P628: =IF(OR(P20="",P324=""),"",P20-P324) -> 10.2453 | Q628: =IF(OR(Q20="",Q324=""),"",Q20-Q324) -> 10.378726 | R628: =IF(OR(R20="",R324=""),"",R20-R324) -> 10.506312 | S628: =IF(OR(S20="",S324=""),"",S20-S324) -> 10.6283 | ... BY628: =IF(OR(BY20="",BY324=""),"",BY20-BY324) -> 13.048781
A629: =A21 -> 7 | B629: =IF(OR(B21="",B21<1),"",B21) -> 20 | C629: =IF(OR(C21="",C21<1),"",C21) -> 20.5 | D629: =IF(OR(D21="",D21<1),"",D21) -> 21.8 | E629: =IF(OR(E21="",E21<1),"",E21) -> 14.6 | F629: =IF(OR(F21="",F21<0.000001),"",F21) -> 7.2 | G629: =IF(OR($D629="",$D629<1),"",G21) -> 0.20836223 | H629: =IF(OR($D629="",$D629<1),"",H21) -> 3.4463688 | I629: =IF(OR($D629="",$D629<1),"",I21) -> 11.877458 | J629: =IF(OR($C629="",$C629<1),"",$F629-L629) -> -1.8120767 | L629: =IF(OR(L21="",L325=""),"",L21-L325) -> 9.0120767 | M629: =IF(OR(M21="",M325=""),"",M21-M325) -> 9.1678997 | N629: =IF(OR(N21="",N325=""),"",N21-N325) -> 9.3169869 | O629: =IF(OR(O21="",O325=""),"",O21-O325) -> 9.4596072 | P629: =IF(OR(P21="",P325=""),"",P21-P325) -> 9.5960213 | Q629: =IF(OR(Q21="",Q325=""),"",Q21-Q325) -> 9.7264815 | R629: =IF(OR(R21="",R325=""),"",R21-R325) -> 9.8512321 | S629: =IF(OR(S21="",S325=""),"",S21-S325) -> 9.9705091 | ... BY629: =IF(OR(BY21="",BY325=""),"",BY21-BY325) -> 12.337189
A630: =A22 -> 8 | B630: =IF(OR(B22="",B22<1),"",B22) -> 4 | C630: =IF(OR(C22="",C22<1),"",C22) -> 21.2 | D630: =IF(OR(D22="",D22<1),"",D22) -> 21.6 | E630: =IF(OR(E22="",E22<1),"",E22) -> 13.5 | F630: =IF(OR(F22="",F22<0.000001),"",F22) -> 8.1 | G630: =IF(OR($D630="",$D630<1),"",G22) -> 0.23834402 | H630: =IF(OR($D630="",$D630<1),"",H22) -> 2.5023329 | I630: =IF(OR($D630="",$D630<1),"",I22) -> 6.26167 | J630: =IF(OR($C630="",$C630<1),"",$F630-L630) -> -0.85187628 | L630: =IF(OR(L22="",L326=""),"",L22-L326) -> 8.9518763 | M630: =IF(OR(M22="",M326=""),"",M22-M326) -> 9.1048852 | N630: =IF(OR(N22="",N326=""),"",N22-N326) -> 9.25128 | O630: =IF(OR(O22="",O326=""),"",O22-O326) -> 9.3913248 | P630: =IF(OR(P22="",P326=""),"",P22-P326) -> 9.5252753 | Q630: =IF(OR(Q22="",Q326=""),"",Q22-Q326) -> 9.6533795 | R630: =IF(OR(R22="",R326=""),"",R22-R326) -> 9.7758773 | S630: =IF(OR(S22="",S326=""),"",S22-S326) -> 9.8930002 | ... BY630: =IF(OR(BY22="",BY326=""),"",BY22-BY326) -> 12.21694
A631: =A23 -> 9 | B631: =IF(OR(B23="",B23<1),"",B23) -> 2 | C631: =IF(OR(C23="",C23<1),"",C23) -> 20.6 | D631: =IF(OR(D23="",D23<1),"",D23) -> 21.5 | E631: =IF(OR(E23="",E23<1),"",E23) -> 14.9 | F631: =IF(OR(F23="",F23<0.000001),"",F23) -> 6.6 | G631: =IF(OR($D631="",$D631<1),"",G23) -> 0.27040831 | H631: =IF(OR($D631="",$D631<1),"",H23) -> 3.1436187 | I631: =IF(OR($D631="",$D631<1),"",I23) -> 9.8823384 | J631: =IF(OR($C631="",$C631<1),"",$F631-L631) -> -2.1294476 | L631: =IF(OR(L23="",L327=""),"",L23-L327) -> 8.7294476 | M631: =IF(OR(M23="",M327=""),"",M23-M327) -> 8.8794471 | N631: =IF(OR(N23="",N327=""),"",N23-N327) -> 9.0229625 | O631: =IF(OR(O23="",O327=""),"",O23-O327) -> 9.1602527 | P631: =IF(OR(P23="",P327=""),"",P23-P327) -> 9.2915686 | Q631: =IF(OR(Q23="",Q327=""),"",Q23-Q327) -> 9.4171532 | R631: =IF(OR(R23="",R327=""),"",R23-R327) -> 9.5372416 | S631: =IF(OR(S23="",S327=""),"",S23-S327) -> 9.6520608 | ... BY631: =IF(OR(BY23="",BY327=""),"",BY23-BY327) -> 11.930292
A632: =A24 -> 10 | B632: =IF(OR(B24="",B24<1),"",B24) -> 27 | C632: =IF(OR(C24="",C24<1),"",C24) -> 22.5 | D632: =IF(OR(D24="",D24<1),"",D24) -> 21.4 | E632: =IF(OR(E24="",E24<1),"",E24) -> 13.5 | F632: =IF(OR(F24="",F24<0.000001),"",F24) -> 7.9 | G632: =IF(OR($D632="",$D632<1),"",G24) -> 0.30068332 | H632: =IF(OR($D632="",$D632<1),"",H24) -> 0.78151709 | I632: =IF(OR($D632="",$D632<1),"",I24) -> 0.61076896 | J632: =IF(OR($C632="",$C632<1),"",$F632-L632) -> -1.0252125 | L632: =IF(OR(L24="",L328=""),"",L24-L328) -> 8.9252125 | M632: =IF(OR(M24="",M328=""),"",M24-M328) -> 9.0723703 | N632: =IF(OR(N24="",N328=""),"",N24-N328) -> 9.2131671 | O632: =IF(OR(O24="",O328=""),"",O24-O328) -> 9.3478565 | P632: =IF(OR(P24="",P328=""),"",P24-P328) -> 9.4766848 | Q632: =IF(OR(Q24="",Q328=""),"",Q24-Q328) -> 9.5998904 | R632: =IF(OR(R24="",R328=""),"",R24-R328) -> 9.7177038 | S632: =IF(OR(S24="",S328=""),"",S24-S328) -> 9.8303479 | ... BY632: =IF(OR(BY24="",BY328=""),"",BY24-BY328) -> 12.065421
A633: =A25 -> 11 | B633: =IF(OR(B25="",B25<1),"",B25) -> 31 | C633: =IF(OR(C25="",C25<1),"",C25) -> 21.5 | D633: =IF(OR(D25="",D25<1),"",D25) -> 21.2 | E633: =IF(OR(E25="",E25<1),"",E25) -> 13.1 | F633: =IF(OR(F25="",F25<0.000001),"",F25) -> 8.1 | G633: =IF(OR($D633="",$D633<1),"",G25) -> 0.33680059 | H633: =IF(OR($D633="",$D633<1),"",H25) -> 1.8427691 | I633: =IF(OR($D633="",$D633<1),"",I25) -> 3.3957981 | J633: =IF(OR($C633="",$C633<1),"",$F633-L633) -> -0.45600366 | L633: =IF(OR(L25="",L329=""),"",L25-L329) -> 8.5560037 | M633: =IF(OR(M25="",M329=""),"",M25-M329) -> 8.6997716 | N633: =IF(OR(N25="",N329=""),"",N25-N329) -> 8.837325 | O633: =IF(OR(O25="",O329=""),"",O25-O329) -> 8.9689118 | P633: =IF(OR(P25="",P329=""),"",P25-P329) -> 9.0947724 | Q633: =IF(OR(Q25="",Q329=""),"",Q25-Q329) -> 9.2151398 | R633: =IF(OR(R25="",R329=""),"",R25-R329) -> 9.3302393 | S633: =IF(OR(S25="",S329=""),"",S25-S329) -> 9.4402886 | ... BY633: =IF(OR(BY25="",BY329=""),"",BY25-BY329) -> 11.623875
A634: =A26 -> 12 | B634: =IF(OR(B26="",B26<1),"",B26) -> 3 | C634: =IF(OR(C26="",C26<1),"",C26) -> 19 | D634: =IF(OR(D26="",D26<1),"",D26) -> 20.9 | E634: =IF(OR(E26="",E26<1),"",E26) -> 13.5 | F634: =IF(OR(F26="",F26<0.000001),"",F26) -> 7.4 | G634: =IF(OR($D634="",$D634<1),"",G26) -> 0.36977878 | H634: =IF(OR($D634="",$D634<1),"",H26) -> 6.0048199 | I634: =IF(OR($D634="",$D634<1),"",I26) -> 36.057862 | J634: =IF(OR($C634="",$C634<1),"",$F634-L634) -> -0.81647305 | L634: =IF(OR(L26="",L330=""),"",L26-L330) -> 8.216473 | M634: =IF(OR(M26="",M330=""),"",M26-M330) -> 8.3571458 | N634: =IF(OR(N26="",N330=""),"",N26-N330) -> 8.4917377 | O634: =IF(OR(O26="",O330=""),"",O26-O330) -> 8.6204914 | P634: =IF(OR(P26="",P330=""),"",P26-P330) -> 8.7436423 | Q634: =IF(OR(Q26="",Q330=""),"",Q26-Q330) -> 8.8614183 | R634: =IF(OR(R26="",R330=""),"",R26-R330) -> 8.9740398 | S634: =IF(OR(S26="",S330=""),"",S26-S330) -> 9.0817198 | ... BY634: =IF(OR(BY26="",BY330=""),"",BY26-BY330) -> 11.218294
... A922: =A314 -> 300 | B922: =IF(OR(B314="",B314<1),"",B314) | C922: =IF(OR(C314="",C314<1),"",C314) | D922: =IF(OR(D314="",D314<1),"",D314) | E922: =IF(OR(E314="",E314<1),"",E314) | F922: =IF(OR(F314="",F314<0.000001),"",F314) | G922: =IF(OR($D922="",$D922<1),"",G314) | H922: =IF(OR($D922="",$D922<1),"",H314) | I922: =IF(OR($D922="",$D922<1),"",I314) | J922: =IF(OR($C922="",$C922<1),"",$F922-L922) | L922: =IF(OR(L314="",L618=""),"",L314-L618) | M922: =IF(OR(M314="",M618=""),"",M314-M618) | N922: =IF(OR(N314="",N618=""),"",N314-N618) | O922: =IF(OR(O314="",O618=""),"",O314-O618) | P922: =IF(OR(P314="",P618=""),"",P314-P618) | Q922: =IF(OR(Q314="",Q618=""),"",Q314-Q618) | R922: =IF(OR(R314="",R618=""),"",R314-R618) | S922: =IF(OR(S314="",S618=""),"",S314-S618) | ... BY922: =IF(OR(BY314="",BY618=""),"",BY314-BY618)
