Workbook

Sheet 入力シート
B2: 林齢 | D2: 28 | E2: 年
B3: 標準地面積 | D3: 0.04 | E3: ha
B4: 主伐予定林齢１ | D4: 60 | E4: 年 | L4: 主伐予定林齢２ | M4: 80 | N4: 年
B5: 育成目標径級１ | D5: 34 | E5: cm | L5: 育成目標径級２ | M5: 42 | N5: cm
B6: 地位指数 | D6: =IF(OR(計算シート!$C$5="",計算シート!$C$5<1),"",計算シート!$C$5) -> 26.781277
L8: 主伐予定林齢１における立木ごとの 胸高直径の推定値と将来木の候補 | U8: 主伐予定林齢２における立木ごとの 胸高直径の推定値と将来木の候補
D9: =COUNT($D$12:$D$309) -> 37 | E9: 本/標準地 | H9: =SUM(H12:H311) -> 7.1165117 | I9: m3/標準地 | M9: =COUNTIF($M$12:$M$309,"〇") -> 9 | N9: 本/標準地 | Q9: =SUM(Q12:Q311) -> 12.487235 | R9: m3/標準地 | V9: =COUNTIF($V$12:$V$309,"〇") -> 6 | W9: 本/標準地 | Z9: =SUM(Z12:Z311) -> 12.923263 | AA9: m3/標準地 | AC9: 将来木施業による80年生時の育成目標径級と 仕立て本数の目安
D10: =D9*1/D3 -> 925 | E10: 本/ha | H10: =H9*1/D3 -> 177.91279 | I10: m3/ha | K10: 主伐予定林齢１ （年） | M10: =M9*1/D3 -> 225 | N10: 本/ha | Q10: =Q9*1/D3 -> 312.18087 | R10: m3/ha | T10: 主伐予定林齢２ （年） | V10: =V9*1/D3 -> 150 | W10: 本/ha | Z10: =Z9*1/D3 -> 323.08157 | AA10: m3/ha
B11: ID | C11: 個体番号 | D11: 胸高直径 cm | E11: 樹高 m | F11: 枝下高 m | G11: 著しい欠点木には"1"を入力 | H11: 単材積(m3) | J11: 樹冠長 m | K11: =IF(D4="","",D4) -> 60 | L11: 胸高直径 cm | M11: 将来木候補 | N11: 優先的に間伐 する範囲(m) | O11: 樹高(m) | P11: 単材積(m3) | Q11: 単材積(m3) | T11: =IF(M4="","",M4) -> 80 | U11: 胸高直径 cm | V11: 将来木候補 | W11: 優先的に間伐 する範囲(m) | X11: 樹高(m) | Y11: 単材積(m3) | Z11: 単材積(m3) | AC11: 地位指数 | AD11: 育成目標径級 (cm) | AE11: 本数（/ha)
B12: 1 | C12: 29 | D12: 22.3 | E12: 22.8 | F12: 16.1 | H12: =IF(D12="","",((D12^2)*PI()/40000)*F12*(((0.435719+0.515867/F12+2.481278/(F12^2))+(0.439004+0.916461/D12-0.073809/D12^2))/2)) -> 0.3009795 | J12: =IF(OR(E12<1,$D$2=""),"",E12-F12) -> 6.7 | L12: =IF($K$11="","",HLOOKUP(K$11,計算シート!$AE$1235:$CR$1535,$B12+1)) -> 37.452085 | M12: =IF(L12="","",IF(AND(L12>=$D$5,$G12=""),"〇","")) -> 〇 | N12: =IF(M12="","",0.0775*L12+0.2546) -> 3.1571366 | O12: =IF(OR($D12<1,$D$3=""),"",HLOOKUP(入力シート!$K$11,計算シート!$AE$15:$CR$317,$B12+3)) -> 30.458771 | P12: =IF(O12="","",((L12^2)*PI()/40000)*O12*(((0.435719+0.515867/O12+2.481278/(O12^2))+(0.439004+0.916461/L12-0.073809/L12^2))/2)) -> 1.5414251 | Q12: =IF(M12="〇",P12,"") -> 1.5414251 | U12: =IF($T$11="","",HLOOKUP(T$11,計算シート!$AE$1235:$CR$1535,$B12+1)) -> 44.666542 | V12: =IF(U12="","",IF(AND(U12>=$M$5,$G12=""),"〇","")) -> 〇 | W12: =IF(V12="","",0.0775*U12+0.2546) -> 3.716257 | X12: =IF(OR($D12<1,$D$3=""),"",HLOOKUP(入力シート!$T$11,計算シート!$AE$15:$CR$317,$B12+3)) -> 31.830539 | Y12: =IF(X12="","",((U12^2)*PI()/40000)*X12*(((0.435719+0.515867/X12+2.481278/(X12^2))+(0.439004+0.916461/U12-0.073809/U12^2))/2)) -> 2.2790191 | Z12: =IF(V12="〇",Y12,"") -> 2.2790191 | AC12: 18-20未満 | AD12: 34 | AE12: 325-350
B13: 2 | C13: 19 | D13: 23.8 | E13: 22.7 | F13: 14.5 | H13: =IF(D13="","",((D13^2)*PI()/40000)*F13*(((0.435719+0.515867/F13+2.481278/(F13^2))+(0.439004+0.916461/D13-0.073809/D13^2))/2)) -> 0.30979132 | J13: =IF(OR(E13<1,$D$2=""),"",E13-F13) -> 8.2 | L13: =IF($K$11="","",HLOOKUP(K$11,計算シート!$AE$1235:$CR$1535,$B13+1)) -> 39.200729 | M13: =IF(L13="","",IF(AND(L13>=$D$5,$G13=""),"〇","")) -> 〇 | N13: =IF(M13="","",0.0775*L13+0.2546) -> 3.2926565 | O13: =IF(OR($D13<1,$D$3=""),"",HLOOKUP(入力シート!$K$11,計算シート!$AE$15:$CR$317,$B13+3)) -> 30.301095 | P13: =IF(O13="","",((L13^2)*PI()/40000)*O13*(((0.435719+0.515867/O13+2.481278/(O13^2))+(0.439004+0.916461/L13-0.073809/L13^2))/2)) -> 1.6782068 | Q13: =IF(M13="〇",P13,"") -> 1.6782068 | U13: =IF($T$11="","",HLOOKUP(T$11,計算シート!$AE$1235:$CR$1535,$B13+1)) -> 46.583829 | V13: =IF(U13="","",IF(AND(U13>=$M$5,$G13=""),"〇","")) -> 〇 | W13: =IF(V13="","",0.0775*U13+0.2546) -> 3.8648467 | X13: =IF(OR($D13<1,$D$3=""),"",HLOOKUP(入力シート!$T$11,計算シート!$AE$15:$CR$317,$B13+3)) -> 31.662532 | Y13: =IF(X13="","",((U13^2)*PI()/40000)*X13*(((0.435719+0.515867/X13+2.481278/(X13^2))+(0.439004+0.916461/U13-0.073809/U13^2))/2)) -> 2.4638175 | Z13: =IF(V13="〇",Y13,"") -> 2.4638175 | AC13: 20-22 〃 | AD13: 36 | AE13: 300-325
B14: 3 | C14: 15 | D14: 21.5 | E14: 22.7 | F14: 15 | G14: 1 | H14: =IF(D14="","",((D14^2)*PI()/40000)*F14*(((0.435719+0.515867/F14+2.481278/(F14^2))+(0.439004+0.916461/D14-0.073809/D14^2))/2)) -> 0.26210647 | J14: =IF(OR(E14<1,$D$2=""),"",E14-F14) -> 7.7 | L14: =IF($K$11="","",HLOOKUP(K$11,計算シート!$AE$1235:$CR$1535,$B14+1)) -> 36.310311 | M14: =IF(L14="","",IF(AND(L14>=$D$5,$G14=""),"〇","")) | N14: =IF(M14="","",0.0775*L14+0.2546) | O14: =IF(OR($D14<1,$D$3=""),"",HLOOKUP(入力シート!$K$11,計算シート!$AE$15:$CR$317,$B14+3)) -> 30.235399 | P14: =IF(O14="","",((L14^2)*PI()/40000)*O14*(((0.435719+0.515867/O14+2.481278/(O14^2))+(0.439004+0.916461/L14-0.073809/L14^2))/2)) -> 1.439705 | Q14: =IF(M14="〇",P14,"") | U14: =IF($T$11="","",HLOOKUP(T$11,計算シート!$AE$1235:$CR$1535,$B14+1)) -> 43.402131 | V14: =IF(U14="","",IF(AND(U14>=$M$5,$G14=""),"〇","")) | W14: =IF(V14="","",0.0775*U14+0.2546) | X14: =IF(OR($D14<1,$D$3=""),"",HLOOKUP(入力シート!$T$11,計算シート!$AE$15:$CR$317,$B14+3)) -> 31.585069 | Y14: =IF(X14="","",((U14^2)*PI()/40000)*X14*(((0.435719+0.515867/X14+2.481278/(X14^2))+(0.439004+0.916461/U14-0.073809/U14^2))/2)) -> 2.1369981 | Z14: =IF(V14="〇",Y14,"") | AC14: 22-24 〃 | AD14: 38 | AE14: 275-300
B15: 4 | C15: 16 | D15: 21.2 | E15: 22.5 | F15: 12.1 | H15: =IF(D15="","",((D15^2)*PI()/40000)*F15*(((0.435719+0.515867/F15+2.481278/(F15^2))+(0.439004+0.916461/D15-0.073809/D15^2))/2)) -> 0.20872555 | J15: =IF(OR(E15<1,$D$2=""),"",E15-F15) -> 10.4 | L15: =IF($K$11="","",HLOOKUP(K$11,計算シート!$AE$1235:$CR$1535,$B15+1)) -> 35.970601 | M15: =IF(L15="","",IF(AND(L15>=$D$5,$G15=""),"〇","")) -> 〇 | N15: =IF(M15="","",0.0775*L15+0.2546) -> 3.0423216 | O15: =IF(OR($D15<1,$D$3=""),"",HLOOKUP(入力シート!$K$11,計算シート!$AE$15:$CR$317,$B15+3)) -> 29.981787 | P15: =IF(O15="","",((L15^2)*PI()/40000)*O15*(((0.435719+0.515867/O15+2.481278/(O15^2))+(0.439004+0.916461/L15-0.073809/L15^2))/2)) -> 1.4016923 | Q15: =IF(M15="〇",P15,"") -> 1.4016923 | U15: =IF($T$11="","",HLOOKUP(T$11,計算シート!$AE$1235:$CR$1535,$B15+1)) -> 43.100875 | V15: =IF(U15="","",IF(AND(U15>=$M$5,$G15=""),"〇","")) -> 〇 | W15: =IF(V15="","",0.0775*U15+0.2546) -> 3.5949178 | X15: =IF(OR($D15<1,$D$3=""),"",HLOOKUP(入力シート!$T$11,計算シート!$AE$15:$CR$317,$B15+3)) -> 31.321854 | Y15: =IF(X15="","",((U15^2)*PI()/40000)*X15*(((0.435719+0.515867/X15+2.481278/(X15^2))+(0.439004+0.916461/U15-0.073809/U15^2))/2)) -> 2.0906183 | Z15: =IF(V15="〇",Y15,"") -> 2.0906183 | AC15: 24-26 〃 | AD15: 40 | AE15: 250-275
B16: 5 | C16: 10 | D16: 20.4 | E16: 22.1 | F16: 15.9 | H16: =IF(D16="","",((D16^2)*PI()/40000)*F16*(((0.435719+0.515867/F16+2.481278/(F16^2))+(0.439004+0.916461/D16-0.073809/D16^2))/2)) -> 0.24990231 | J16: =IF(OR(E16<1,$D$2=""),"",E16-F16) -> 6.2 | L16: =IF($K$11="","",HLOOKUP(K$11,計算シート!$AE$1235:$CR$1535,$B16+1)) -> 34.53483 | M16: =IF(L16="","",IF(AND(L16>=$D$5,$G16=""),"〇","")) -> 〇 | N16: =IF(M16="","",0.0775*L16+0.2546) -> 2.9310493 | O16: =IF(OR($D16<1,$D$3=""),"",HLOOKUP(入力シート!$K$11,計算シート!$AE$15:$CR$317,$B16+3)) -> 29.529661 | P16: =IF(O16="","",((L16^2)*PI()/40000)*O16*(((0.435719+0.515867/O16+2.481278/(O16^2))+(0.439004+0.916461/L16-0.073809/L16^2))/2)) -> 1.2744847 | Q16: =IF(M16="〇",P16,"") -> 1.2744847 | U16: =IF($T$11="","",HLOOKUP(T$11,計算シート!$AE$1235:$CR$1535,$B16+1)) -> 41.26513 | V16: =IF(U16="","",IF(AND(U16>=$M$5,$G16=""),"〇","")) | W16: =IF(V16="","",0.0775*U16+0.2546) | X16: =IF(OR($D16<1,$D$3=""),"",HLOOKUP(入力シート!$T$11,計算シート!$AE$15:$CR$317,$B16+3)) -> 30.860391 | Y16: =IF(X16="","",((U16^2)*PI()/40000)*X16*(((0.435719+0.515867/X16+2.481278/(X16^2))+(0.439004+0.916461/U16-0.073809/U16^2))/2)) -> 1.8907013 | Z16: =IF(V16="〇",Y16,"") | AC16: 26-28 〃 | AD16: 42 | AE16: 225-250
B17: 6 | C17: 21 | D17: 23 | E17: 21.9 | F17: 12.1 | H17: =IF(D17="","",((D17^2)*PI()/40000)*F17*(((0.435719+0.515867/F17+2.481278/(F17^2))+(0.439004+0.916461/D17-0.073809/D17^2))/2)) -> 0.24483001 | J17: =IF(OR(E17<1,$D$2=""),"",E17-F17) -> 9.8 | L17: =IF($K$11="","",HLOOKUP(K$11,計算シート!$AE$1235:$CR$1535,$B17+1)) -> 37.967936 | M17: =IF(L17="","",IF(AND(L17>=$D$5,$G17=""),"〇","")) -> 〇 | N17: =IF(M17="","",0.0775*L17+0.2546) -> 3.197115 | O17: =IF(OR($D17<1,$D$3=""),"",HLOOKUP(入力シート!$K$11,計算シート!$AE$15:$CR$317,$B17+3)) -> 29.281394 | P17: =IF(O17="","",((L17^2)*PI()/40000)*O17*(((0.435719+0.515867/O17+2.481278/(O17^2))+(0.439004+0.916461/L17-0.073809/L17^2))/2)) -> 1.5238872 | Q17: =IF(M17="〇",P17,"") -> 1.5238872 | U17: =IF($T$11="","",HLOOKUP(T$11,計算シート!$AE$1235:$CR$1535,$B17+1)) -> 45.189679 | V17: =IF(U17="","",IF(AND(U17>=$M$5,$G17=""),"〇","")) -> 〇 | W17: =IF(V17="","",0.0775*U17+0.2546) -> 3.7568001 | X17: =IF(OR($D17<1,$D$3=""),"",HLOOKUP(入力シート!$T$11,計算シート!$AE$15:$CR$317,$B17+3)) -> 30.60348 | Y17: =IF(X17="","",((U17^2)*PI()/40000)*X17*(((0.435719+0.515867/X17+2.481278/(X17^2))+(0.439004+0.916461/U17-0.073809/U17^2))/2)) -> 2.2442958 | Z17: =IF(V17="〇",Y17,"") -> 2.2442958 | AC17: 28-30 〃 | AD17: 44 | AE17: 200-225
B18: 7 | C18: 20 | D18: 20.5 | E18: 21.8 | F18: 14.6 | G18: 1 | H18: =IF(D18="","",((D18^2)*PI()/40000)*F18*(((0.435719+0.515867/F18+2.481278/(F18^2))+(0.439004+0.916461/D18-0.073809/D18^2))/2)) -> 0.23280883 | J18: =IF(OR(E18<1,$D$2=""),"",E18-F18) -> 7.2 | L18: =IF($K$11="","",HLOOKUP(K$11,計算シート!$AE$1235:$CR$1535,$B18+1)) -> 34.550731 | M18: =IF(L18="","",IF(AND(L18>=$D$5,$G18=""),"〇","")) | N18: =IF(M18="","",0.0775*L18+0.2546) | O18: =IF(OR($D18<1,$D$3=""),"",HLOOKUP(入力シート!$K$11,計算シート!$AE$15:$CR$317,$B18+3)) -> 29.12004 | P18: =IF(O18="","",((L18^2)*PI()/40000)*O18*(((0.435719+0.515867/O18+2.481278/(O18^2))+(0.439004+0.916461/L18-0.073809/L18^2))/2)) -> 1.2583922 | Q18: =IF(M18="〇",P18,"") | U18: =IF($T$11="","",HLOOKUP(T$11,計算シート!$AE$1235:$CR$1535,$B18+1)) -> 41.280707 | V18: =IF(U18="","",IF(AND(U18>=$M$5,$G18=""),"〇","")) | W18: =IF(V18="","",0.0775*U18+0.2546) | X18: =IF(OR($D18<1,$D$3=""),"",HLOOKUP(入力シート!$T$11,計算シート!$AE$15:$CR$317,$B18+3)) -> 30.431137 | Y18: =IF(X18="","",((U18^2)*PI()/40000)*X18*(((0.435719+0.515867/X18+2.481278/(X18^2))+(0.439004+0.916461/U18-0.073809/U18^2))/2)) -> 1.8664242 | Z18: =IF(V18="〇",Y18,"") | AC18: 30-32 〃 | AD18: 46 | AE18: 175-200
B19: 8 | C19: 4 | D19: 21.2 | E19: 21.6 | F19: 13.5 | H19: =IF(D19="","",((D19^2)*PI()/40000)*F19*(((0.435719+0.515867/F19+2.481278/(F19^2))+(0.439004+0.916461/D19-0.073809/D19^2))/2)) -> 0.23102808 | J19: =IF(OR(E19<1,$D$2=""),"",E19-F19) -> 8.1 | L19: =IF($K$11="","",HLOOKUP(K$11,計算シート!$AE$1235:$CR$1535,$B19+1)) -> 35.412623 | M19: =IF(L19="","",IF(AND(L19>=$D$5,$G19=""),"〇","")) -> 〇 | N19: =IF(M19="","",0.0775*L19+0.2546) -> 2.9990783 | O19: =IF(OR($D19<1,$D$3=""),"",HLOOKUP(入力シート!$K$11,計算シート!$AE$15:$CR$317,$B19+3)) -> 28.871299 | P19: =IF(O19="","",((L19^2)*PI()/40000)*O19*(((0.435719+0.515867/O19+2.481278/(O19^2))+(0.439004+0.916461/L19-0.073809/L19^2))/2)) -> 1.3100415 | Q19: =IF(M19="〇",P19,"") -> 1.3100415 | U19: =IF($T$11="","",HLOOKUP(T$11,計算シート!$AE$1235:$CR$1535,$B19+1)) -> 42.245366 | V19: =IF(U19="","",IF(AND(U19>=$M$5,$G19=""),"〇","")) -> 〇 | W19: =IF(V19="","",0.0775*U19+0.2546) -> 3.5286158 | X19: =IF(OR($D19<1,$D$3=""),"",HLOOKUP(入力シート!$T$11,計算シート!$AE$15:$CR$317,$B19+3)) -> 30.173666 | Y19: =IF(X19="","",((U19^2)*PI()/40000)*X19*(((0.435719+0.515867/X19+2.481278/(X19^2))+(0.439004+0.916461/U19-0.073809/U19^2))/2)) -> 1.9374707 | Z19: =IF(V19="〇",Y19,"") -> 1.9374707
B20: 9 | C20: 2 | D20: 20.6 | E20: 21.5 | F20: 14.9 | H20: =IF(D20="","",((D20^2)*PI()/40000)*F20*(((0.435719+0.515867/F20+2.481278/(F20^2))+(0.439004+0.916461/D20-0.073809/D20^2))/2)) -> 0.23957088 | J20: =IF(OR(E20<1,$D$2=""),"",E20-F20) -> 6.6 | L20: =IF($K$11="","",HLOOKUP(K$11,計算シート!$AE$1235:$CR$1535,$B20+1)) -> 34.493735 | M20: =IF(L20="","",IF(AND(L20>=$D$5,$G20=""),"〇","")) -> 〇 | N20: =IF(M20="","",0.0775*L20+0.2546) -> 2.9278644 | O20: =IF(OR($D20<1,$D$3=""),"",HLOOKUP(入力シート!$K$11,計算シート!$AE$15:$CR$317,$B20+3)) -> 28.719173 | P20: =IF(O20="","",((L20^2)*PI()/40000)*O20*(((0.435719+0.515867/O20+2.481278/(O20^2))+(0.439004+0.916461/L20-0.073809/L20^2))/2)) -> 1.2374786 | Q20: =IF(M20="〇",P20,"") -> 1.2374786 | U20: =IF($T$11="","",HLOOKUP(T$11,計算シート!$AE$1235:$CR$1535,$B20+1)) -> 41.138935 | V20: =IF(U20="","",IF(AND(U20>=$M$5,$G20=""),"〇","")) | W20: =IF(V20="","",0.0775*U20+0.2546) | X20: =IF(OR($D20<1,$D$3=""),"",HLOOKUP(入力シート!$T$11,計算シート!$AE$15:$CR$317,$B20+3)) -> 30.012203 | Y20: =IF(X20="","",((U20^2)*PI()/40000)*X20*(((0.435719+0.515867/X20+2.481278/(X20^2))+(0.439004+0.916461/U20-0.073809/U20^2))/2)) -> 1.8288824 | Z20: =IF(V20="〇",Y20,"")
B21: 10 | C21: 27 | D21: 22.5 | E21: 21.4 | F21: 13.5 | G21: 1 | H21: =IF(D21="","",((D21^2)*PI()/40000)*F21*(((0.435719+0.515867/F21+2.481278/(F21^2))+(0.439004+0.916461/D21-0.073809/D21^2))/2)) -> 0.25956503 | J21: =IF(OR(E21<1,$D$2=""),"",E21-F21) -> 7.9 | L21: =IF($K$11="","",HLOOKUP(K$11,計算シート!$AE$1235:$CR$1535,$B21+1)) -> 36.903371 | M21: =IF(L21="","",IF(AND(L21>=$D$5,$G21=""),"〇","")) | N21: =IF(M21="","",0.0775*L21+0.2546) | O21: =IF(OR($D21<1,$D$3=""),"",HLOOKUP(入力シート!$K$11,計算シート!$AE$15:$CR$317,$B21+3)) -> 28.569955 | P21: =IF(O21="","",((L21^2)*PI()/40000)*O21*(((0.435719+0.515867/O21+2.481278/(O21^2))+(0.439004+0.916461/L21-0.073809/L21^2))/2)) -> 1.4066046 | Q21: =IF(M21="〇",P21,"") | U21: =IF($T$11="","",HLOOKUP(T$11,計算シート!$AE$1235:$CR$1535,$B21+1)) -> 43.830281 | V21: =IF(U21="","",IF(AND(U21>=$M$5,$G21=""),"〇","")) | W21: =IF(V21="","",0.0775*U21+0.2546) | X21: =IF(OR($D21<1,$D$3=""),"",HLOOKUP(入力シート!$T$11,計算シート!$AE$15:$CR$317,$B21+3)) -> 29.85417 | Y21: =IF(X21="","",((U21^2)*PI()/40000)*X21*(((0.435719+0.515867/X21+2.481278/(X21^2))+(0.439004+0.916461/U21-0.073809/U21^2))/2)) -> 2.0622742 | Z21: =IF(V21="〇",Y21,"")
B22: 11 | C22: 31 | D22: 21.5 | E22: 21.2 | F22: 13.1 | H22: =IF(D22="","",((D22^2)*PI()/40000)*F22*(((0.435719+0.515867/F22+2.481278/(F22^2))+(0.439004+0.916461/D22-0.073809/D22^2))/2)) -> 0.23090832 | J22: =IF(OR(E22<1,$D$2=""),"",E22-F22) -> 8.1 | L22: =IF($K$11="","",HLOOKUP(K$11,計算シート!$AE$1235:$CR$1535,$B22+1)) -> 35.559392 | M22: =IF(L22="","",IF(AND(L22>=$D$5,$G22=""),"〇","")) -> 〇 | N22: =IF(M22="","",0.0775*L22+0.2546) -> 3.0104529 | O22: =IF(OR($D22<1,$D$3=""),"",HLOOKUP(入力シート!$K$11,計算シート!$AE$15:$CR$317,$B22+3)) -> 28.31124 | P22: =IF(O22="","",((L22^2)*PI()/40000)*O22*(((0.435719+0.515867/O22+2.481278/(O22^2))+(0.439004+0.916461/L22-0.073809/L22^2))/2)) -> 1.2958137 | Q22: =IF(M22="〇",P22,"") -> 1.2958137 | U22: =IF($T$11="","",HLOOKUP(T$11,計算シート!$AE$1235:$CR$1535,$B22+1)) -> 42.328965 | V22: =IF(U22="","",IF(AND(U22>=$M$5,$G22=""),"〇","")) -> 〇 | W22: =IF(V22="","",0.0775*U22+0.2546) -> 3.5350948 | X22: =IF(OR($D22<1,$D$3=""),"",HLOOKUP(入力シート!$T$11,計算シート!$AE$15:$CR$317,$B22+3)) -> 29.584938 | Y22: =IF(X22="","",((U22^2)*PI()/40000)*X22*(((0.435719+0.515867/X22+2.481278/(X22^2))+(0.439004+0.916461/U22-0.073809/U22^2))/2)) -> 1.9080414 | Z22: =IF(V22="〇",Y22,"") -> 1.9080414
B23: 12 | C23: 3 | D23: 19 | E23: 20.9 | F23: 13.5 | H23: =IF(D23="","",((D23^2)*PI()/40000)*F23*(((0.435719+0.515867/F23+2.481278/(F23^2))+(0.439004+0.916461/D23-0.073809/D23^2))/2)) -> 0.18651705 | J23: =IF(OR(E23<1,$D$2=""),"",E23-F23) -> 7.4 | L23: =IF($K$11="","",HLOOKUP(K$11,計算シート!$AE$1235:$CR$1535,$B23+1)) -> 32.065534 | M23: =IF(L23="","",IF(AND(L23>=$D$5,$G23=""),"〇","")) | N23: =IF(M23="","",0.0775*L23+0.2546) | O23: =IF(OR($D23<1,$D$3=""),"",HLOOKUP(入力シート!$K$11,計算シート!$AE$15:$CR$317,$B23+3)) -> 27.957628 | P23: =IF(O23="","",((L23^2)*PI()/40000)*O23*(((0.435719+0.515867/O23+2.481278/(O23^2))+(0.439004+0.916461/L23-0.073809/L23^2))/2)) -> 1.0440285 | Q23: =IF(M23="〇",P23,"") | U23: =IF($T$11="","",HLOOKUP(T$11,計算シート!$AE$1235:$CR$1535,$B23+1)) -> 38.345792 | V23: =IF(U23="","",IF(AND(U23>=$M$5,$G23=""),"〇","")) | W23: =IF(V23="","",0.0775*U23+0.2546) | X23: =IF(OR($D23<1,$D$3=""),"",HLOOKUP(入力シート!$T$11,計算シート!$AE$15:$CR$317,$B23+3)) -> 29.221723 | Y23: =IF(X23="","",((U23^2)*PI()/40000)*X23*(((0.435719+0.515867/X23+2.481278/(X23^2))+(0.439004+0.916461/U23-0.073809/U23^2))/2)) -> 1.550883 | Z23: =IF(V23="〇",Y23,"")
B24: 13 | C24: 28 | D24: 18.3 | E24: 20.7 | F24: 14.4 | H24: =IF(D24="","",((D24^2)*PI()/40000)*F24*(((0.435719+0.515867/F24+2.481278/(F24^2))+(0.439004+0.916461/D24-0.073809/D24^2))/2)) -> 0.18414387 | J24: =IF(OR(E24<1,$D$2=""),"",E24-F24) -> 6.3 | L24: =IF($K$11="","",HLOOKUP(K$11,計算シート!$AE$1235:$CR$1535,$B24+1)) -> 30.968625 | M24: =IF(L24="","",IF(AND(L24>=$D$5,$G24=""),"〇","")) | N24: =IF(M24="","",0.0775*L24+0.2546) | O24: =IF(OR($D24<1,$D$3=""),"",HLOOKUP(入力シート!$K$11,計算シート!$AE$15:$CR$317,$B24+3)) -> 27.715759 | P24: =IF(O24="","",((L24^2)*PI()/40000)*O24*(((0.435719+0.515867/O24+2.481278/(O24^2))+(0.439004+0.916461/L24-0.073809/L24^2))/2)) -> 0.96667397 | Q24: =IF(M24="〇",P24,"") | U24: =IF($T$11="","",HLOOKUP(T$11,計算シート!$AE$1235:$CR$1535,$B24+1)) -> 37.034156 | V24: =IF(U24="","",IF(AND(U24>=$M$5,$G24=""),"〇","")) | W24: =IF(V24="","",0.0775*U24+0.2546) | X24: =IF(OR($D24<1,$D$3=""),"",HLOOKUP(入力シート!$T$11,計算シート!$AE$15:$CR$317,$B24+3)) -> 28.972355 | Y24: =IF(X24="","",((U24^2)*PI()/40000)*X24*(((0.435719+0.515867/X24+2.481278/(X24^2))+(0.439004+0.916461/U24-0.073809/U24^2))/2)) -> 1.4358861 | Z24: =IF(V24="〇",Y24,"")
B25: 14 | C25: 37 | D25: 19.3 | E25: 20.6 | F25: 13.8 | H25: =IF(D25="","",((D25^2)*PI()/40000)*F25*(((0.435719+0.515867/F25+2.481278/(F25^2))+(0.439004+0.916461/D25-0.073809/D25^2))/2)) -> 0.19629435 | J25: =IF(OR(E25<1,$D$2=""),"",E25-F25) -> 6.8 | L25: =IF($K$11="","",HLOOKUP(K$11,計算シート!$AE$1235:$CR$1535,$B25+1)) -> 32.325328 | M25: =IF(L25="","",IF(AND(L25>=$D$5,$G25=""),"〇","")) | N25: =IF(M25="","",0.0775*L25+0.2546) | O25: =IF(OR($D25<1,$D$3=""),"",HLOOKUP(入力シート!$K$11,計算シート!$AE$15:$CR$317,$B25+3)) -> 27.576918 | P25: =IF(O25="","",((L25^2)*PI()/40000)*O25*(((0.435719+0.515867/O25+2.481278/(O25^2))+(0.439004+0.916461/L25-0.073809/L25^2))/2)) -> 1.0466957 | Q25: =IF(M25="〇",P25,"") | U25: =IF($T$11="","",HLOOKUP(T$11,計算シート!$AE$1235:$CR$1535,$B25+1)) -> 38.577878 | V25: =IF(U25="","",IF(AND(U25>=$M$5,$G25=""),"〇","")) | W25: =IF(V25="","",0.0775*U25+0.2546) | X25: =IF(OR($D25<1,$D$3=""),"",HLOOKUP(入力シート!$T$11,計算シート!$AE$15:$CR$317,$B25+3)) -> 28.826557 | Y25: =IF(X25="","",((U25^2)*PI()/40000)*X25*(((0.435719+0.515867/X25+2.481278/(X25^2))+(0.439004+0.916461/U25-0.073809/U25^2))/2)) -> 1.5487875 | Z25: =IF(V25="〇",Y25,"")
B26: 15 | C26: 12 | D26: 20.2 | E26: 20.4 | F26: 12.5 | H26: =IF(D26="","",((D26^2)*PI()/40000)*F26*(((0.435719+0.515867/F26+2.481278/(F26^2))+(0.439004+0.916461/D26-0.073809/D26^2))/2)) -> 0.19570157 | J26: =IF(OR(E26<1,$D$2=""),"",E26-F26) -> 7.9 | L26: =IF($K$11="","",HLOOKUP(K$11,計算シート!$AE$1235:$CR$1535,$B26+1)) -> 33.430401 | M26: =IF(L26="","",IF(AND(L26>=$D$5,$G26=""),"〇","")) | N26: =IF(M26="","",0.0775*L26+0.2546) | O26: =IF(OR($D26<1,$D$3=""),"",HLOOKUP(入力シート!$K$11,計算シート!$AE$15:$CR$317,$B26+3)) -> 27.333716 | P26: =IF(O26="","",((L26^2)*PI()/40000)*O26*(((0.435719+0.515867/O26+2.481278/(O26^2))+(0.439004+0.916461/L26-0.073809/L26^2))/2)) -> 1.1087617 | Q26: =IF(M26="〇",P26,"") | U26: =IF($T$11="","",HLOOKUP(T$11,計算シート!$AE$1235:$CR$1535,$B26+1)) -> 39.808211 | V26: =IF(U26="","",IF(AND(U26>=$M$5,$G26=""),"〇","")) | W26: =IF(V26="","",0.0775*U26+0.2546) | X26: =IF(OR($D26<1,$D$3=""),"",HLOOKUP(入力シート!$T$11,計算シート!$AE$15:$CR$317,$B26+3)) -> 28.575618 | Y26: =IF(X26="","",((U26^2)*PI()/40000)*X26*(((0.435719+0.515867/X26+2.481278/(X26^2))+(0.439004+0.916461/U26-0.073809/U26^2))/2)) -> 1.633868 | Z26: =IF(V26="〇",Y26,"")
B27: 16 | C27: 9 | D27: 19 | E27: 20.4 | F27: 12.8 | H27: =IF(D27="","",((D27^2)*PI()/40000)*F27*(((0.435719+0.515867/F27+2.481278/(F27^2))+(0.439004+0.916461/D27-0.073809/D27^2))/2)) -> 0.17750259 | J27: =IF(OR(E27<1,$D$2=""),"",E27-F27) -> 7.6 | L27: =IF($K$11="","",HLOOKUP(K$11,計算シート!$AE$1235:$CR$1535,$B27+1)) -> 31.78168 | M27: =IF(L27="","",IF(AND(L27>=$D$5,$G27=""),"〇","")) | N27: =IF(M27="","",0.0775*L27+0.2546) | O27: =IF(OR($D27<1,$D$3=""),"",HLOOKUP(入力シート!$K$11,計算シート!$AE$15:$CR$317,$B27+3)) -> 27.286391 | P27: =IF(O27="","",((L27^2)*PI()/40000)*O27*(((0.435719+0.515867/O27+2.481278/(O27^2))+(0.439004+0.916461/L27-0.073809/L27^2))/2)) -> 1.0019392 | Q27: =IF(M27="〇",P27,"") | U27: =IF($T$11="","",HLOOKUP(T$11,計算シート!$AE$1235:$CR$1535,$B27+1)) -> 37.940585 | V27: =IF(U27="","",IF(AND(U27>=$M$5,$G27=""),"〇","")) | W27: =IF(V27="","",0.0775*U27+0.2546) | X27: =IF(OR($D27<1,$D$3=""),"",HLOOKUP(入力シート!$T$11,計算シート!$AE$15:$CR$317,$B27+3)) -> 28.519817 | Y27: =IF(X27="","",((U27^2)*PI()/40000)*X27*(((0.435719+0.515867/X27+2.481278/(X27^2))+(0.439004+0.916461/U27-0.073809/U27^2))/2)) -> 1.4831538 | Z27: =IF(V27="〇",Y27,"")
B28: 17 | C28: 13 | D28: 20.3 | E28: 20.3 | F28: 13.1 | H28: =IF(D28="","",((D28^2)*PI()/40000)*F28*(((0.435719+0.515867/F28+2.481278/(F28^2))+(0.439004+0.916461/D28-0.073809/D28^2))/2)) -> 0.20638189 | J28: =IF(OR(E28<1,$D$2=""),"",E28-F28) -> 7.2 | L28: =IF($K$11="","",HLOOKUP(K$11,計算シート!$AE$1235:$CR$1535,$B28+1)) -> 33.402454 | M28: =IF(L28="","",IF(AND(L28>=$D$5,$G28=""),"〇","")) | N28: =IF(M28="","",0.0775*L28+0.2546) | O28: =IF(OR($D28<1,$D$3=""),"",HLOOKUP(入力シート!$K$11,計算シート!$AE$15:$CR$317,$B28+3)) -> 27.144522 | P28: =IF(O28="","",((L28^2)*PI()/40000)*O28*(((0.435719+0.515867/O28+2.481278/(O28^2))+(0.439004+0.916461/L28-0.073809/L28^2))/2)) -> 1.0994859 | Q28: =IF(M28="〇",P28,"") | U28: =IF($T$11="","",HLOOKUP(T$11,計算シート!$AE$1235:$CR$1535,$B28+1)) -> 39.710575 | V28: =IF(U28="","",IF(AND(U28>=$M$5,$G28=""),"〇","")) | W28: =IF(V28="","",0.0775*U28+0.2546) | X28: =IF(OR($D28<1,$D$3=""),"",HLOOKUP(入力シート!$T$11,計算シート!$AE$15:$CR$317,$B28+3)) -> 28.370448 | Y28: =IF(X28="","",((U28^2)*PI()/40000)*X28*(((0.435719+0.515867/X28+2.481278/(X28^2))+(0.439004+0.916461/U28-0.073809/U28^2))/2)) -> 1.6145956 | Z28: =IF(V28="〇",Y28,"")
B29: 18 | C29: 36 | D29: 22 | E29: 20 | F29: 13.6 | H29: =IF(D29="","",((D29^2)*PI()/40000)*F29*(((0.435719+0.515867/F29+2.481278/(F29^2))+(0.439004+0.916461/D29-0.073809/D29^2))/2)) -> 0.25010855 | J29: =IF(OR(E29<1,$D$2=""),"",E29-F29) -> 6.4 | L29: =IF($K$11="","",HLOOKUP(K$11,計算シート!$AE$1235:$CR$1535,$B29+1)) -> 35.498592 | M29: =IF(L29="","",IF(AND(L29>=$D$5,$G29=""),"〇","")) -> 〇 | N29: =IF(M29="","",0.0775*L29+0.2546) -> 3.0057409 | O29: =IF(OR($D29<1,$D$3=""),"",HLOOKUP(入力シート!$K$11,計算シート!$AE$15:$CR$317,$B29+3)) -> 26.796728 | P29: =IF(O29="","",((L29^2)*PI()/40000)*O29*(((0.435719+0.515867/O29+2.481278/(O29^2))+(0.439004+0.916461/L29-0.073809/L29^2))/2)) -> 1.2242046 | Q29: =IF(M29="〇",P29,"") -> 1.2242046 | U29: =IF($T$11="","",HLOOKUP(T$11,計算シート!$AE$1235:$CR$1535,$B29+1)) -> 41.981602 | V29: =IF(U29="","",IF(AND(U29>=$M$5,$G29=""),"〇","")) | W29: =IF(V29="","",0.0775*U29+0.2546) | X29: =IF(OR($D29<1,$D$3=""),"",HLOOKUP(入力シート!$T$11,計算シート!$AE$15:$CR$317,$B29+3)) -> 28.014093 | Y29: =IF(X29="","",((U29^2)*PI()/40000)*X29*(((0.435719+0.515867/X29+2.481278/(X29^2))+(0.439004+0.916461/U29-0.073809/U29^2))/2)) -> 1.7800759 | Z29: =IF(V29="〇",Y29,"")
B30: 19 | C30: 5 | D30: 18.3 | E30: 20 | F30: 11.7 | H30: =IF(D30="","",((D30^2)*PI()/40000)*F30*(((0.435719+0.515867/F30+2.481278/(F30^2))+(0.439004+0.916461/D30-0.073809/D30^2))/2)) -> 0.15183676 | J30: =IF(OR(E30<1,$D$2=""),"",E30-F30) -> 8.3 | L30: =IF($K$11="","",HLOOKUP(K$11,計算シート!$AE$1235:$CR$1535,$B30+1)) -> 30.668279 | M30: =IF(L30="","",IF(AND(L30>=$D$5,$G30=""),"〇","")) | N30: =IF(M30="","",0.0775*L30+0.2546) | O30: =IF(OR($D30<1,$D$3=""),"",HLOOKUP(入力シート!$K$11,計算シート!$AE$15:$CR$317,$B30+3)) -> 26.740593 | P30: =IF(O30="","",((L30^2)*PI()/40000)*O30*(((0.435719+0.515867/O30+2.481278/(O30^2))+(0.439004+0.916461/L30-0.073809/L30^2))/2)) -> 0.91585112 | Q30: =IF(M30="〇",P30,"") | U30: =IF($T$11="","",HLOOKUP(T$11,計算シート!$AE$1235:$CR$1535,$B30+1)) -> 36.648274 | V30: =IF(U30="","",IF(AND(U30>=$M$5,$G30=""),"〇","")) | W30: =IF(V30="","",0.0775*U30+0.2546) | X30: =IF(OR($D30<1,$D$3=""),"",HLOOKUP(入力シート!$T$11,計算シート!$AE$15:$CR$317,$B30+3)) -> 27.947904 | Y30: =IF(X30="","",((U30^2)*PI()/40000)*X30*(((0.435719+0.515867/X30+2.481278/(X30^2))+(0.439004+0.916461/U30-0.073809/U30^2))/2)) -> 1.3580692 | Z30: =IF(V30="〇",Y30,"")
B31: 20 | C31: 7 | D31: 14.8 | E31: 20 | F31: 13 | H31: =IF(D31="","",((D31^2)*PI()/40000)*F31*(((0.435719+0.515867/F31+2.481278/(F31^2))+(0.439004+0.916461/D31-0.073809/D31^2))/2)) -> 0.11077892 | J31: =IF(OR(E31<1,$D$2=""),"",E31-F31) -> 7 | L31: =IF($K$11="","",HLOOKUP(K$11,計算シート!$AE$1235:$CR$1535,$B31+1)) -> 26.530581 | M31: =IF(L31="","",IF(AND(L31>=$D$5,$G31=""),"〇","")) | N31: =IF(M31="","",0.0775*L31+0.2546) | O31: =IF(OR($D31<1,$D$3=""),"",HLOOKUP(入力シート!$K$11,計算シート!$AE$15:$CR$317,$B31+3)) -> 26.701752 | P31: =IF(O31="","",((L31^2)*PI()/40000)*O31*(((0.435719+0.515867/O31+2.481278/(O31^2))+(0.439004+0.916461/L31-0.073809/L31^2))/2)) -> 0.68784585 | Q31: =IF(M31="〇",P31,"") | U31: =IF($T$11="","",HLOOKUP(T$11,計算シート!$AE$1235:$CR$1535,$B31+1)) -> 32.18338 | V31: =IF(U31="","",IF(AND(U31>=$M$5,$G31=""),"〇","")) | W31: =IF(V31="","",0.0775*U31+0.2546) | X31: =IF(OR($D31<1,$D$3=""),"",HLOOKUP(入力シート!$T$11,計算シート!$AE$15:$CR$317,$B31+3)) -> 27.902107 | Y31: =IF(X31="","",((U31^2)*PI()/40000)*X31*(((0.435719+0.515867/X31+2.481278/(X31^2))+(0.439004+0.916461/U31-0.073809/U31^2))/2)) -> 1.0495658 | Z31: =IF(V31="〇",Y31,"")
B32: 21 | C32: 14 | D32: 18 | E32: 19.9 | F32: 12.6 | H32: =IF(D32="","",((D32^2)*PI()/40000)*F32*(((0.435719+0.515867/F32+2.481278/(F32^2))+(0.439004+0.916461/D32-0.073809/D32^2))/2)) -> 0.15742669 | J32: =IF(OR(E32<1,$D$2=""),"",E32-F32) -> 7.3 | L32: =IF($K$11="","",HLOOKUP(K$11,計算シート!$AE$1235:$CR$1535,$B32+1)) -> 30.016148 | M32: =IF(L32="","",IF(AND(L32>=$D$5,$G32=""),"〇","")) | N32: =IF(M32="","",0.0775*L32+0.2546) | O32: =IF(OR($D32<1,$D$3=""),"",HLOOKUP(入力シート!$K$11,計算シート!$AE$15:$CR$317,$B32+3)) -> 26.576347 | P32: =IF(O32="","",((L32^2)*PI()/40000)*O32*(((0.435719+0.515867/O32+2.481278/(O32^2))+(0.439004+0.916461/L32-0.073809/L32^2))/2)) -> 0.87268709 | Q32: =IF(M32="〇",P32,"") | U32: =IF($T$11="","",HLOOKUP(T$11,計算シート!$AE$1235:$CR$1535,$B32+1)) -> 35.813767 | V32: =IF(U32="","",IF(AND(U32>=$M$5,$G32=""),"〇","")) | W32: =IF(V32="","",0.0775*U32+0.2546) | X32: =IF(OR($D32<1,$D$3=""),"",HLOOKUP(入力シート!$T$11,計算シート!$AE$15:$CR$317,$B32+3)) -> 27.772152 | Y32: =IF(X32="","",((U32^2)*PI()/40000)*X32*(((0.435719+0.515867/X32+2.481278/(X32^2))+(0.439004+0.916461/U32-0.073809/U32^2))/2)) -> 1.2898004 | Z32: =IF(V32="〇",Y32,"")
B33: 22 | C33: 26 | D33: 18.5 | E33: 19.8 | F33: 14.8 | H33: =IF(D33="","",((D33^2)*PI()/40000)*F33*(((0.435719+0.515867/F33+2.481278/(F33^2))+(0.439004+0.916461/D33-0.073809/D33^2))/2)) -> 0.19299212 | J33: =IF(OR(E33<1,$D$2=""),"",E33-F33) -> 5 | L33: =IF($K$11="","",HLOOKUP(K$11,計算シート!$AE$1235:$CR$1535,$B33+1)) -> 30.548299 | M33: =IF(L33="","",IF(AND(L33>=$D$5,$G33=""),"〇","")) | N33: =IF(M33="","",0.0775*L33+0.2546) | O33: =IF(OR($D33<1,$D$3=""),"",HLOOKUP(入力シート!$K$11,計算シート!$AE$15:$CR$317,$B33+3)) -> 26.43877 | P33: =IF(O33="","",((L33^2)*PI()/40000)*O33*(((0.435719+0.515867/O33+2.481278/(O33^2))+(0.439004+0.916461/L33-0.073809/L33^2))/2)) -> 0.89884631 | Q33: =IF(M33="〇",P33,"") | U33: =IF($T$11="","",HLOOKUP(T$11,計算シート!$AE$1235:$CR$1535,$B33+1)) -> 36.306509 | V33: =IF(U33="","",IF(AND(U33>=$M$5,$G33=""),"〇","")) | W33: =IF(V33="","",0.0775*U33+0.2546) | X33: =IF(OR($D33<1,$D$3=""),"",HLOOKUP(入力シート!$T$11,計算シート!$AE$15:$CR$317,$B33+3)) -> 27.627844 | Y33: =IF(X33="","",((U33^2)*PI()/40000)*X33*(((0.435719+0.515867/X33+2.481278/(X33^2))+(0.439004+0.916461/U33-0.073809/U33^2))/2)) -> 1.3183407 | Z33: =IF(V33="〇",Y33,"")
... B48: 37 | C48: 11 | D48: 15.5 | E48: 17.4 | F48: 11.7 | H48: =IF(D48="","",((D48^2)*PI()/40000)*F48*(((0.435719+0.515867/F48+2.481278/(F48^2))+(0.439004+0.916461/D48-0.073809/D48^2))/2)) -> 0.10991669 | J48: =IF(OR(E48<1,$D$2=""),"",E48-F48) -> 5.7 | L48: =IF($K$11="","",HLOOKUP(K$11,計算シート!$AE$1235:$CR$1535,$B48+1)) -> 26.247776 | M48: =IF(L48="","",IF(AND(L48>=$D$5,$G48=""),"〇","")) | N48: =IF(M48="","",0.0775*L48+0.2546) | O48: =IF(OR($D48<1,$D$3=""),"",HLOOKUP(入力シート!$K$11,計算シート!$AE$15:$CR$317,$B48+3)) -> 23.460951 | P48: =IF(O48="","",((L48^2)*PI()/40000)*O48*(((0.435719+0.515867/O48+2.481278/(O48^2))+(0.439004+0.916461/L48-0.073809/L48^2))/2)) -> 0.59412706 | Q48: =IF(M48="〇",P48,"") | U48: =IF($T$11="","",HLOOKUP(T$11,計算シート!$AE$1235:$CR$1535,$B48+1)) -> 31.445414 | V48: =IF(U48="","",IF(AND(U48>=$M$5,$G48=""),"〇","")) | W48: =IF(V48="","",0.0775*U48+0.2546) | X48: =IF(OR($D48<1,$D$3=""),"",HLOOKUP(入力シート!$T$11,計算シート!$AE$15:$CR$317,$B48+3)) -> 24.546531 | Y48: =IF(X48="","",((U48^2)*PI()/40000)*X48*(((0.435719+0.515867/X48+2.481278/(X48^2))+(0.439004+0.916461/U48-0.073809/U48^2))/2)) -> 0.88541353 | Z48: =IF(V48="〇",Y48,"")
B49: 38 | H49: =IF(D49="","",((D49^2)*PI()/40000)*F49*(((0.435719+0.515867/F49+2.481278/(F49^2))+(0.439004+0.916461/D49-0.073809/D49^2))/2)) | J49: =IF(OR(E49<1,$D$2=""),"",E49-F49) | L49: =IF($K$11="","",HLOOKUP(K$11,計算シート!$AE$1235:$CR$1535,$B49+1)) | M49: =IF(L49="","",IF(AND(L49>=$D$5,$G49=""),"〇","")) | N49: =IF(M49="","",0.0775*L49+0.2546) | O49: =IF(OR($D49<1,$D$3=""),"",HLOOKUP(入力シート!$K$11,計算シート!$AE$15:$CR$317,$B49+3)) | P49: =IF(O49="","",((L49^2)*PI()/40000)*O49*(((0.435719+0.515867/O49+2.481278/(O49^2))+(0.439004+0.916461/L49-0.073809/L49^2))/2)) | Q49: =IF(M49="〇",P49,"") | U49: =IF($T$11="","",HLOOKUP(T$11,計算シート!$AE$1235:$CR$1535,$B49+1)) | V49: =IF(U49="","",IF(AND(U49>=$M$5,$G49=""),"〇","")) | W49: =IF(V49="","",0.0775*U49+0.2546) | X49: =IF(OR($D49<1,$D$3=""),"",HLOOKUP(入力シート!$T$11,計算シート!$AE$15:$CR$317,$B49+3)) | Y49: =IF(X49="","",((U49^2)*PI()/40000)*X49*(((0.435719+0.515867/X49+2.481278/(X49^2))+(0.439004+0.916461/U49-0.073809/U49^2))/2)) | Z49: =IF(V49="〇",Y49,"")
B50: 39 | H50: =IF(D50="","",((D50^2)*PI()/40000)*F50*(((0.435719+0.515867/F50+2.481278/(F50^2))+(0.439004+0.916461/D50-0.073809/D50^2))/2)) | J50: =IF(OR(E50<1,$D$2=""),"",E50-F50) | L50: =IF($K$11="","",HLOOKUP(K$11,計算シート!$AE$1235:$CR$1535,$B50+1)) | M50: =IF(L50="","",IF(AND(L50>=$D$5,$G50=""),"〇","")) | N50: =IF(M50="","",0.0775*L50+0.2546) | O50: =IF(OR($D50<1,$D$3=""),"",HLOOKUP(入力シート!$K$11,計算シート!$AE$15:$CR$317,$B50+3)) | P50: =IF(O50="","",((L50^2)*PI()/40000)*O50*(((0.435719+0.515867/O50+2.481278/(O50^2))+(0.439004+0.916461/L50-0.073809/L50^2))/2)) | Q50: =IF(M50="〇",P50,"") | U50: =IF($T$11="","",HLOOKUP(T$11,計算シート!$AE$1235:$CR$1535,$B50+1)) | V50: =IF(U50="","",IF(AND(U50>=$M$5,$G50=""),"〇","")) | W50: =IF(V50="","",0.0775*U50+0.2546) | X50: =IF(OR($D50<1,$D$3=""),"",HLOOKUP(入力シート!$T$11,計算シート!$AE$15:$CR$317,$B50+3)) | Y50: =IF(X50="","",((U50^2)*PI()/40000)*X50*(((0.435719+0.515867/X50+2.481278/(X50^2))+(0.439004+0.916461/U50-0.073809/U50^2))/2)) | Z50: =IF(V50="〇",Y50,"")
B51: 40 | H51: =IF(D51="","",((D51^2)*PI()/40000)*F51*(((0.435719+0.515867/F51+2.481278/(F51^2))+(0.439004+0.916461/D51-0.073809/D51^2))/2)) | J51: =IF(OR(E51<1,$D$2=""),"",E51-F51) | L51: =IF($K$11="","",HLOOKUP(K$11,計算シート!$AE$1235:$CR$1535,$B51+1)) | M51: =IF(L51="","",IF(AND(L51>=$D$5,$G51=""),"〇","")) | N51: =IF(M51="","",0.0775*L51+0.2546) | O51: =IF(OR($D51<1,$D$3=""),"",HLOOKUP(入力シート!$K$11,計算シート!$AE$15:$CR$317,$B51+3)) | P51: =IF(O51="","",((L51^2)*PI()/40000)*O51*(((0.435719+0.515867/O51+2.481278/(O51^2))+(0.439004+0.916461/L51-0.073809/L51^2))/2)) | Q51: =IF(M51="〇",P51,"") | U51: =IF($T$11="","",HLOOKUP(T$11,計算シート!$AE$1235:$CR$1535,$B51+1)) | V51: =IF(U51="","",IF(AND(U51>=$M$5,$G51=""),"〇","")) | W51: =IF(V51="","",0.0775*U51+0.2546) | X51: =IF(OR($D51<1,$D$3=""),"",HLOOKUP(入力シート!$T$11,計算シート!$AE$15:$CR$317,$B51+3)) | Y51: =IF(X51="","",((U51^2)*PI()/40000)*X51*(((0.435719+0.515867/X51+2.481278/(X51^2))+(0.439004+0.916461/U51-0.073809/U51^2))/2)) | Z51: =IF(V51="〇",Y51,"")
B52: 41 | H52: =IF(D52="","",((D52^2)*PI()/40000)*F52*(((0.435719+0.515867/F52+2.481278/(F52^2))+(0.439004+0.916461/D52-0.073809/D52^2))/2)) | J52: =IF(OR(E52<1,$D$2=""),"",E52-F52) | L52: =IF($K$11="","",HLOOKUP(K$11,計算シート!$AE$1235:$CR$1535,$B52+1)) | M52: =IF(L52="","",IF(AND(L52>=$D$5,$G52=""),"〇","")) | N52: =IF(M52="","",0.0775*L52+0.2546) | O52: =IF(OR($D52<1,$D$3=""),"",HLOOKUP(入力シート!$K$11,計算シート!$AE$15:$CR$317,$B52+3)) | P52: =IF(O52="","",((L52^2)*PI()/40000)*O52*(((0.435719+0.515867/O52+2.481278/(O52^2))+(0.439004+0.916461/L52-0.073809/L52^2))/2)) | Q52: =IF(M52="〇",P52,"") | U52: =IF($T$11="","",HLOOKUP(T$11,計算シート!$AE$1235:$CR$1535,$B52+1)) | V52: =IF(U52="","",IF(AND(U52>=$M$5,$G52=""),"〇","")) | W52: =IF(V52="","",0.0775*U52+0.2546) | X52: =IF(OR($D52<1,$D$3=""),"",HLOOKUP(入力シート!$T$11,計算シート!$AE$15:$CR$317,$B52+3)) | Y52: =IF(X52="","",((U52^2)*PI()/40000)*X52*(((0.435719+0.515867/X52+2.481278/(X52^2))+(0.439004+0.916461/U52-0.073809/U52^2))/2)) | Z52: =IF(V52="〇",Y52,"")
B53: 42 | H53: =IF(D53="","",((D53^2)*PI()/40000)*F53*(((0.435719+0.515867/F53+2.481278/(F53^2))+(0.439004+0.916461/D53-0.073809/D53^2))/2)) | J53: =IF(OR(E53<1,$D$2=""),"",E53-F53) | L53: =IF($K$11="","",HLOOKUP(K$11,計算シート!$AE$1235:$CR$1535,$B53+1)) | M53: =IF(L53="","",IF(AND(L53>=$D$5,$G53=""),"〇","")) | N53: =IF(M53="","",0.0775*L53+0.2546) | O53: =IF(OR($D53<1,$D$3=""),"",HLOOKUP(入力シート!$K$11,計算シート!$AE$15:$CR$317,$B53+3)) | P53: =IF(O53="","",((L53^2)*PI()/40000)*O53*(((0.435719+0.515867/O53+2.481278/(O53^2))+(0.439004+0.916461/L53-0.073809/L53^2))/2)) | Q53: =IF(M53="〇",P53,"") | U53: =IF($T$11="","",HLOOKUP(T$11,計算シート!$AE$1235:$CR$1535,$B53+1)) | V53: =IF(U53="","",IF(AND(U53>=$M$5,$G53=""),"〇","")) | W53: =IF(V53="","",0.0775*U53+0.2546) | X53: =IF(OR($D53<1,$D$3=""),"",HLOOKUP(入力シート!$T$11,計算シート!$AE$15:$CR$317,$B53+3)) | Y53: =IF(X53="","",((U53^2)*PI()/40000)*X53*(((0.435719+0.515867/X53+2.481278/(X53^2))+(0.439004+0.916461/U53-0.073809/U53^2))/2)) | Z53: =IF(V53="〇",Y53,"")
B54: 43 | H54: =IF(D54="","",((D54^2)*PI()/40000)*F54*(((0.435719+0.515867/F54+2.481278/(F54^2))+(0.439004+0.916461/D54-0.073809/D54^2))/2)) | J54: =IF(OR(E54<1,$D$2=""),"",E54-F54) | L54: =IF($K$11="","",HLOOKUP(K$11,計算シート!$AE$1235:$CR$1535,$B54+1)) | M54: =IF(L54="","",IF(AND(L54>=$D$5,$G54=""),"〇","")) | N54: =IF(M54="","",0.0775*L54+0.2546) | O54: =IF(OR($D54<1,$D$3=""),"",HLOOKUP(入力シート!$K$11,計算シート!$AE$15:$CR$317,$B54+3)) | P54: =IF(O54="","",((L54^2)*PI()/40000)*O54*(((0.435719+0.515867/O54+2.481278/(O54^2))+(0.439004+0.916461/L54-0.073809/L54^2))/2)) | Q54: =IF(M54="〇",P54,"") | U54: =IF($T$11="","",HLOOKUP(T$11,計算シート!$AE$1235:$CR$1535,$B54+1)) | V54: =IF(U54="","",IF(AND(U54>=$M$5,$G54=""),"〇","")) | W54: =IF(V54="","",0.0775*U54+0.2546) | X54: =IF(OR($D54<1,$D$3=""),"",HLOOKUP(入力シート!$T$11,計算シート!$AE$15:$CR$317,$B54+3)) | Y54: =IF(X54="","",((U54^2)*PI()/40000)*X54*(((0.435719+0.515867/X54+2.481278/(X54^2))+(0.439004+0.916461/U54-0.073809/U54^2))/2)) | Z54: =IF(V54="〇",Y54,"")
B55: 44 | H55: =IF(D55="","",((D55^2)*PI()/40000)*F55*(((0.435719+0.515867/F55+2.481278/(F55^2))+(0.439004+0.916461/D55-0.073809/D55^2))/2)) | J55: =IF(OR(E55<1,$D$2=""),"",E55-F55) | L55: =IF($K$11="","",HLOOKUP(K$11,計算シート!$AE$1235:$CR$1535,$B55+1)) | M55: =IF(L55="","",IF(AND(L55>=$D$5,$G55=""),"〇","")) | N55: =IF(M55="","",0.0775*L55+0.2546) | O55: =IF(OR($D55<1,$D$3=""),"",HLOOKUP(入力シート!$K$11,計算シート!$AE$15:$CR$317,$B55+3)) | P55: =IF(O55="","",((L55^2)*PI()/40000)*O55*(((0.435719+0.515867/O55+2.481278/(O55^2))+(0.439004+0.916461/L55-0.073809/L55^2))/2)) | Q55: =IF(M55="〇",P55,"") | U55: =IF($T$11="","",HLOOKUP(T$11,計算シート!$AE$1235:$CR$1535,$B55+1)) | V55: =IF(U55="","",IF(AND(U55>=$M$5,$G55=""),"〇","")) | W55: =IF(V55="","",0.0775*U55+0.2546) | X55: =IF(OR($D55<1,$D$3=""),"",HLOOKUP(入力シート!$T$11,計算シート!$AE$15:$CR$317,$B55+3)) | Y55: =IF(X55="","",((U55^2)*PI()/40000)*X55*(((0.435719+0.515867/X55+2.481278/(X55^2))+(0.439004+0.916461/U55-0.073809/U55^2))/2)) | Z55: =IF(V55="〇",Y55,"")
B56: 45 | H56: =IF(D56="","",((D56^2)*PI()/40000)*F56*(((0.435719+0.515867/F56+2.481278/(F56^2))+(0.439004+0.916461/D56-0.073809/D56^2))/2)) | J56: =IF(OR(E56<1,$D$2=""),"",E56-F56) | L56: =IF($K$11="","",HLOOKUP(K$11,計算シート!$AE$1235:$CR$1535,$B56+1)) | M56: =IF(L56="","",IF(AND(L56>=$D$5,$G56=""),"〇","")) | N56: =IF(M56="","",0.0775*L56+0.2546) | O56: =IF(OR($D56<1,$D$3=""),"",HLOOKUP(入力シート!$K$11,計算シート!$AE$15:$CR$317,$B56+3)) | P56: =IF(O56="","",((L56^2)*PI()/40000)*O56*(((0.435719+0.515867/O56+2.481278/(O56^2))+(0.439004+0.916461/L56-0.073809/L56^2))/2)) | Q56: =IF(M56="〇",P56,"") | U56: =IF($T$11="","",HLOOKUP(T$11,計算シート!$AE$1235:$CR$1535,$B56+1)) | V56: =IF(U56="","",IF(AND(U56>=$M$5,$G56=""),"〇","")) | W56: =IF(V56="","",0.0775*U56+0.2546) | X56: =IF(OR($D56<1,$D$3=""),"",HLOOKUP(入力シート!$T$11,計算シート!$AE$15:$CR$317,$B56+3)) | Y56: =IF(X56="","",((U56^2)*PI()/40000)*X56*(((0.435719+0.515867/X56+2.481278/(X56^2))+(0.439004+0.916461/U56-0.073809/U56^2))/2)) | Z56: =IF(V56="〇",Y56,"")
...

Sheet 計算シート
B1: 林齢 | C1: =入力シート!D2 -> 28 | D1: 年 | AE1: DBH予測 | AF1: 採用 | AG1: 目的変数：ln(DBH)
B2: 面積 | C2: =入力シート!D3 -> 0.04 | D2: ha | AE2: 切片 | AF2: -0.74115
B3: 地位指数 算定用本数 | C3: =(C2*10000)/100 -> 4 | D3: 本 | AE3: lnCD | AF3: 0.10715
B4: 上層高平均 | C4: =(SUM(OFFSET(D18,0,0,C3)))/C3 -> 22.675 | D4: ｍ | AE4: lnAge | AF4: 0.52221
B5: 地位指数 | C5: =22.142*C4/(26.763*((1-0.9752*EXP(-0.0468*C1))^1.1664)) -> 26.781277 | AE5: lnSI | AF5: 0.65001
B6: ガイドカーブ | C6: =(26.763*((1-0.9752*EXP(-0.0468*C1))^1.1664)) -> 18.747047 | AE6: CiDplusH | AF6: -0.46653
AE7: R2: 0.7753
B8: ガイドカーブ＝(26.763*((1-0.9752*EXP(-0.0468*林齢))^1.1664))
AK14: # 推定値の補正用
G15: D2合計 | AD15: 林齢 | AE15: =C1 -> 28 | AF15: =AE15+1 -> 29 | AG15: =AF15+1 -> 30 | AH15: =AG15+1 -> 31 | AI15: =AH15+1 -> 32 | AJ15: =AI15+1 -> 33 | AK15: =AJ15+1 -> 34 | AL15: =AK15+1 -> 35 | AM15: =AL15+1 -> 36 | ... CR15: =CQ15+1 -> 93
G16: =SUM(G18:G317) -> 14016.84 | K16: 1 | L16: 2 | M16: 3 | N16: 4 | R16: 調査データを胸高直径の大きい順番に配列し、CI_Dを算出 | AD16: 経過年数 | AE16: 0 | AF16: =AE16+1 -> 1 | AG16: =AF16+1 -> 2 | AH16: =AG16+1 -> 3 | AI16: =AH16+1 -> 4 | AJ16: =AI16+1 -> 5 | AK16: =AJ16+1 -> 6 | AL16: =AK16+1 -> 7 | AM16: =AL16+1 -> 8 | ... CR16: =CQ16+1 -> 65
A17: =入力シート!B11 -> ID | B17: =入力シート!C11 -> 個体番号 | C17: =入力シート!D11 -> 胸高直径 cm | D17: =入力シート!E11 -> 樹高 m | E17: Hb | F17: CD | G17: D^2 | H17: 積算D2 | I17: CI H | J17: (CI H + CI D+CICD)/3 | K17: DBHの順位 | L17: CI D | M17: CID× 10 | N17: (CID× 10)^2 | O17: 作業列 | P17: CDの順位 | Q17: Ci_CD | R17: DBH rank ID | S17: DBH | T17: D^2 | U17: 積算D＾2 | V17: CI D | W17: CD Rank ID | X17: CDの大きい順 | Y17: CD Rankの DBH | Z17: D2 | AA17: 積算D2 | AB17: CiCD | AD17: H
A18: =入力シート!B12 -> 1 | B18: =入力シート!C12 -> 29 | C18: =入力シート!D12 -> 22.3 | D18: =入力シート!E12 -> 22.8 | E18: =入力シート!F12 -> 16.1 | F18: =D18-E18 -> 6.7 | G18: =IF(OR(C18="",C18<1),"",C18^2) -> 497.29 | H18: 0 | I18: =IF(OR(D18="",D18<1),"",H18/$G$16) -> 0 | J18: =IF(OR(I18="",L18=""),"",(I18+L18+Q18)/3) -> 0.049915673 | K18: =IF(OR(C18="",C18<1),"",RANK(C18,$C$18:$C$317)) -> 4 | L18: =IF(K18="","",VLOOKUP(K18,$R$18:$V$317,5)) -> 0.11426898 | M18: =IF(OR(K18="",K18<1),"",L18*10) -> 1.1426898 | N18: =IF(OR(K18="",K18<1),"",M18^2) -> 1.30574 | O18: =IF(F18<0.000001,"",F18-(A18/10000)) -> 6.6999 | P18: =RANK(F18,$F$18:$F$317) -> 23 | Q18: =VLOOKUP(P18,$W$17:$AB$317,6) -> 0.035478039 | R18: 1 | S18: =LARGE($C$18:$C$317,A18) -> 23.8 | T18: =S18^2 -> 566.44 | U18: 0 | V18: =IF(OR(S18="",S18<1),"",U18/$G$16) -> 0 | W18: 1 | X18: =IF(O18="","",LARGE($O$18:$O$317,A18)) -> 10.3996 | Y18: =INDEX($C$18:$C$317,MATCH(X18,$O$18:$O$317,0)) -> 21.2 | Z18: =IF(OR(Y18="",Y18<1),"",Y18^2) -> 449.44 | AA18: 0 | AB18: 0 | AE18: =IF(OR($D18="",$D18<1),"",変化量!$J15+変化量!L15) -> 22.8 | AF18: =IF(OR($D18="",$D18<1),"",AE18+(変化量!M15-変化量!L15)) -> 23.242174 | AG18: =IF(OR($D18="",$D18<1),"",AF18+(変化量!N15-変化量!M15)) -> 23.665235 | AH18: =IF(OR($D18="",$D18<1),"",AG18+(変化量!O15-変化量!N15)) -> 24.069944 | AI18: =IF(OR($D18="",$D18<1),"",AH18+(変化量!P15-変化量!O15)) -> 24.457043 | AJ18: =IF(OR($D18="",$D18<1),"",AI18+(変化量!Q15-変化量!P15)) -> 24.827246 | AK18: =IF(OR($D18="",$D18<1),"",AJ18+(変化量!R15-変化量!Q15)) -> 25.181247 | AL18: =IF(OR($D18="",$D18<1),"",AK18+(変化量!S15-変化量!R15)) -> 25.519716 | AM18: =IF(OR($D18="",$D18<1),"",AL18+(変化量!T15-変化量!S15)) -> 25.843298 | ... CR18: =IF(OR($D18="",$D18<1),"",CQ18+(変化量!BY15-変化量!BX15)) -> 32.235576
A19: =入力シート!B13 -> 2 | B19: =入力シート!C13 -> 19 | C19: =入力シート!D13 -> 23.8 | D19: =入力シート!E13 -> 22.7 | E19: =入力シート!F13 -> 14.5 | F19: =D19-E19 -> 8.2 | G19: =IF(OR(C19="",C19<1),"",C19^2) -> 566.44 | H19: =IF(OR(D19="",D19<1),"",G18) -> 497.29 | I19: =IF(OR(D19="",D19<1),"",H19/$G$16) -> 0.035478039 | J19: =IF(OR(I19="",L19=""),"",(I19+L19+Q19)/3) -> 0.019790005 | K19: =IF(OR(C19="",C19<1),"",RANK(C19,$C$18:$C$317)) -> 1 | L19: =IF(K19="","",VLOOKUP(K19,$R$18:$V$317,5)) -> 0 | M19: =IF(OR(K19="",K19<1),"",L19*10) -> 0 | N19: =IF(OR(K19="",K19<1),"",M19^2) -> 0 | O19: =IF(F19<0.000001,"",F19-(A19/10000)) -> 8.1998 | P19: =RANK(F19,$F$18:$F$317) -> 6 | Q19: =VLOOKUP(P19,$W$17:$AB$317,6) -> 0.023891976 | R19: 2 | S19: =LARGE($C$18:$C$317,A19) -> 23 | T19: =S19^2 -> 529 | U19: =IF(OR(S19="",S19<1),"",T18) -> 566.44 | V19: =IF(OR(S19="",S19<1),"",U19/$G$16) -> 0.040411391 | W19: 2 | X19: =IF(O19="","",LARGE($O$18:$O$317,A19)) -> 9.7994 | Y19: =INDEX($C$18:$C$317,MATCH(X19,$O$18:$O$317,0)) -> 23 | Z19: =IF(OR(Y19="",Y19<1),"",Y19^2) -> 529 | AA19: =IF(OR(X19="",X19<0.000001),"",Z18) -> 449.44 | AB19: =IF(OR(AA19="",AA19<0.00001),"",AA19/$G$16) -> 0.032064288 | AE19: =IF(OR($D19="",$D19<1),"",変化量!$J16+変化量!L16) -> 22.7 | AF19: =IF(OR($D19="",$D19<1),"",AE19+(変化量!M16-変化量!L16)) -> 23.138844 | AG19: =IF(OR($D19="",$D19<1),"",AF19+(変化量!N16-変化量!M16)) -> 23.558719 | AH19: =IF(OR($D19="",$D19<1),"",AG19+(変化量!O16-変化量!N16)) -> 23.960381 | AI19: =IF(OR($D19="",$D19<1),"",AH19+(変化量!P16-変化量!O16)) -> 24.344564 | AJ19: =IF(OR($D19="",$D19<1),"",AI19+(変化量!Q16-変化量!P16)) -> 24.711979 | AK19: =IF(OR($D19="",$D19<1),"",AJ19+(変化量!R16-変化量!Q16)) -> 25.063315 | AL19: =IF(OR($D19="",$D19<1),"",AK19+(変化量!S16-変化量!R16)) -> 25.399234 | AM19: =IF(OR($D19="",$D19<1),"",AL19+(変化量!T16-変化量!S16)) -> 25.72038 | ... CR19: =IF(OR($D19="",$D19<1),"",CQ19+(変化量!BY16-変化量!BX16)) -> 32.06452
A20: =入力シート!B14 -> 3 | B20: =入力シート!C14 -> 15 | C20: =入力シート!D14 -> 21.5 | D20: =入力シート!E14 -> 22.7 | E20: =入力シート!F14 -> 15 | F20: =D20-E20 -> 7.7 | G20: =IF(OR(C20="",C20<1),"",C20^2) -> 462.25 | H20: =IF(OR(D20="",D20<1),"",G19+H19) -> 1063.73 | I20: =IF(OR(D20="",D20<1),"",H20/$G$16) -> 0.07588943 | J20: =IF(OR(I20="",L20=""),"",(I20+L20+Q20)/3) -> 0.096329843 | K20: =IF(OR(C20="",C20<1),"",RANK(C20,$C$18:$C$317)) -> 6 | L20: =IF(K20="","",VLOOKUP(K20,$R$18:$V$317,5)) -> 0.18427691 | M20: =IF(OR(K20="",K20<1),"",L20*10) -> 1.8427691 | N20: =IF(OR(K20="",K20<1),"",M20^2) -> 3.3957981 | O20: =IF(F20<0.000001,"",F20-(A20/10000)) -> 7.6997 | P20: =RANK(F20,$F$18:$F$317) -> 14 | Q20: =VLOOKUP(P20,$W$17:$AB$317,6) -> 0.028823187 | R20: 3 | S20: =LARGE($C$18:$C$317,A20) -> 22.5 | T20: =S20^2 -> 506.25 | U20: =IF(OR(S20="",S20<1),"",T19+U19) -> 1095.44 | V20: =IF(OR(S20="",S20<1),"",U20/$G$16) -> 0.078151709 | W20: 3 | X20: =IF(O20="","",LARGE($O$18:$O$317,A20)) -> 8.5977 | Y20: =INDEX($C$18:$C$317,MATCH(X20,$O$18:$O$317,0)) -> 17.9 | Z20: =IF(OR(Y20="",Y20<1),"",Y20^2) -> 320.41 | AA20: =IF(OR(X20="",X20<0.000001),"",Z19) -> 529 | AB20: =IF(OR(AA20="",AA20<0.00001),"",AA20/$G$16) -> 0.037740318 | AE20: =IF(OR($D20="",$D20<1),"",変化量!$J17+変化量!L17) -> 22.7 | AF20: =IF(OR($D20="",$D20<1),"",AE20+(変化量!M17-変化量!L17)) -> 23.135051 | AG20: =IF(OR($D20="",$D20<1),"",AF20+(変化量!N17-変化量!M17)) -> 23.551297 | AH20: =IF(OR($D20="",$D20<1),"",AG20+(変化量!O17-変化量!N17)) -> 23.949487 | AI20: =IF(OR($D20="",$D20<1),"",AH20+(変化量!P17-変化量!O17)) -> 24.33035 | AJ20: =IF(OR($D20="",$D20<1),"",AI20+(変化量!Q17-変化量!P17)) -> 24.69459 | AK20: =IF(OR($D20="",$D20<1),"",AJ20+(変化量!R17-変化量!Q17)) -> 25.042889 | AL20: =IF(OR($D20="",$D20<1),"",AK20+(変化量!S17-変化量!R17)) -> 25.375905 | AM20: =IF(OR($D20="",$D20<1),"",AL20+(変化量!T17-変化量!S17)) -> 25.694275 | ... CR20: =IF(OR($D20="",$D20<1),"",CQ20+(変化量!BY17-変化量!BX17)) -> 31.983582
A21: =入力シート!B15 -> 4 | B21: =入力シート!C15 -> 16 | C21: =入力シート!D15 -> 21.2 | D21: =入力シート!E15 -> 22.5 | E21: =入力シート!F15 -> 12.1 | F21: =D21-E21 -> 10.4 | G21: =IF(OR(C21="",C21<1),"",C21^2) -> 449.44 | H21: =IF(OR(D21="",D21<1),"",G20+H20) -> 1525.98 | I21: =IF(OR(D21="",D21<1),"",H21/$G$16) -> 0.10886762 | J21: =IF(OR(I21="",L21=""),"",(I21+L21+Q21)/3) -> 0.1197003 | K21: =IF(OR(C21="",C21<1),"",RANK(C21,$C$18:$C$317)) -> 8 | L21: =IF(K21="","",VLOOKUP(K21,$R$18:$V$317,5)) -> 0.25023329 | M21: =IF(OR(K21="",K21<1),"",L21*10) -> 2.5023329 | N21: =IF(OR(K21="",K21<1),"",M21^2) -> 6.26167 | O21: =IF(F21<0.000001,"",F21-(A21/10000)) -> 10.3996 | P21: =RANK(F21,$F$18:$F$317) -> 1 | Q21: =VLOOKUP(P21,$W$17:$AB$317,6) -> 0 | R21: 4 | S21: =LARGE($C$18:$C$317,A21) -> 22.3 | T21: =S21^2 -> 497.29 | U21: =IF(OR(S21="",S21<1),"",T20+U20) -> 1601.69 | V21: =IF(OR(S21="",S21<1),"",U21/$G$16) -> 0.11426898 | W21: 4 | X21: =IF(O21="","",LARGE($O$18:$O$317,A21)) -> 8.4974 | Y21: =INDEX($C$18:$C$317,MATCH(X21,$O$18:$O$317,0)) -> 17.5 | Z21: =IF(OR(Y21="",Y21<1),"",Y21^2) -> 306.25 | AA21: =IF(OR(X21="",X21<0.000001),"",Z20) -> 320.41 | AB21: =IF(OR(AA21="",AA21<0.00001),"",AA21/$G$16) -> 0.022858933 | AE21: =IF(OR($D21="",$D21<1),"",変化量!$J18+変化量!L18) -> 22.5 | AF21: =IF(OR($D21="",$D21<1),"",AE21+(変化量!M18-変化量!L18)) -> 22.931956 | AG21: =IF(OR($D21="",$D21<1),"",AF21+(変化量!N18-変化量!M18)) -> 23.34524 | AH21: =IF(OR($D21="",$D21<1),"",AG21+(変化量!O18-変化量!N18)) -> 23.740598 | AI21: =IF(OR($D21="",$D21<1),"",AH21+(変化量!P18-変化量!O18)) -> 24.118751 | AJ21: =IF(OR($D21="",$D21<1),"",AI21+(変化量!Q18-変化量!P18)) -> 24.480399 | AK21: =IF(OR($D21="",$D21<1),"",AJ21+(変化量!R18-変化量!Q18)) -> 24.82622 | AL21: =IF(OR($D21="",$D21<1),"",AK21+(変化量!S18-変化量!R18)) -> 25.156867 | AM21: =IF(OR($D21="",$D21<1),"",AL21+(変化量!T18-変化量!S18)) -> 25.472972 | ... CR21: =IF(OR($D21="",$D21<1),"",CQ21+(変化量!BY18-変化量!BX18)) -> 31.717532
A22: =入力シート!B16 -> 5 | B22: =入力シート!C16 -> 10 | C22: =入力シート!D16 -> 20.4 | D22: =入力シート!E16 -> 22.1 | E22: =入力シート!F16 -> 15.9 | F22: =D22-E22 -> 6.2 | G22: =IF(OR(C22="",C22<1),"",C22^2) -> 416.16 | H22: =IF(OR(D22="",D22<1),"",G21+H21) -> 1975.42 | I22: =IF(OR(D22="",D22<1),"",H22/$G$16) -> 0.14093191 | J22: =IF(OR(I22="",L22=""),"",(I22+L22+Q22)/3) -> 0.18089289 | K22: =IF(OR(C22="",C22<1),"",RANK(C22,$C$18:$C$317)) -> 12 | L22: =IF(K22="","",VLOOKUP(K22,$R$18:$V$317,5)) -> 0.37461867 | M22: =IF(OR(K22="",K22<1),"",L22*10) -> 3.7461867 | N22: =IF(OR(K22="",K22<1),"",M22^2) -> 14.033915 | O22: =IF(F22<0.000001,"",F22-(A22/10000)) -> 6.1995 | P22: =RANK(F22,$F$18:$F$317) -> 29 | Q22: =VLOOKUP(P22,$W$17:$AB$317,6) -> 0.027128083 | R22: 5 | S22: =LARGE($C$18:$C$317,A22) -> 22 | T22: =S22^2 -> 484 | U22: =IF(OR(S22="",S22<1),"",T21+U21) -> 2098.98 | V22: =IF(OR(S22="",S22<1),"",U22/$G$16) -> 0.14974702 | W22: 5 | X22: =IF(O22="","",LARGE($O$18:$O$317,A22)) -> 8.2981 | Y22: =INDEX($C$18:$C$317,MATCH(X22,$O$18:$O$317,0)) -> 18.3 | Z22: =IF(OR(Y22="",Y22<1),"",Y22^2) -> 334.89 | AA22: =IF(OR(X22="",X22<0.000001),"",Z21) -> 306.25 | AB22: =IF(OR(AA22="",AA22<0.00001),"",AA22/$G$16) -> 0.021848719 | AE22: =IF(OR($D22="",$D22<1),"",変化量!$J19+変化量!L19) -> 22.1 | AF22: =IF(OR($D22="",$D22<1),"",AE22+(変化量!M19-変化量!L19)) -> 22.528947 | AG22: =IF(OR($D22="",$D22<1),"",AF22+(変化量!N19-変化量!M19)) -> 22.939352 | AH22: =IF(OR($D22="",$D22<1),"",AG22+(変化量!O19-変化量!N19)) -> 23.331954 | AI22: =IF(OR($D22="",$D22<1),"",AH22+(変化量!P19-変化量!O19)) -> 23.707473 | AJ22: =IF(OR($D22="",$D22<1),"",AI22+(変化量!Q19-変化量!P19)) -> 24.066601 | AK22: =IF(OR($D22="",$D22<1),"",AJ22+(変化量!R19-変化量!Q19)) -> 24.410013 | AL22: =IF(OR($D22="",$D22<1),"",AK22+(変化量!S19-変化量!R19)) -> 24.738356 | AM22: =IF(OR($D22="",$D22<1),"",AL22+(変化量!T19-変化量!S19)) -> 25.052259 | ... CR22: =IF(OR($D22="",$D22<1),"",CQ22+(変化量!BY19-変化量!BX19)) -> 31.253313
A23: =入力シート!B17 -> 6 | B23: =入力シート!C17 -> 21 | C23: =入力シート!D17 -> 23 | D23: =入力シート!E17 -> 21.9 | E23: =入力シート!F17 -> 12.1 | F23: =D23-E23 -> 9.8 | G23: =IF(OR(C23="",C23<1),"",C23^2) -> 529 | H23: =IF(OR(D23="",D23<1),"",G22+H22) -> 2391.58 | I23: =IF(OR(D23="",D23<1),"",H23/$G$16) -> 0.17062191 | J23: =IF(OR(I23="",L23=""),"",(I23+L23+Q23)/3) -> 0.081032529 | K23: =IF(OR(C23="",C23<1),"",RANK(C23,$C$18:$C$317)) -> 2 | L23: =IF(K23="","",VLOOKUP(K23,$R$18:$V$317,5)) -> 0.040411391 | M23: =IF(OR(K23="",K23<1),"",L23*10) -> 0.40411391 | N23: =IF(OR(K23="",K23<1),"",M23^2) -> 0.16330805 | O23: =IF(F23<0.000001,"",F23-(A23/10000)) -> 9.7994 | P23: =RANK(F23,$F$18:$F$317) -> 2 | Q23: =VLOOKUP(P23,$W$17:$AB$317,6) -> 0.032064288 | R23: 6 | S23: =LARGE($C$18:$C$317,A23) -> 21.5 | T23: =S23^2 -> 462.25 | U23: =IF(OR(S23="",S23<1),"",T22+U22) -> 2582.98 | V23: =IF(OR(S23="",S23<1),"",U23/$G$16) -> 0.18427691 | W23: 6 | X23: =IF(O23="","",LARGE($O$18:$O$317,A23)) -> 8.1998 | Y23: =INDEX($C$18:$C$317,MATCH(X23,$O$18:$O$317,0)) -> 23.8 | Z23: =IF(OR(Y23="",Y23<1),"",Y23^2) -> 566.44 | AA23: =IF(OR(X23="",X23<0.000001),"",Z22) -> 334.89 | AB23: =IF(OR(AA23="",AA23<0.00001),"",AA23/$G$16) -> 0.023891976 | AE23: =IF(OR($D23="",$D23<1),"",変化量!$J20+変化量!L20) -> 21.9 | AF23: =IF(OR($D23="",$D23<1),"",AE23+(変化量!M20-変化量!L20)) -> 22.32616 | AG23: =IF(OR($D23="",$D23<1),"",AF23+(変化量!N20-変化量!M20)) -> 22.733899 | AH23: =IF(OR($D23="",$D23<1),"",AG23+(変化量!O20-変化量!N20)) -> 23.123951 | AI23: =IF(OR($D23="",$D23<1),"",AH23+(変化量!P20-変化量!O20)) -> 23.49703 | AJ23: =IF(OR($D23="",$D23<1),"",AI23+(変化量!Q20-変化量!P20)) -> 23.853825 | AK23: =IF(OR($D23="",$D23<1),"",AJ23+(変化量!R20-変化量!Q20)) -> 24.195006 | AL23: =IF(OR($D23="",$D23<1),"",AK23+(変化量!S20-変化量!R20)) -> 24.521216 | AM23: =IF(OR($D23="",$D23<1),"",AL23+(変化量!T20-変化量!S20)) -> 24.833079 | ... CR23: =IF(OR($D23="",$D23<1),"",CQ23+(変化量!BY20-変化量!BX20)) -> 30.993848
A24: =入力シート!B18 -> 7 | B24: =入力シート!C18 -> 20 | C24: =入力シート!D18 -> 20.5 | D24: =入力シート!E18 -> 21.8 | E24: =入力シート!F18 -> 14.6 | F24: =D24-E24 -> 7.2 | G24: =IF(OR(C24="",C24<1),"",C24^2) -> 420.25 | H24: =IF(OR(D24="",D24<1),"",G23+H23) -> 2920.58 | I24: =IF(OR(D24="",D24<1),"",H24/$G$16) -> 0.20836223 | J24: =IF(OR(I24="",L24=""),"",(I24+L24+Q24)/3) -> 0.19203805 | K24: =IF(OR(C24="",C24<1),"",RANK(C24,$C$18:$C$317)) -> 11 | L24: =IF(K24="","",VLOOKUP(K24,$R$18:$V$317,5)) -> 0.34463688 | M24: =IF(OR(K24="",K24<1),"",L24*10) -> 3.4463688 | N24: =IF(OR(K24="",K24<1),"",M24^2) -> 11.877458 | O24: =IF(F24<0.000001,"",F24-(A24/10000)) -> 7.1993 | P24: =RANK(F24,$F$18:$F$317) -> 18 | Q24: =VLOOKUP(P24,$W$17:$AB$317,6) -> 0.023115053 | R24: 7 | S24: =LARGE($C$18:$C$317,A24) -> 21.5 | T24: =S24^2 -> 462.25 | U24: =IF(OR(S24="",S24<1),"",T23+U23) -> 3045.23 | V24: =IF(OR(S24="",S24<1),"",U24/$G$16) -> 0.2172551 | W24: 7 | X24: =IF(O24="","",LARGE($O$18:$O$317,A24)) -> 8.1975 | Y24: =INDEX($C$18:$C$317,MATCH(X24,$O$18:$O$317,0)) -> 18.9 | Z24: =IF(OR(Y24="",Y24<1),"",Y24^2) -> 357.21 | AA24: =IF(OR(X24="",X24<0.000001),"",Z23) -> 566.44 | AB24: =IF(OR(AA24="",AA24<0.00001),"",AA24/$G$16) -> 0.040411391 | AE24: =IF(OR($D24="",$D24<1),"",変化量!$J21+変化量!L21) -> 21.8 | AF24: =IF(OR($D24="",$D24<1),"",AE24+(変化量!M21-変化量!L21)) -> 22.222618 | AG24: =IF(OR($D24="",$D24<1),"",AF24+(変化量!N21-変化量!M21)) -> 22.626967 | AH24: =IF(OR($D24="",$D24<1),"",AG24+(変化量!O21-変化量!N21)) -> 23.013777 | AI24: =IF(OR($D24="",$D24<1),"",AH24+(変化量!P21-変化量!O21)) -> 23.383755 | AJ24: =IF(OR($D24="",$D24<1),"",AI24+(変化量!Q21-変化量!P21)) -> 23.737585 | AK24: =IF(OR($D24="",$D24<1),"",AJ24+(変化量!R21-変化量!Q21)) -> 24.07593 | AL24: =IF(OR($D24="",$D24<1),"",AK24+(変化量!S21-変化量!R21)) -> 24.399429 | AM24: =IF(OR($D24="",$D24<1),"",AL24+(変化量!T21-変化量!S21)) -> 24.7087 | ... CR24: =IF(OR($D24="",$D24<1),"",CQ24+(変化量!BY21-変化量!BX21)) -> 30.818261
A25: =入力シート!B19 -> 8 | B25: =入力シート!C19 -> 4 | C25: =入力シート!D19 -> 21.2 | D25: =入力シート!E19 -> 21.6 | E25: =入力シート!F19 -> 13.5 | F25: =D25-E25 -> 8.1 | G25: =IF(OR(C25="",C25<1),"",C25^2) -> 449.44 | H25: =IF(OR(D25="",D25<1),"",G24+H24) -> 3340.83 | I25: =IF(OR(D25="",D25<1),"",H25/$G$16) -> 0.23834402 | J25: =IF(OR(I25="",L25=""),"",(I25+L25+Q25)/3) -> 0.17135389 | K25: =IF(OR(C25="",C25<1),"",RANK(C25,$C$18:$C$317)) -> 8 | L25: =IF(K25="","",VLOOKUP(K25,$R$18:$V$317,5)) -> 0.25023329 | M25: =IF(OR(K25="",K25<1),"",L25*10) -> 2.5023329 | N25: =IF(OR(K25="",K25<1),"",M25^2) -> 6.26167 | O25: =IF(F25<0.000001,"",F25-(A25/10000)) -> 8.0992 | P25: =RANK(F25,$F$18:$F$317) -> 8 | Q25: =VLOOKUP(P25,$W$17:$AB$317,6) -> 0.025484346 | R25: 8 | S25: =LARGE($C$18:$C$317,A25) -> 21.2 | T25: =S25^2 -> 449.44 | U25: =IF(OR(S25="",S25<1),"",T24+U24) -> 3507.48 | V25: =IF(OR(S25="",S25<1),"",U25/$G$16) -> 0.25023329 | W25: 8 | X25: =IF(O25="","",LARGE($O$18:$O$317,A25)) -> 8.0992 | Y25: =INDEX($C$18:$C$317,MATCH(X25,$O$18:$O$317,0)) -> 21.2 | Z25: =IF(OR(Y25="",Y25<1),"",Y25^2) -> 449.44 | AA25: =IF(OR(X25="",X25<0.000001),"",Z24) -> 357.21 | AB25: =IF(OR(AA25="",AA25<0.00001),"",AA25/$G$16) -> 0.025484346 | AE25: =IF(OR($D25="",$D25<1),"",変化量!$J22+変化量!L22) -> 21.6 | AF25: =IF(OR($D25="",$D25<1),"",AE25+(変化量!M22-変化量!L22)) -> 22.019804 | AG25: =IF(OR($D25="",$D25<1),"",AF25+(変化量!N22-変化量!M22)) -> 22.421461 | AH25: =IF(OR($D25="",$D25<1),"",AG25+(変化量!O22-変化量!N22)) -> 22.805695 | AI25: =IF(OR($D25="",$D25<1),"",AH25+(変化量!P22-変化量!O22)) -> 23.17321 | AJ25: =IF(OR($D25="",$D25<1),"",AI25+(変化量!Q22-変化量!P22)) -> 23.524684 | AK25: =IF(OR($D25="",$D25<1),"",AJ25+(変化量!R22-変化量!Q22)) -> 23.860775 | AL25: =IF(OR($D25="",$D25<1),"",AK25+(変化量!S22-変化量!R22)) -> 24.18212 | AM25: =IF(OR($D25="",$D25<1),"",AL25+(変化量!T22-変化量!S22)) -> 24.489332 | ... CR25: =IF(OR($D25="",$D25<1),"",CQ25+(変化量!BY22-変化量!BX22)) -> 30.558212
A26: =入力シート!B20 -> 9 | B26: =入力シート!C20 -> 2 | C26: =入力シート!D20 -> 20.6 | D26: =入力シート!E20 -> 21.5 | E26: =入力シート!F20 -> 14.9 | F26: =D26-E26 -> 6.6 | G26: =IF(OR(C26="",C26<1),"",C26^2) -> 424.36 | H26: =IF(OR(D26="",D26<1),"",G25+H25) -> 3790.27 | I26: =IF(OR(D26="",D26<1),"",H26/$G$16) -> 0.27040831 | J26: =IF(OR(I26="",L26=""),"",(I26+L26+Q26)/3) -> 0.20501506 | K26: =IF(OR(C26="",C26<1),"",RANK(C26,$C$18:$C$317)) -> 10 | L26: =IF(K26="","",VLOOKUP(K26,$R$18:$V$317,5)) -> 0.31436187 | M26: =IF(OR(K26="",K26<1),"",L26*10) -> 3.1436187 | N26: =IF(OR(K26="",K26<1),"",M26^2) -> 9.8823384 | O26: =IF(F26<0.000001,"",F26-(A26/10000)) -> 6.5991 | P26: =RANK(F26,$F$18:$F$317) -> 25 | Q26: =VLOOKUP(P26,$W$17:$AB$317,6) -> 0.030275012 | R26: 9 | S26: =LARGE($C$18:$C$317,A26) -> 21.2 | T26: =S26^2 -> 449.44 | U26: =IF(OR(S26="",S26<1),"",T25+U25) -> 3956.92 | V26: =IF(OR(S26="",S26<1),"",U26/$G$16) -> 0.28229758 | W26: 9 | X26: =IF(O26="","",LARGE($O$18:$O$317,A26)) -> 8.0989 | Y26: =INDEX($C$18:$C$317,MATCH(X26,$O$18:$O$317,0)) -> 21.5 | Z26: =IF(OR(Y26="",Y26<1),"",Y26^2) -> 462.25 | AA26: =IF(OR(X26="",X26<0.000001),"",Z25) -> 449.44 | AB26: =IF(OR(AA26="",AA26<0.00001),"",AA26/$G$16) -> 0.032064288 | AE26: =IF(OR($D26="",$D26<1),"",変化量!$J23+変化量!L23) -> 21.5 | AF26: =IF(OR($D26="",$D26<1),"",AE26+(変化量!M23-変化量!L23)) -> 21.916794 | AG26: =IF(OR($D26="",$D26<1),"",AF26+(変化量!N23-変化量!M23)) -> 22.315572 | AH26: =IF(OR($D26="",$D26<1),"",AG26+(変化量!O23-変化量!N23)) -> 22.697052 | AI26: =IF(OR($D26="",$D26<1),"",AH26+(変化量!P23-変化量!O23)) -> 23.061932 | AJ26: =IF(OR($D26="",$D26<1),"",AI26+(変化量!Q23-変化量!P23)) -> 23.410886 | AK26: =IF(OR($D26="",$D26<1),"",AJ26+(変化量!R23-変化量!Q23)) -> 23.744568 | AL26: =IF(OR($D26="",$D26<1),"",AK26+(変化量!S23-変化量!R23)) -> 24.063609 | AM26: =IF(OR($D26="",$D26<1),"",AL26+(変化量!T23-変化量!S23)) -> 24.368619 | ... CR26: =IF(OR($D26="",$D26<1),"",CQ26+(変化量!BY23-変化量!BX23)) -> 30.393992
A27: =入力シート!B21 -> 10 | B27: =入力シート!C21 -> 27 | C27: =入力シート!D21 -> 22.5 | D27: =入力シート!E21 -> 21.4 | E27: =入力シート!F21 -> 13.5 | F27: =D27-E27 -> 7.9 | G27: =IF(OR(C27="",C27<1),"",C27^2) -> 506.25 | H27: =IF(OR(D27="",D27<1),"",G26+H26) -> 4214.63 | I27: =IF(OR(D27="",D27<1),"",H27/$G$16) -> 0.30068332 | J27: =IF(OR(I27="",L27=""),"",(I27+L27+Q27)/3) -> 0.13477313 | K27: =IF(OR(C27="",C27<1),"",RANK(C27,$C$18:$C$317)) -> 3 | L27: =IF(K27="","",VLOOKUP(K27,$R$18:$V$317,5)) -> 0.078151709 | M27: =IF(OR(K27="",K27<1),"",L27*10) -> 0.78151709 | N27: =IF(OR(K27="",K27<1),"",M27^2) -> 0.61076896 | O27: =IF(F27<0.000001,"",F27-(A27/10000)) -> 7.899 | P27: =RANK(F27,$F$18:$F$317) -> 11 | Q27: =VLOOKUP(P27,$W$17:$AB$317,6) -> 0.025484346 | R27: 10 | S27: =LARGE($C$18:$C$317,A27) -> 20.6 | T27: =S27^2 -> 424.36 | U27: =IF(OR(S27="",S27<1),"",T26+U26) -> 4406.36 | V27: =IF(OR(S27="",S27<1),"",U27/$G$16) -> 0.31436187 | W27: 10 | X27: =IF(O27="","",LARGE($O$18:$O$317,A27)) -> 8.0971 | Y27: =INDEX($C$18:$C$317,MATCH(X27,$O$18:$O$317,0)) -> 18.9 | Z27: =IF(OR(Y27="",Y27<1),"",Y27^2) -> 357.21 | AA27: =IF(OR(X27="",X27<0.000001),"",Z26) -> 462.25 | AB27: =IF(OR(AA27="",AA27<0.00001),"",AA27/$G$16) -> 0.032978189 | AE27: =IF(OR($D27="",$D27<1),"",変化量!$J24+変化量!L24) -> 21.4 | AF27: =IF(OR($D27="",$D27<1),"",AE27+(変化量!M24-変化量!L24)) -> 21.813953 | AG27: =IF(OR($D27="",$D27<1),"",AF27+(変化量!N24-変化量!M24)) -> 22.210012 | AH27: =IF(OR($D27="",$D27<1),"",AG27+(変化量!O24-変化量!N24)) -> 22.588891 | AI27: =IF(OR($D27="",$D27<1),"",AH27+(変化量!P24-変化量!O24)) -> 22.951283 | AJ27: =IF(OR($D27="",$D27<1),"",AI27+(変化量!Q24-変化量!P24)) -> 23.297858 | AK27: =IF(OR($D27="",$D27<1),"",AJ27+(変化量!R24-変化量!Q24)) -> 23.629266 | AL27: =IF(OR($D27="",$D27<1),"",AK27+(変化量!S24-変化量!R24)) -> 23.946132 | AM27: =IF(OR($D27="",$D27<1),"",AL27+(変化量!T24-変化量!S24)) -> 24.249062 | ... CR27: =IF(OR($D27="",$D27<1),"",CQ27+(変化量!BY24-変化量!BX24)) -> 30.233357
A28: =入力シート!B22 -> 11 | B28: =入力シート!C22 -> 31 | C28: =入力シート!D22 -> 21.5 | D28: =入力シート!E22 -> 21.2 | E28: =入力シート!F22 -> 13.1 | F28: =D28-E28 -> 8.1 | G28: =IF(OR(C28="",C28<1),"",C28^2) -> 462.25 | H28: =IF(OR(D28="",D28<1),"",G27+H27) -> 4720.88 | I28: =IF(OR(D28="",D28<1),"",H28/$G$16) -> 0.33680059 | J28: =IF(OR(I28="",L28=""),"",(I28+L28+Q28)/3) -> 0.18468523 | K28: =IF(OR(C28="",C28<1),"",RANK(C28,$C$18:$C$317)) -> 6 | L28: =IF(K28="","",VLOOKUP(K28,$R$18:$V$317,5)) -> 0.18427691 | M28: =IF(OR(K28="",K28<1),"",L28*10) -> 1.8427691 | N28: =IF(OR(K28="",K28<1),"",M28^2) -> 3.3957981 | O28: =IF(F28<0.000001,"",F28-(A28/10000)) -> 8.0989 | P28: =RANK(F28,$F$18:$F$317) -> 10 | Q28: =VLOOKUP(P28,$W$17:$AB$317,6) -> 0.032978189 | R28: 11 | S28: =LARGE($C$18:$C$317,A28) -> 20.5 | T28: =S28^2 -> 420.25 | U28: =IF(OR(S28="",S28<1),"",T27+U27) -> 4830.72 | V28: =IF(OR(S28="",S28<1),"",U28/$G$16) -> 0.34463688 | W28: 11 | X28: =IF(O28="","",LARGE($O$18:$O$317,A28)) -> 7.899 | Y28: =INDEX($C$18:$C$317,MATCH(X28,$O$18:$O$317,0)) -> 22.5 | Z28: =IF(OR(Y28="",Y28<1),"",Y28^2) -> 506.25 | AA28: =IF(OR(X28="",X28<0.000001),"",Z27) -> 357.21 | AB28: =IF(OR(AA28="",AA28<0.00001),"",AA28/$G$16) -> 0.025484346 | AE28: =IF(OR($D28="",$D28<1),"",変化量!$J25+変化量!L25) -> 21.2 | AF28: =IF(OR($D28="",$D28<1),"",AE28+(変化量!M25-変化量!L25)) -> 21.610563 | AG28: =IF(OR($D28="",$D28<1),"",AF28+(変化量!N25-変化量!M25)) -> 22.003379 | AH28: =IF(OR($D28="",$D28<1),"",AG28+(変化量!O25-変化量!N25)) -> 22.379155 | AI28: =IF(OR($D28="",$D28<1),"",AH28+(変化量!P25-変化量!O25)) -> 22.738579 | AJ28: =IF(OR($D28="",$D28<1),"",AI28+(変化量!Q25-変化量!P25)) -> 23.082317 | AK28: =IF(OR($D28="",$D28<1),"",AJ28+(変化量!R25-変化量!Q25)) -> 23.41101 | AL28: =IF(OR($D28="",$D28<1),"",AK28+(変化量!S25-変化量!R25)) -> 23.725281 | AM28: =IF(OR($D28="",$D28<1),"",AL28+(変化量!T25-変化量!S25)) -> 24.025731 | ... CR28: =IF(OR($D28="",$D28<1),"",CQ28+(変化量!BY25-変化量!BX25)) -> 29.961019
